{"text_format":"1","workbook":"xlsx","n_sheets":5,"sheets":["Heroes","Henchmen","Army","Weapons & Equip","Changelog"],"not_rendered":{"charts":0,"images":8,"macros":1,"external_links":0,"defined_names":49,"comments":1,"pivot_tables":0},"unopened":[],"bounds":{"document_bytes":16777216,"sheet_cells":100000,"rows_first":2000,"rows_last":500,"rows_between":2000,"halvings":0,"cell_chars":16384,"cell_head_chars":4096},"cells_cut":0,"cells_raw":0,"read":"whole","date_system":"1900"}

{"sheet":"Heroes","index":0,"n_rows":1213,"n_cols":90,"rows_kept":1213,"cut":false,"hidden":false,"merged":[[4,25,4,27],[4,28,4,29],[28,39,29,41],[41,22,42,38],[41,39,42,41],[11,58,12,59],[11,55,12,57],[18,22,18,24],[18,25,18,27],[18,32,19,59],[28,22,29,38],[22,44,23,51],[30,25,30,27],[32,25,32,27],[15,50,16,59],[19,25,19,27],[19,28,19,29],[19,30,19,31],[17,32,17,59],[37,55,38,57],[37,43,38,54],[20,58,21,59],[33,58,34,59],[5,32,6,59],[0,37,0,40],[58,30,58,31],[58,28,58,29],[11,43,12,54],[4,30,4,31],[2,39,3,41],[2,22,3,38],[2,50,3,59],[58,22,58,24],[58,25,58,27],[57,22,57,24],[57,25,57,27],[24,42,25,42],[37,35,38,41],[4,32,4,59],[30,32,30,59],[43,32,43,59],[37,42,38,42],[4,22,4,24],[32,28,32,29],[45,22,45,24],[45,25,45,27],[43,22,43,24],[43,28,43,29],[43,30,43,31],[15,22,16,38],[15,39,16,41],[24,35,25,41],[45,30,45,31],[78,65,79,66],[78,67,79,68],[78,69,79,70],[63,2,64,4],[76,2,77,4],[74,32,75,35],[74,36,75,43],[74,44,75,51],[74,52,75,59],[76,58,77,59],[71,2,71,3],[71,4,71,6],[71,7,71,9],[71,10,71,12],[71,13,71,15],[69,25,69,27],[69,28,69,29],[69,22,69,24],[71,16,71,18],[70,22,70,24],[67,39,68,41],[63,58,64,59],[67,42,68,49],[63,55,64,57],[70,25,70,27],[67,22,68,38],[24,2,25,4],[19,22,19,24],[28,50,29,59],[28,2,29,21],[28,42,29,49],[37,58,38,59],[24,58,25,59],[19,4,19,6],[19,7,19,9],[19,10,19,12],[19,13,19,15],[19,19,19,21],[22,52,23,59],[35,32,36,35],[35,36,36,43],[35,44,36,51],[35,52,36,59],[10,85,10,90],[24,65,25,66],[24,67,25,68],[24,69,25,70],[23,65,23,82],[26,65,27,66],[26,67,27,68],[26,69,27,70],[11,85,12,86],[11,87,12,88],[11,89,12,90],[13,65,14,66],[13,67,14,68],[13,69,14,70],[11,65,12,66],[11,67,12,68],[11,71,12,72],[11,73,12,74],[11,75,12,76],[11,77,12,78],[11,81,12,82],[11,79,12,80],[10,65,10,82],[11,69,12,70],[5,25,5,27],[5,22,5,24],[6,25,6,27],[6,22,6,24],[6,13,6,15],[6,10,6,12],[9,36,10,43],[9,32,10,35],[7,32,8,57],[7,58,8,59],[9,44,10,51],[9,52,10,59],[45,28,45,29],[43,13,43,15],[44,2,44,3],[44,4,44,6],[44,7,44,9],[44,10,44,12],[44,13,44,15],[44,16,44,18],[44,19,44,21],[44,22,44,24],[44,25,44,27],[32,2,32,3],[32,4,32,6],[32,7,32,9],[32,10,32,12],[31,7,31,9],[32,30,32,31],[31,16,31,18],[31,19,31,21],[31,22,31,24],[31,25,31,27],[70,2,70,3],[70,4,70,6],[70,7,70,9],[70,10,70,12],[70,13,70,15],[70,16,70,18],[70,19,70,21],[58,19,58,21],[58,2,58,3],[63,5,63,10],[69,19,69,21],[63,11,64,13],[58,7,58,9],[58,10,58,12],[58,13,58,15],[58,16,58,18],[67,2,68,21],[51,8,51,10],[45,7,45,9],[37,2,38,4],[43,25,43,27],[43,2,43,3],[43,4,43,6],[43,7,43,9],[43,16,43,18],[45,10,45,12],[45,13,45,15],[43,19,43,21],[50,5,50,10],[50,11,51,13],[50,14,51,20],[50,21,51,27],[41,2,42,21],[45,2,45,3],[45,4,45,6],[45,16,45,18],[45,19,45,21],[50,2,51,4],[43,10,43,12],[31,2,31,3],[30,10,30,12],[30,13,30,15],[30,16,30,18],[30,19,30,21],[30,22,30,24],[31,4,31,6],[15,42,16,49],[32,19,32,21],[32,22,32,24],[24,43,25,54],[20,32,21,57],[27,0,38,1],[30,2,30,3],[30,4,30,6],[30,7,30,9],[17,30,17,31],[17,13,17,15],[17,16,17,18],[17,19,17,21],[17,22,17,24],[17,25,17,27],[17,28,17,29],[30,30,30,31],[38,5,38,7],[38,8,38,10],[24,5,24,10],[24,11,25,13],[24,14,25,20],[24,21,25,27],[24,28,25,34],[25,5,25,7],[25,8,25,10],[33,32,34,57],[31,10,31,12],[31,13,31,15],[1,0,12,1],[4,2,4,3],[4,4,4,6],[4,7,4,9],[4,10,4,12],[32,13,32,15],[32,16,32,18],[4,13,4,15],[2,42,3,49],[5,7,5,9],[4,16,4,18],[2,2,3,21],[14,0,25,1],[17,2,17,3],[17,4,17,6],[17,7,17,9],[17,10,17,12],[19,16,19,18],[5,13,5,15],[5,10,5,12],[5,19,5,21],[5,16,5,18],[19,2,19,3],[5,4,5,6],[5,2,5,3],[6,19,6,21],[6,16,6,18],[6,7,6,9],[6,4,6,6],[6,2,6,3],[4,19,4,21],[15,2,16,21],[18,2,18,3],[18,4,18,6],[18,7,18,9],[18,10,18,12],[18,13,18,15],[18,16,18,18],[18,19,18,21],[11,11,12,13],[66,0,77,1],[69,2,69,3],[69,4,69,6],[56,28,56,29],[40,0,51,1],[57,16,57,18],[57,19,57,21],[0,27,0,36],[0,6,0,8],[0,16,0,18],[11,2,12,4],[6,28,6,29],[6,30,6,31],[51,5,51,7],[57,2,57,3],[57,4,57,6],[57,7,57,9],[57,10,57,12],[53,0,64,1],[56,2,56,3],[56,4,56,6],[56,7,56,9],[54,2,55,21],[30,28,30,29],[63,65,64,66],[63,67,64,68],[63,69,64,70],[76,35,77,41],[76,42,77,42],[67,50,68,59],[50,43,51,54],[36,65,36,82],[36,85,36,90],[37,71,38,72],[37,73,38,74],[37,75,38,76],[37,77,38,78],[37,79,38,80],[37,81,38,82],[37,85,38,86],[37,87,38,88],[37,89,38,90],[37,65,38,66],[39,65,40,66],[39,67,40,68],[39,69,40,70],[49,85,49,90],[50,73,51,74],[62,85,62,90],[50,55,51,57],[59,32,60,57],[59,58,60,59],[50,67,51,68],[50,69,51,70],[52,65,53,66],[52,67,53,68],[52,69,53,70],[50,75,51,76],[50,77,51,78],[50,79,51,80],[50,81,51,82],[50,85,51,86],[50,87,51,88],[54,22,55,38],[54,39,55,41],[54,50,55,59],[63,43,64,54],[76,43,77,54],[50,42,51,42],[57,32,58,59],[70,32,71,59],[50,28,51,34],[50,35,51,41],[71,28,71,29],[71,30,71,31],[61,32,62,35],[61,36,62,43],[61,44,62,51],[61,52,62,59],[50,58,51,59],[76,55,77,57],[54,42,55,49],[72,32,73,57],[72,58,73,59],[56,32,56,59],[69,32,69,59],[76,65,77,66],[62,65,62,82],[76,69,77,70],[50,89,51,90],[23,85,23,90],[49,65,49,82],[50,71,51,72],[24,71,25,72],[24,73,25,74],[24,75,25,76],[24,77,25,78],[24,79,25,80],[24,81,25,82],[24,85,25,86],[24,87,25,88],[24,89,25,90],[37,67,38,68],[37,69,38,70],[63,89,64,90],[65,65,66,66],[65,67,66,68],[65,69,66,70],[75,65,75,82],[50,65,51,66],[63,71,64,72],[63,73,64,74],[63,75,64,76],[63,77,64,78],[63,79,64,80],[63,81,64,82],[63,85,64,86],[63,87,64,88],[76,67,77,68],[76,71,77,72],[76,73,77,74],[76,75,77,76],[76,77,77,78],[76,79,77,80],[76,81,77,82],[76,85,77,86],[76,87,77,88],[75,85,75,90],[76,89,77,90],[76,5,76,10],[76,11,77,13],[76,14,77,20],[76,21,77,27],[76,28,77,34],[77,5,77,7],[77,8,77,10],[56,30,56,31],[56,10,56,12],[56,13,56,15],[56,16,56,18],[56,19,56,21],[56,22,56,24],[56,25,56,27],[58,4,58,6],[69,30,69,31],[69,7,69,9],[69,10,69,12],[69,13,69,15],[69,16,69,18],[57,13,57,15],[71,19,71,21],[71,22,71,24],[71,25,71,27],[0,41,0,59],[0,0,0,5],[0,9,0,15],[63,14,64,20],[63,21,64,27],[63,28,64,34],[63,35,64,41],[63,42,64,42],[64,5,64,7],[64,8,64,10],[12,5,12,7],[12,8,12,10],[11,5,11,10],[11,14,12,20],[11,21,12,27],[11,28,12,34],[11,35,12,41],[11,42,12,42],[37,5,37,10],[37,11,38,13],[37,14,38,20],[37,21,38,27],[37,28,38,34],[24,55,25,57],[48,32,49,35],[48,36,49,43],[48,44,49,51],[48,52,49,59],[46,32,47,57],[41,42,42,49],[46,58,47,59],[22,32,23,35],[22,36,23,43],[31,32,32,59],[41,50,42,59],[44,32,45,59]]}
["Heroes",null,null,null,null,null,{"$f":"SUM(BG12,BG25,BG38,BG51,BG64,BG77)","v":0},null,null,"Henchmen",null,null,null,null,null,null,{"$f":"SUM(Henchmen!AJ11,Henchmen!AJ21,Henchmen!AJ31,Henchmen!AJ41,Henchmen!AJ51,Henchmen!AJ61,Henchmen!BX61,Henchmen!BX51,Henchmen!BX41,Henchmen!BX31,Henchmen!BX21,Henchmen!BX11)","v":0},null,null,null,null,null,null,null,null,null,null,"Warband Cost",null,null,null,null,null,null,null,null,null,{"$f":"SUM(G1,Q1)","v":0}]
["Hero",null,"Name",null,null,null,null,null,null,null,null,null,null,null,null,null,null,null,null,null,null,null,"Type",null,null,null,null,null,null,null,null,null,null,null,null,null,null,null,null,"Ava",null,null,"Race",null,null,null,null,null,null,null,"Skills"]
[null,null,null,null,null,null,null,null,null,null,null,null,null,null,null,null,null,null,null,null,null,null,"",null,null,null,null,null,null,null,null,null,null,null,null,null,null,null,null,{"$f":"IFERROR(VLOOKUP(W3,Army!$B$2:$Q$19,4,FALSE),\"\")","v":""},null,null,{"$f":"IFERROR(VLOOKUP(W3,Army!$B$2:$Q$19,2,FALSE),\"\")","v":""},null,null,null,null,null,null,null,{"$f":"IFERROR(VLOOKUP(W3,Army!$B$2:$Q$19,16,FALSE),\"\")","v":""}]
[]
[null,null,"M",null,"WS",null,null,"BS",null,null,"S",null,null,"T",null,null,"W",null,null,"I",null,null,"A",null,null,"Ld",null,null,"AS",null,"WdS",null,"Special Rules, Skills, Injuries & Spells"]
[null,null,{"$f":"IFERROR(VLOOKUP(W3,Army!$B$2:$Q$17,5,FALSE),\"\")","v":""},null,{"$f":"IFERROR(VLOOKUP(W3,Army!$B$2:$Q$17,6,FALSE),\"\")","v":""},null,null,{"$f":"IFERROR(VLOOKUP(W3,Army!$B$2:$Q$17,7,FALSE),\"\")","v":""},null,null,{"$f":"IFERROR(VLOOKUP(W3,Army!$B$2:$Q$17,8,FALSE),\"\")","v":""},null,null,{"$f":"IFERROR(VLOOKUP(W3,Army!$B$2:$Q$17,9,FALSE),\"\")","v":""},null,null,{"$f":"IFERROR(VLOOKUP(W3,Army!$B$2:$Q$17,10,FALSE),\"\")","v":""},null,null,{"$f":"IFERROR(VLOOKUP(W3,Army!$B$2:$Q$17,11,FALSE),\"\")","v":""},null,null,{"$f":"IFERROR(VLOOKUP(W3,Army!$B$2:$Q$17,12,FALSE),\"\")","v":""},null,null,{"$f":"IFERROR(VLOOKUP(W3,Army!$B$2:$Q$17,13,FALSE),\"\")","v":""},null,null,{"$f":"IF(BK6>0,7+CH12+CJ12+CL12,\"\")","v":""},{"$f":"IF(BK6>0,\"+\",\"\")","v":""},{"$f":"IF(F13=\"Shield\",\"6\",\"\")","v":""},{"$f":"IF(BJ7>0,\"+\",\"\")","v":""},{"$f":"IFERROR(VLOOKUP(W3,Army!$B$2:$Q$19,15,FALSE),\"\")","v":""},null,null,null,null,null,null,null,null,null,null,null,null,null,null,null,null,null,null,null,null,null,null,null,null,null,null,null,null,{"$f":"LEN(F12)","v":0},{"$f":"SUM(BJ6,BJ7,BK7)","v":0}]
[null,null,null,null,null,null,null,null,null,null,null,null,null,null,null,null,null,null,null,{"$f":"IF(OR(F12=\"Heavy Armour\",F12=\"Plate Armour\",F12=\"Gromril Armour\"),\"-1\",\"\")","v":""},null,null,null,null,null,null,null,null,null,null,null,null,null,null,null,null,null,null,null,null,null,null,null,null,null,null,null,null,null,null,null,null,null,null,null,null,null,null,null,null,null,{"$f":"LEN(F13)","v":0},{"$f":"LEN(I13)","v":0}]
[null,null,"XP",null,null,null,5,null,null,null,null,10,null,null,null,null,15,null,null,null,null,20,null,null,null,null,25,null,null,null,null,30]
[null,null,null,"+",null,"+",null,"+",null,"+",null,null,"+",null,null,"+",null,null,"+",null,null,"+",null,null,null,"+",null,null,null,"+",null,null,null,null,null,null,null,null,null,null,null,null,null,null,null,null,null,null,null,null,null,null,null,null,null,null,null,null,null,null,null,{"$f":"IFERROR(VLOOKUP($W3,Army!$B$2:$Q$17,14,FALSE),\"\")","v":""}]
[null,null,null,"+",null,null,null,"+",null,null,null,null,"+",null,null,null,null,"+",null,null,null,null,"+",null,null,null,null,null,"+",null,null,null,"Equipment"]
[null,null,null,null,"+",null,null,null,null,null,"+",null,null,null,null,null,null,"+",null,null,null,null,null,null,"+",null,null,null,null,null,null,"+",null,null,null,null,null,null,null,null,null,null,null,null,null,null,null,null,null,null,null,null,null,null,null,null,null,null,null,null,null,null,null,null,null,"Points",null,null,null,null,null,null,null,null,null,null,null,null,null,null,null,null,null,null,null,"Armour"]
[null,null,"Armour",null,null,null,null,null,null,null,null,"Weapon",null,null,null,null,null,null,null,null,null,null,null,null,null,null,null,null,null,null,null,null,null,null,null,null,null,null,null,null,null,null,null,null,null,null,null,null,null,null,null,null,null,null,null,"Points",null,null,{"$f":"SUM(BN12:CE15)+BG8","v":0},null,null,null,null,null,null,{"$f":"IFERROR(VLOOKUP(F12,'Weapons & Equip'!$A$1:$C$26,2,FALSE),\"\")","v":""},null,{"$f":"IFERROR(VLOOKUP(F13,'Weapons & Equip'!$E$27:$G$28,2,FALSE),\"\")","v":""},null,{"$f":"IFERROR(VLOOKUP(I13,'Weapons & Equip'!$E$30:$G$31,2,FALSE),\"\")","v":""},null,{"$f":"IFERROR(VLOOKUP(O12,'Weapons & Equip'!$E$1:$G$26,2,FALSE),\"\")","v":""},null,{"$f":"IFERROR(VLOOKUP(V12,'Weapons & Equip'!$E$1:$G$26,2,FALSE),\"\")","v":""},null,{"$f":"IFERROR(VLOOKUP(AC12,'Weapons & Equip'!$E$1:$G$26,2,FALSE),\"\")","v":""},null,{"$f":"IFERROR(VLOOKUP(AJ12,'Weapons & Equip'!$I$2:$J$25,2,FALSE),\"\")","v":""},null,{"$f":"IFERROR(VLOOKUP(AR12,'Weapons & Equip'!$I$2:$J$25,2,FALSE),\"\")","v":""},null,{"$f":"IFERROR(VLOOKUP(W3,Army!$B$2:$Q$19,3,FALSE),\"\")","v":""},null,null,null,{"$f":"IFERROR(VLOOKUP(F12,'Weapons & Equip'!$A$2:$C$9,3,FALSE),\"0\")","v":"0"},null,{"$f":"IFERROR(VLOOKUP(F13,'Weapons & Equip'!$E$27:$G$28,3,FALSE),\"0\")","v":"0"},null,{"$f":"IFERROR(VLOOKUP(I13,'Weapons & Equip'!$E$30:$G$31,3,FALSE),\"0\")","v":"0"}]
[]
["",null,null,null,null,null,null,null,null,null,null,null,null,null,null,null,null,null,null,null,null,null,null,null,null,null,null,null,null,null,null,null,null,null,null,null,null,null,null,null,null,null,null,null,null,null,null,null,null,null,null,null,null,null,null,null,null,null,null,null,null,null,null,null,null,{"$f":"IFERROR(VLOOKUP(AK10,'Weapons & Equip'!$O$2:$P$26,2,FALSE),\"\")","v":""},null,{"$f":"IFERROR(VLOOKUP(AS10,'Weapons & Equip'!$O$2:$P$26,2,FALSE),\"\")","v":""},null,{"$f":"IFERROR(VLOOKUP(BA10,'Weapons & Equip'!$O$2:$P$26,2,FALSE),\"\")","v":""}]
["Hero",null,"Name",null,null,null,null,null,null,null,null,null,null,null,null,null,null,null,null,null,null,null,"Type",null,null,null,null,null,null,null,null,null,null,null,null,null,null,null,null,"Ava",null,null,"Race",null,null,null,null,null,null,null,"Skills"]
[null,null,null,null,null,null,null,null,null,null,null,null,null,null,null,null,null,null,null,null,null,null,null,null,null,null,null,null,null,null,null,null,null,null,null,null,null,null,null,{"$f":"IFERROR(VLOOKUP(W16,Army!$B$2:$Q$19,4,FALSE),\"\")","v":""},null,null,{"$f":"IFERROR(VLOOKUP(W16,Army!$B$2:$Q$19,2,FALSE),\"\")","v":""},null,null,null,null,null,null,null,{"$f":"IFERROR(VLOOKUP(W16,Army!$B$2:$Q$19,16,FALSE),\"\")","v":""}]
[]
[null,null,"M",null,"WS",null,null,"BS",null,null,"S",null,null,"T",null,null,"W",null,null,"I",null,null,"A",null,null,"Ld",null,null,"AS",null,"WdS",null,"Special Rules, Skills, Injuries & Spells"]
[null,null,{"$f":"IFERROR(VLOOKUP(W16,Army!$B$2:$Q$17,5,FALSE),\"\")","v":""},null,{"$f":"IFERROR(VLOOKUP(W16,Army!$B$2:$Q$17,6,FALSE),\"\")","v":""},null,null,{"$f":"IFERROR(VLOOKUP(W16,Army!$B$2:$Q$17,7,FALSE),\"\")","v":""},null,null,{"$f":"IFERROR(VLOOKUP(W16,Army!$B$2:$Q$17,8,FALSE),\"\")","v":""},null,null,{"$f":"IFERROR(VLOOKUP(W16,Army!$B$2:$Q$17,9,FALSE),\"\")","v":""},null,null,{"$f":"IFERROR(VLOOKUP(W16,Army!$B$2:$Q$17,10,FALSE),\"\")","v":""},null,null,{"$f":"IFERROR(VLOOKUP(W16,Army!$B$2:$Q$17,11,FALSE),\"\")","v":""},null,null,{"$f":"IFERROR(VLOOKUP(W16,Army!$B$2:$Q$17,12,FALSE),\"\")","v":""},null,null,{"$f":"IFERROR(VLOOKUP(W16,Army!$B$2:$Q$17,13,FALSE),\"\")","v":""},null,null,{"$f":"IF(BK19>0,7+CH25+CJ25+CL25,\"\")","v":""},{"$f":"IF(BK19>0,\"+\",\"\")","v":""},{"$f":"IF(F26=\"Shield\",\"6\",\"\")","v":""},{"$f":"IF(BJ20>0,\"+\",\"\")","v":""},{"$f":"IFERROR(VLOOKUP(W16,Army!$B$2:$Q$19,15,FALSE),\"\")","v":""},null,null,null,null,null,null,null,null,null,null,null,null,null,null,null,null,null,null,null,null,null,null,null,null,null,null,null,null,{"$f":"LEN(F25)","v":0},{"$f":"SUM(BJ19,BJ20,BK20)","v":0}]
[null,null,null,null,null,null,null,null,null,null,null,null,null,null,null,null,null,null,null,{"$f":"IF(OR(F25=\"Heavy Armour\",F25=\"Plate Armour\",F25=\"Gromril Armour\"),\"-1\",\"\")","v":""},null,null,null,null,null,null,null,null,null,null,null,null,null,null,null,null,null,null,null,null,null,null,null,null,null,null,null,null,null,null,null,null,null,null,null,null,null,null,null,null,null,{"$f":"LEN(F26)","v":0},{"$f":"LEN(I26)","v":0}]
[null,null,"XP",null,null,null,5,null,null,null,null,10,null,null,null,null,15,null,null,null,null,20,null,null,null,null,25,null,null,null,null,30]
[null,null,null,"+",null,"+",null,"+",null,"+",null,null,"+",null,null,"+",null,null,"+",null,null,"+",null,null,null,"+",null,null,null,"+",null,null,null,null,null,null,null,null,null,null,null,null,null,null,null,null,null,null,null,null,null,null,null,null,null,null,null,null,null,null,null,{"$f":"IFERROR(VLOOKUP($W16,Army!$B$2:$Q$17,14,FALSE),\"\")","v":""}]
[null,null,null,"+",null,null,null,"+",null,null,null,null,"+",null,null,null,null,"+",null,null,null,null,"+",null,null,null,null,null,"+",null,null,null,"Equipment"]
[null,null,null,null,"+",null,null,null,null,null,"+",null,null,null,null,null,null,"+",null,null,null,null,null,null,"+",null,null,null,null,null,null,"+",null,null,null,null,null,null,null,null,null,null,null,null,null,null,null,null,null,null,null,null,null,null,null,null,null,null,null,null,null,null,null,null,null,"Points",null,null,null,null,null,null,null,null,null,null,null,null,null,null,null,null,null,null,null,"Armour"]
[null,null,"Armour",null,null,null,null,null,null,null,null,"Weapon",null,null,null,null,null,null,null,null,null,null,null,null,null,null,null,null,null,null,null,null,null,null,null,null,null,null,null,null,null,null,null,null,null,null,null,null,null,null,null,null,null,null,null,"Points",null,null,{"$f":"SUM(BN25:CE28)+BG21","v":0},null,null,null,null,null,null,{"$f":"IFERROR(VLOOKUP(F25,'Weapons & Equip'!$A$1:$C$26,2,FALSE),\"\")","v":""},null,{"$f":"IFERROR(VLOOKUP(F26,'Weapons & Equip'!$E$27:$G$28,2,FALSE),\"\")","v":""},null,{"$f":"IFERROR(VLOOKUP(I26,'Weapons & Equip'!$E$30:$G$31,2,FALSE),\"\")","v":""},null,{"$f":"IFERROR(VLOOKUP(O25,'Weapons & Equip'!$E$1:$G$26,2,FALSE),\"\")","v":""},null,{"$f":"IFERROR(VLOOKUP(V25,'Weapons & Equip'!$E$1:$G$26,2,FALSE),\"\")","v":""},null,{"$f":"IFERROR(VLOOKUP(AC25,'Weapons & Equip'!$E$1:$G$26,2,FALSE),\"\")","v":""},null,{"$f":"IFERROR(VLOOKUP(AJ25,'Weapons & Equip'!$I$2:$J$25,2,FALSE),\"\")","v":""},null,{"$f":"IFERROR(VLOOKUP(AR25,'Weapons & Equip'!$I$2:$J$25,2,FALSE),\"\")","v":""},null,{"$f":"IFERROR(VLOOKUP(W16,Army!$B$2:$Q$19,3,FALSE),\"\")","v":""},null,null,null,{"$f":"IFERROR(VLOOKUP(F25,'Weapons & Equip'!$A$2:$C$9,3,FALSE),\"0\")","v":"0"},null,{"$f":"IFERROR(VLOOKUP(F26,'Weapons & Equip'!$E$27:$G$28,3,FALSE),\"0\")","v":"0"},null,{"$f":"IFERROR(VLOOKUP(I26,'Weapons & Equip'!$E$30:$G$31,3,FALSE),\"0\")","v":"0"}]
[]
[null,null,null,null,null,null,null,null,null,null,null,null,null,null,null,null,null,null,null,null,null,null,null,null,null,null,null,null,null,null,null,null,null,null,null,null,null,null,null,null,null,null,null,null,null,null,null,null,null,null,null,null,null,null,null,null,null,null,null,null,null,null,null,null,null,{"$f":"IFERROR(VLOOKUP(AK23,'Weapons & Equip'!$O$2:$P$26,2,FALSE),\"\")","v":""},null,{"$f":"IFERROR(VLOOKUP(AS23,'Weapons & Equip'!$O$2:$P$26,2,FALSE),\"\")","v":""},null,{"$f":"IFERROR(VLOOKUP(BA23,'Weapons & Equip'!$O$2:$P$26,2,FALSE),\"\")","v":""}]
["Hero",null,"Name",null,null,null,null,null,null,null,null,null,null,null,null,null,null,null,null,null,null,null,"Type",null,null,null,null,null,null,null,null,null,null,null,null,null,null,null,null,"Ava",null,null,"Race",null,null,null,null,null,null,null,"Skills"]
[null,null,null,null,null,null,null,null,null,null,null,null,null,null,null,null,null,null,null,null,null,null,null,null,null,null,null,null,null,null,null,null,null,null,null,null,null,null,null,{"$f":"IFERROR(VLOOKUP(W29,Army!$B$2:$Q$19,4,FALSE),\"\")","v":""},null,null,{"$f":"IFERROR(VLOOKUP(W29,Army!$B$2:$Q$19,2,FALSE),\"\")","v":""},null,null,null,null,null,null,null,{"$f":"IFERROR(VLOOKUP(W29,Army!$B$2:$Q$19,16,FALSE),\"\")","v":""}]
[]
[null,null,"M",null,"WS",null,null,"BS",null,null,"S",null,null,"T",null,null,"W",null,null,"I",null,null,"A",null,null,"Ld",null,null,"AS",null,"WdS",null,"Special Rules, Skills, Injuries & Spells"]
[null,null,{"$f":"IFERROR(VLOOKUP(W29,Army!$B$2:$Q$17,5,FALSE),\"\")","v":""},null,{"$f":"IFERROR(VLOOKUP(W29,Army!$B$2:$Q$17,6,FALSE),\"\")","v":""},null,null,{"$f":"IFERROR(VLOOKUP(W29,Army!$B$2:$Q$17,7,FALSE),\"\")","v":""},null,null,{"$f":"IFERROR(VLOOKUP(W29,Army!$B$2:$Q$17,8,FALSE),\"\")","v":""},null,null,{"$f":"IFERROR(VLOOKUP(W29,Army!$B$2:$Q$17,9,FALSE),\"\")","v":""},null,null,{"$f":"IFERROR(VLOOKUP(W29,Army!$B$2:$Q$17,10,FALSE),\"\")","v":""},null,null,{"$f":"IFERROR(VLOOKUP(W29,Army!$B$2:$Q$17,11,FALSE),\"\")","v":""},null,null,{"$f":"IFERROR(VLOOKUP(W29,Army!$B$2:$Q$17,12,FALSE),\"\")","v":""},null,null,{"$f":"IFERROR(VLOOKUP(W29,Army!$B$2:$Q$17,13,FALSE),\"\")","v":""},null,null,{"$f":"IF(BK32>0,7+CH38+CJ38+CL38,\"\")","v":""},{"$f":"IF(BK32>0,\"+\",\"\")","v":""},{"$f":"IF(F39=\"Shield\",\"6\",\"\")","v":""},{"$f":"IF(BJ33>0,\"+\",\"\")","v":""},{"$f":"IFERROR(VLOOKUP(W29,Army!$B$2:$Q$19,15,FALSE),\"\")","v":""},null,null,null,null,null,null,null,null,null,null,null,null,null,null,null,null,null,null,null,null,null,null,null,null,null,null,null,null,{"$f":"LEN(F38)","v":0},{"$f":"SUM(BJ32,BJ33,BK33)","v":0}]
[null,null,null,null,null,null,null,null,null,null,null,null,null,null,null,null,null,null,null,{"$f":"IF(OR(F38=\"Heavy Armour\",F38=\"Plate Armour\",F38=\"Gromril Armour\"),\"-1\",\"\")","v":""},null,null,null,null,null,null,null,null,null,null,null,null,null,null,null,null,null,null,null,null,null,null,null,null,null,null,null,null,null,null,null,null,null,null,null,null,null,null,null,null,null,{"$f":"LEN(F39)","v":0},{"$f":"LEN(I39)","v":0}]
[null,null,"XP",null,null,null,5,null,null,null,null,10,null,null,null,null,15,null,null,null,null,20,null,null,null,null,25,null,null,null,null,30]
[null,null,null,"+",null,"+",null,"+",null,"+",null,null,"+",null,null,"+",null,null,"+",null,null,"+",null,null,null,"+",null,null,null,"+",null,null,null,null,null,null,null,null,null,null,null,null,null,null,null,null,null,null,null,null,null,null,null,null,null,null,null,null,null,null,null,{"$f":"IFERROR(VLOOKUP($W29,Army!$B$2:$Q$17,14,FALSE),\"\")","v":""}]
[null,null,null,"+",null,null,null,"+",null,null,23,null,"+",null,null,null,null,"+",null,null,null,null,"+",null,null,null,null,null,"+",null,null,null,"Equipment"]
[null,null,null,null,"+",null,null,null,null,null,"+",null,null,null,null,null,null,"+",null,null,null,null,null,null,"+",null,null,null,null,null,null,"+",null,null,null,null,null,null,null,null,null,null,null,null,null,null,null,null,null,null,null,null,null,null,null,null,null,null,null,null,null,null,null,null,null,"Points",null,null,null,null,null,null,null,null,null,null,null,null,null,null,null,null,null,null,null,"Armour"]
[null,null,"Armour",null,null,null,null,null,null,null,null,"Weapon",null,null,null,null,null,null,null,null,null,null,null,null,null,null,null,null,null,null,null,null,null,null,null,null,null,null,null,null,null,null,null,null,null,null,null,null,null,null,null,null,null,null,null,"Points",null,null,{"$f":"SUM(BN38:CE41)+BG34","v":0},null,null,null,null,null,null,{"$f":"IFERROR(VLOOKUP(F38,'Weapons & Equip'!$A$1:$C$26,2,FALSE),\"\")","v":""},null,{"$f":"IFERROR(VLOOKUP(F39,'Weapons & Equip'!$E$27:$G$28,2,FALSE),\"\")","v":""},null,{"$f":"IFERROR(VLOOKUP(I39,'Weapons & Equip'!$E$30:$G$31,2,FALSE),\"\")","v":""},null,{"$f":"IFERROR(VLOOKUP(O38,'Weapons & Equip'!$E$1:$G$26,2,FALSE),\"\")","v":""},null,{"$f":"IFERROR(VLOOKUP(V38,'Weapons & Equip'!$E$1:$G$26,2,FALSE),\"\")","v":""},null,{"$f":"IFERROR(VLOOKUP(AC38,'Weapons & Equip'!$E$1:$G$26,2,FALSE),\"\")","v":""},null,{"$f":"IFERROR(VLOOKUP(AJ38,'Weapons & Equip'!$I$2:$J$25,2,FALSE),\"\")","v":""},null,{"$f":"IFERROR(VLOOKUP(AR38,'Weapons & Equip'!$I$2:$J$25,2,FALSE),\"\")","v":""},null,{"$f":"IFERROR(VLOOKUP(W29,Army!$B$2:$Q$19,3,FALSE),\"\")","v":""},null,null,null,{"$f":"IFERROR(VLOOKUP(F38,'Weapons & Equip'!$A$2:$C$9,3,FALSE),\"0\")","v":"0"},null,{"$f":"IFERROR(VLOOKUP(F39,'Weapons & Equip'!$E$27:$G$28,3,FALSE),\"0\")","v":"0"},null,{"$f":"IFERROR(VLOOKUP(I39,'Weapons & Equip'!$E$30:$G$31,3,FALSE),\"0\")","v":"0"}]
[]
[null,null,null,null,null,null,null,null,null,null,null,null,null,null,null,null,null,null,null,null,null,null,null,null,null,null,null,null,null,null,null,null,null,null,null,null,null,null,null,null,null,null,null,null,null,null,null,null,null,null,null,null,null,null,null,null,null,null,null,null,null,null,null,null,null,{"$f":"IFERROR(VLOOKUP(AK36,'Weapons & Equip'!$O$2:$P$26,2,FALSE),\"\")","v":""},null,{"$f":"IFERROR(VLOOKUP(AS36,'Weapons & Equip'!$O$2:$P$26,2,FALSE),\"\")","v":""},null,{"$f":"IFERROR(VLOOKUP(BA36,'Weapons & Equip'!$O$2:$P$26,2,FALSE),\"\")","v":""}]
["Hero",null,"Name",null,null,null,null,null,null,null,null,null,null,null,null,null,null,null,null,null,null,"Type",null,null,null,null,null,null,null,null,null,null,null,null,null,null,null,null,"Ava",null,null,"Race",null,null,null,null,null,null,null,"Skills"]
[null,null,null,null,null,null,null,null,null,null,null,null,null,null,null,null,null,null,null,null,null,null,null,null,null,null,null,null,null,null,null,null,null,null,null,null,null,null,null,{"$f":"IFERROR(VLOOKUP(W42,Army!$B$2:$Q$19,4,FALSE),\"\")","v":""},null,null,{"$f":"IFERROR(VLOOKUP(W42,Army!$B$2:$Q$19,2,FALSE),\"\")","v":""},null,null,null,null,null,null,null,{"$f":"IFERROR(VLOOKUP(W42,Army!$B$2:$Q$19,16,FALSE),\"\")","v":""}]
[]
[null,null,"M",null,"WS",null,null,"BS",null,null,"S",null,null,"T",null,null,"W",null,null,"I",null,null,"A",null,null,"Ld",null,null,"AS",null,"WdS",null,"Special Rules, Skills, Injuries & Spells"]
[null,null,{"$f":"IFERROR(VLOOKUP(W42,Army!$B$2:$Q$17,5,FALSE),\"\")","v":""},null,{"$f":"IFERROR(VLOOKUP(W42,Army!$B$2:$Q$17,6,FALSE),\"\")","v":""},null,null,{"$f":"IFERROR(VLOOKUP(W42,Army!$B$2:$Q$17,7,FALSE),\"\")","v":""},null,null,{"$f":"IFERROR(VLOOKUP(W42,Army!$B$2:$Q$17,8,FALSE),\"\")","v":""},null,null,{"$f":"IFERROR(VLOOKUP(W42,Army!$B$2:$Q$17,9,FALSE),\"\")","v":""},null,null,{"$f":"IFERROR(VLOOKUP(W42,Army!$B$2:$Q$17,10,FALSE),\"\")","v":""},null,null,{"$f":"IFERROR(VLOOKUP(W42,Army!$B$2:$Q$17,11,FALSE),\"\")","v":""},null,null,{"$f":"IFERROR(VLOOKUP(W42,Army!$B$2:$Q$17,12,FALSE),\"\")","v":""},null,null,{"$f":"IFERROR(VLOOKUP(W42,Army!$B$2:$Q$17,13,FALSE),\"\")","v":""},null,null,{"$f":"IF(BK45>0,7+CH51+CJ51+CL51,\"\")","v":""},{"$f":"IF(BK45>0,\"+\",\"\")","v":""},{"$f":"IF(F52=\"Shield\",\"6\",\"\")","v":""},{"$f":"IF(BJ46>0,\"+\",\"\")","v":""},{"$f":"IFERROR(VLOOKUP(W42,Army!$B$2:$Q$19,15,FALSE),\"\")","v":""},null,null,null,null,null,null,null,null,null,null,null,null,null,null,null,null,null,null,null,null,null,null,null,null,null,null,null,null,{"$f":"LEN(F51)","v":0},{"$f":"SUM(BJ45,BJ46,BK46)","v":0}]
[null,null,null,null,null,null,null,null,null,null,null,null,null,null,null,null,null,null,null,{"$f":"IF(OR(F51=\"Heavy Armour\",F51=\"Plate Armour\",F51=\"Gromril Armour\"),\"-1\",\"\")","v":""},null,null,null,null,null,null,null,null,null,null,null,null,null,null,null,null,null,null,null,null,null,null,null,null,null,null,null,null,null,null,null,null,null,null,null,null,null,null,null,null,null,{"$f":"LEN(F52)","v":0},{"$f":"LEN(I52)","v":0},null,null,23]
[null,null,"XP",null,null,null,5,null,null,null,null,10,null,null,null,null,15,null,null,null,null,20,null,null,null,null,25,null,null,null,null,30]
[null,null,null,"+",null,"+",null,"+",null,"+",null,null,"+",null,null,"+",null,null,"+",null,null,"+",null,null,null,"+",null,null,null,"+",null,null,null,null,null,null,null,null,null,null,null,null,null,null,null,null,null,null,null,null,null,null,null,null,null,null,null,null,null,null,null,{"$f":"IFERROR(VLOOKUP($W42,Army!$B$2:$Q$17,14,FALSE),\"\")","v":""}]
[null,null,null,"+",null,null,null,"+",null,null,1,null,"+",null,null,null,null,"+",null,null,null,null,"+",null,null,null,null,null,"+",null,null,null,"Equipment"]
[null,null,null,null,"+",null,null,null,null,null,"+",null,null,null,null,null,null,"+",null,null,null,null,null,null,"+",null,null,null,null,null,null,"+",null,null,null,null,null,null,null,null,null,null,null,null,null,null,null,null,null,null,null,null,null,null,null,null,null,null,null,null,null,null,null,null,null,"Points",null,null,null,null,null,null,null,null,null,null,null,null,null,null,null,null,null,null,null,"Armour"]
[null,null,"Armour",null,null,null,null,null,null,null,null,"Weapon",null,null,null,null,null,null,null,null,null,null,null,null,null,null,null,null,null,null,null,null,null,null,null,null,null,null,null,null,null,null,null,null,null,null,null,null,null,null,null,null,null,null,null,"Points",null,null,{"$f":"SUM(BN51:CE54)+BG47","v":0},null,null,null,null,null,null,{"$f":"IFERROR(VLOOKUP(F51,'Weapons & Equip'!$A$1:$C$26,2,FALSE),\"\")","v":""},null,{"$f":"IFERROR(VLOOKUP(F52,'Weapons & Equip'!$E$27:$G$28,2,FALSE),\"\")","v":""},null,{"$f":"IFERROR(VLOOKUP(I52,'Weapons & Equip'!$E$30:$G$31,2,FALSE),\"\")","v":""},null,{"$f":"IFERROR(VLOOKUP(O51,'Weapons & Equip'!$E$1:$G$26,2,FALSE),\"\")","v":""},null,{"$f":"IFERROR(VLOOKUP(V51,'Weapons & Equip'!$E$1:$G$26,2,FALSE),\"\")","v":""},null,{"$f":"IFERROR(VLOOKUP(AC51,'Weapons & Equip'!$E$1:$G$26,2,FALSE),\"\")","v":""},null,{"$f":"IFERROR(VLOOKUP(AJ51,'Weapons & Equip'!$I$2:$J$25,2,FALSE),\"\")","v":""},null,{"$f":"IFERROR(VLOOKUP(AR51,'Weapons & Equip'!$I$2:$J$25,2,FALSE),\"\")","v":""},null,{"$f":"IFERROR(VLOOKUP(W42,Army!$B$2:$Q$19,3,FALSE),\"\")","v":""},null,null,null,{"$f":"IFERROR(VLOOKUP(F51,'Weapons & Equip'!$A$2:$C$9,3,FALSE),\"0\")","v":"0"},null,{"$f":"IFERROR(VLOOKUP(F52,'Weapons & Equip'!$E$27:$G$28,3,FALSE),\"0\")","v":"0"},null,{"$f":"IFERROR(VLOOKUP(I52,'Weapons & Equip'!$E$30:$G$31,3,FALSE),\"0\")","v":"0"}]
[]
[null,null,null,null,null,null,null,null,null,null,null,null,null,null,null,null,null,null,null,null,null,null,null,null,null,null,null,null,null,null,null,null,null,null,null,null,null,null,null,null,null,null,null,null,null,null,null,null,null,null,null,null,null,null,null,null,null,null,null,null,null,null,null,null,null,{"$f":"IFERROR(VLOOKUP(AK49,'Weapons & Equip'!$O$2:$P$26,2,FALSE),\"\")","v":""},null,{"$f":"IFERROR(VLOOKUP(AS49,'Weapons & Equip'!$O$2:$P$26,2,FALSE),\"\")","v":""},null,{"$f":"IFERROR(VLOOKUP(BA49,'Weapons & Equip'!$O$2:$P$26,2,FALSE),\"\")","v":""}]
["Hero",null,"Name",null,null,null,null,null,null,null,null,null,null,null,null,null,null,null,null,null,null,"Type",null,null,null,null,null,null,null,null,null,null,null,null,null,null,null,null,"Ava",null,null,"Race",null,null,null,null,null,null,null,"Skills"]
[null,null,null,null,null,null,null,null,null,null,null,null,null,null,null,null,null,null,null,null,null,null,null,null,null,null,null,null,null,null,null,null,null,null,null,null,null,null,null,{"$f":"IFERROR(VLOOKUP(W55,Army!$B$2:$Q$19,4,FALSE),\"\")","v":""},null,null,{"$f":"IFERROR(VLOOKUP(W55,Army!$B$2:$Q$19,2,FALSE),\"\")","v":""},null,null,null,null,null,null,null,{"$f":"IFERROR(VLOOKUP(W55,Army!$B$2:$Q$19,16,FALSE),\"\")","v":""}]
[]
[null,null,"M",null,"WS",null,null,"BS",null,null,"S",null,null,"T",null,null,"W",null,null,"I",null,null,"A",null,null,"Ld",null,null,"AS",null,"WdS",null,"Special Rules, Skills, Injuries & Spells"]
[null,null,{"$f":"IFERROR(VLOOKUP(W55,Army!$B$2:$Q$17,5,FALSE),\"\")","v":""},null,{"$f":"IFERROR(VLOOKUP(W55,Army!$B$2:$Q$17,6,FALSE),\"\")","v":""},null,null,{"$f":"IFERROR(VLOOKUP(W55,Army!$B$2:$Q$17,7,FALSE),\"\")","v":""},null,null,{"$f":"IFERROR(VLOOKUP(W55,Army!$B$2:$Q$17,8,FALSE),\"\")","v":""},null,null,{"$f":"IFERROR(VLOOKUP(W55,Army!$B$2:$Q$17,9,FALSE),\"\")","v":""},null,null,{"$f":"IFERROR(VLOOKUP(W55,Army!$B$2:$Q$17,10,FALSE),\"\")","v":""},null,null,{"$f":"IFERROR(VLOOKUP(W55,Army!$B$2:$Q$17,11,FALSE),\"\")","v":""},null,null,{"$f":"IFERROR(VLOOKUP(W55,Army!$B$2:$Q$17,12,FALSE),\"\")","v":""},null,null,{"$f":"IFERROR(VLOOKUP(W55,Army!$B$2:$Q$17,13,FALSE),\"\")","v":""},null,null,{"$f":"IF(BK58>0,7+CH64+CJ64+CL64,\"\")","v":""},{"$f":"IF(BK58>0,\"+\",\"\")","v":""},{"$f":"IF(F65=\"Shield\",\"6\",\"\")","v":""},{"$f":"IF(BJ59>0,\"+\",\"\")","v":""},{"$f":"IFERROR(VLOOKUP(W55,Army!$B$2:$Q$19,15,FALSE),\"\")","v":""},null,null,null,null,null,null,null,null,null,null,null,null,null,null,null,null,null,null,null,null,null,null,null,null,null,null,null,null,{"$f":"LEN(F64)","v":0},{"$f":"SUM(BJ58,BJ59,BK59)","v":0}]
[null,null,null,null,null,null,null,null,null,null,null,null,null,null,null,null,null,null,null,{"$f":"IF(OR(F64=\"Heavy Armour\",F64=\"Plate Armour\",F64=\"Gromril Armour\"),\"-1\",\"\")","v":""},null,null,null,null,null,null,null,null,null,null,null,null,null,null,null,null,null,null,null,null,null,null,null,null,null,null,null,null,null,null,null,null,null,null,null,null,null,null,null,null,null,{"$f":"LEN(F65)","v":0},{"$f":"LEN(I65)","v":0}]
[null,null,"XP",null,null,null,5,null,null,null,null,10,null,null,null,null,15,null,null,null,null,20,null,null,null,null,25,null,null,null,null,30]
[null,null,null,"+",null,"+",null,"+",null,"+",null,null,"+",null,null,"+",null,null,"+",null,null,"+",null,null,null,"+",null,null,null,"+",null,null,null,null,null,null,null,null,null,null,null,null,null,null,null,null,null,null,null,null,null,null,null,null,null,null,null,null,null,null,null,{"$f":"IFERROR(VLOOKUP($W55,Army!$B$2:$Q$17,14,FALSE),\"\")","v":""}]
[null,null,null,"+",null,null,null,"+",null,null,null,null,"+",null,null,null,null,"+",null,null,null,null,"+",null,null,null,null,null,"+",null,null,null,"Equipment"]
[null,null,null,null,"+",null,null,null,null,null,"+",null,null,null,null,null,null,"+",null,null,null,null,null,null,"+",null,null,null,null,null,null,"+",null,null,null,null,null,null,null,null,null,null,null,null,null,null,null,null,null,null,null,null,null,null,null,null,null,null,null,null,null,null,null,null,null,"Points",null,null,null,null,null,null,null,null,null,null,null,null,null,null,null,null,null,null,null,"Armour"]
[null,null,"Armour",null,null,null,null,null,null,null,null,"Weapon",null,null,null,null,null,null,null,null,null,null,null,null,null,null,null,null,null,null,null,null,null,null,null,null,null,null,null,null,null,null,null,null,null,null,null,null,null,null,null,null,null,null,null,"Points",null,null,{"$f":"SUM(BN64:CE67)+BG60","v":0},null,null,null,null,null,null,{"$f":"IFERROR(VLOOKUP(F64,'Weapons & Equip'!$A$1:$C$26,2,FALSE),\"\")","v":""},null,{"$f":"IFERROR(VLOOKUP(F65,'Weapons & Equip'!$E$27:$G$28,2,FALSE),\"\")","v":""},null,{"$f":"IFERROR(VLOOKUP(I65,'Weapons & Equip'!$E$30:$G$31,2,FALSE),\"\")","v":""},null,{"$f":"IFERROR(VLOOKUP(O64,'Weapons & Equip'!$E$1:$G$26,2,FALSE),\"\")","v":""},null,{"$f":"IFERROR(VLOOKUP(V64,'Weapons & Equip'!$E$1:$G$26,2,FALSE),\"\")","v":""},null,{"$f":"IFERROR(VLOOKUP(AC64,'Weapons & Equip'!$E$1:$G$26,2,FALSE),\"\")","v":""},null,{"$f":"IFERROR(VLOOKUP(AJ64,'Weapons & Equip'!$I$2:$J$25,2,FALSE),\"\")","v":""},null,{"$f":"IFERROR(VLOOKUP(AR64,'Weapons & Equip'!$I$2:$J$25,2,FALSE),\"\")","v":""},null,{"$f":"IFERROR(VLOOKUP(W55,Army!$B$2:$Q$19,3,FALSE),\"\")","v":""},null,null,null,{"$f":"IFERROR(VLOOKUP(F64,'Weapons & Equip'!$A$2:$C$9,3,FALSE),\"0\")","v":"0"},null,{"$f":"IFERROR(VLOOKUP(F65,'Weapons & Equip'!$E$27:$G$28,3,FALSE),\"0\")","v":"0"},null,{"$f":"IFERROR(VLOOKUP(I65,'Weapons & Equip'!$E$30:$G$31,3,FALSE),\"0\")","v":"0"}]
[]
[null,null,null,null,null,null,null,null,null,null,null,null,null,null,null,null,null,null,null,null,null,null,null,null,null,null,null,null,null,null,null,null,null,null,null,null,null,null,null,null,null,null,null,null,null,null,null,null,null,null,null,null,null,null,null,null,null,null,null,null,null,null,null,null,null,{"$f":"IFERROR(VLOOKUP(AK62,'Weapons & Equip'!$O$2:$P$26,2,FALSE),\"\")","v":""},null,{"$f":"IFERROR(VLOOKUP(AS62,'Weapons & Equip'!$O$2:$P$26,2,FALSE),\"\")","v":""},null,{"$f":"IFERROR(VLOOKUP(BA62,'Weapons & Equip'!$O$2:$P$26,2,FALSE),\"\")","v":""}]
["Hero",null,"Name",null,null,null,null,null,null,null,null,null,null,null,null,null,null,null,null,null,null,"Type",null,null,null,null,null,null,null,null,null,null,null,null,null,null,null,null,"Ava",null,null,"Race",null,null,null,null,null,null,null,"Skills"]
[null,null,null,null,null,null,null,null,null,null,null,null,null,null,null,null,null,null,null,null,null,null,null,null,null,null,null,null,null,null,null,null,null,null,null,null,null,null,null,{"$f":"IFERROR(VLOOKUP(W68,Army!$B$2:$Q$19,4,FALSE),\"\")","v":""},null,null,{"$f":"IFERROR(VLOOKUP(W68,Army!$B$2:$Q$19,2,FALSE),\"\")","v":""},null,null,null,null,null,null,null,{"$f":"IFERROR(VLOOKUP(W68,Army!$B$2:$Q$19,16,FALSE),\"\")","v":""}]
[]
[null,null,"M",null,"WS",null,null,"BS",null,null,"S",null,null,"T",null,null,"W",null,null,"I",null,null,"A",null,null,"Ld",null,null,"AS",null,"WdS",null,"Special Rules, Skills, Injuries & Spells"]
[null,null,{"$f":"IFERROR(VLOOKUP(W68,Army!$B$2:$Q$17,5,FALSE),\"\")","v":""},null,{"$f":"IFERROR(VLOOKUP(W68,Army!$B$2:$Q$17,6,FALSE),\"\")","v":""},null,null,{"$f":"IFERROR(VLOOKUP(W68,Army!$B$2:$Q$17,7,FALSE),\"\")","v":""},null,null,{"$f":"IFERROR(VLOOKUP(W68,Army!$B$2:$Q$17,8,FALSE),\"\")","v":""},null,null,{"$f":"IFERROR(VLOOKUP(W68,Army!$B$2:$Q$17,9,FALSE),\"\")","v":""},null,null,{"$f":"IFERROR(VLOOKUP(W68,Army!$B$2:$Q$17,10,FALSE),\"\")","v":""},null,null,{"$f":"IFERROR(VLOOKUP(W68,Army!$B$2:$Q$17,11,FALSE),\"\")","v":""},null,null,{"$f":"IFERROR(VLOOKUP(W68,Army!$B$2:$Q$17,12,FALSE),\"\")","v":""},null,null,{"$f":"IFERROR(VLOOKUP(W68,Army!$B$2:$Q$17,13,FALSE),\"\")","v":""},null,null,{"$f":"IF(BK71>0,7+CH77+CJ77+CL77,\"\")","v":""},{"$f":"IF(BK71>0,\"+\",\"\")","v":""},{"$f":"IF(F78=\"Shield\",\"6\",\"\")","v":""},{"$f":"IF(BJ72>0,\"+\",\"\")","v":""},{"$f":"IFERROR(VLOOKUP(W68,Army!$B$2:$Q$19,15,FALSE),\"\")","v":""},null,null,null,null,null,null,null,null,null,null,null,null,null,null,null,null,null,null,null,null,null,null,null,null,null,null,null,null,{"$f":"LEN(F77)","v":0},{"$f":"SUM(BJ71,BJ72,BK72)","v":0}]
[null,null,null,null,null,null,null,null,null,null,null,null,null,null,null,null,null,null,null,{"$f":"IF(OR(F77=\"Heavy Armour\",F77=\"Plate Armour\",F77=\"Gromril Armour\"),\"-1\",\"\")","v":""},null,null,null,null,null,null,null,null,null,null,null,null,null,null,null,null,null,null,null,null,null,null,null,null,null,null,null,null,null,null,null,null,null,null,null,null,null,null,null,null,null,{"$f":"LEN(F78)","v":0},{"$f":"LEN(I78)","v":0}]
[null,null,"XP",null,null,null,5,null,null,null,null,10,null,null,null,null,15,null,null,null,null,20,null,null,null,null,25,null,null,null,null,30]
[null,null,null,"+",null,"+",null,"+",null,"+",null,null,"+",null,null,"+",null,null,"+",null,null,"+",null,null,null,"+",null,null,null,"+",null,null,null,null,null,null,null,null,null,null,null,null,null,null,null,null,null,null,null,null,null,null,null,null,null,null,null,null,null,null,null,{"$f":"IFERROR(VLOOKUP($W68,Army!$B$2:$Q$17,14,FALSE),\"\")","v":""}]
[null,null,null,"+",null,null,null,"+",null,null,null,null,"+",null,null,null,null,"+",null,null,null,null,"+",null,null,null,null,null,"+",null,null,null,"Equipment"]
[null,null,null,null,"+",null,null,null,null,null,"+",null,null,null,null,null,null,"+",null,null,null,null,null,null,"+",null,null,null,null,null,null,"+",null,null,null,null,null,null,null,null,null,null,null,null,null,null,null,null,null,null,null,null,null,null,null,null,null,null,null,null,null,null,null,null,null,"Points",null,null,null,null,null,null,null,null,null,null,null,null,null,null,null,null,null,null,null,"Armour"]
[null,null,"Armour",null,null,null,null,null,null,null,null,"Weapon",null,null,null,null,null,null,null,null,null,null,null,null,null,null,null,null,null,null,null,null,null,null,null,null,null,null,null,null,null,null,null,null,null,null,null,null,null,null,null,null,null,null,null,"Points",null,null,{"$f":"SUM(BN77:CE80)+BG73","v":0},null,null,null,null,null,null,{"$f":"IFERROR(VLOOKUP(F77,'Weapons & Equip'!$A$1:$C$26,2,FALSE),\"\")","v":""},null,{"$f":"IFERROR(VLOOKUP(F78,'Weapons & Equip'!$E$27:$G$28,2,FALSE),\"\")","v":""},null,{"$f":"IFERROR(VLOOKUP(I78,'Weapons & Equip'!$E$30:$G$31,2,FALSE),\"\")","v":""},null,{"$f":"IFERROR(VLOOKUP(O77,'Weapons & Equip'!$E$1:$G$26,2,FALSE),\"\")","v":""},null,{"$f":"IFERROR(VLOOKUP(V77,'Weapons & Equip'!$E$1:$G$26,2,FALSE),\"\")","v":""},null,{"$f":"IFERROR(VLOOKUP(AC77,'Weapons & Equip'!$E$1:$G$26,2,FALSE),\"\")","v":""},null,{"$f":"IFERROR(VLOOKUP(AJ77,'Weapons & Equip'!$I$2:$J$25,2,FALSE),\"\")","v":""},null,{"$f":"IFERROR(VLOOKUP(AR77,'Weapons & Equip'!$I$2:$J$25,2,FALSE),\"\")","v":""},null,{"$f":"IFERROR(VLOOKUP(W68,Army!$B$2:$Q$19,3,FALSE),\"\")","v":""},null,null,null,{"$f":"IFERROR(VLOOKUP(F77,'Weapons & Equip'!$A$2:$C$9,3,FALSE),\"0\")","v":"0"},null,{"$f":"IFERROR(VLOOKUP(F78,'Weapons & Equip'!$E$27:$G$28,3,FALSE),\"0\")","v":"0"},null,{"$f":"IFERROR(VLOOKUP(I78,'Weapons & Equip'!$E$30:$G$31,3,FALSE),\"0\")","v":"0"}]
[]
[null,null,null,null,null,null,null,null,null,null,null,null,null,null,null,null,null,null,null,null,null,null,null,null,null,null,null,null,null,null,null,null,null,null,null,null,null,null,null,null,null,null,null,null,null,null,null,null,null,null,null,null,null,null,null,null,null,null,null,null,null,null,null,null,null,{"$f":"IFERROR(VLOOKUP(AK75,'Weapons & Equip'!$O$2:$P$26,2,FALSE),\"\")","v":""},null,{"$f":"IFERROR(VLOOKUP(AS75,'Weapons & Equip'!$O$2:$P$26,2,FALSE),\"\")","v":""},null,{"$f":"IFERROR(VLOOKUP(BA75,'Weapons & Equip'!$O$2:$P$26,2,FALSE),\"\")","v":""}]
[]
[]
[]
[]
[]
[]
[]
[]
[]
[]
[]
[]
[]
[]
[]
[]
[]
[]
[]
[]
[]
[]
[]
[]
[]
[]
[]
[]
[]
[]
[]
[]
[]
[]
[]
[]
[]
[]
[]
[]
[]
[]
[]
[]
[]
[]
[]
[]
[]
[]
[]
[]
[]
[]
[]
[]
[]
[]
[]
[]
[]
[]
[]
[]
[]
[]
[]
[]
[]
[]
[]
[]
[]
[]
[]
[]
[]
[]
[]
[]
[]
[]
[]
[]
[]
[]
[]
[]
[]
[]
[]
[]
[]
[]
[]
[]
[]
[]
[]
[]
[]
[]
[]
[]
[]
[]
[]
[]
[]
[]
[]
[]
[]
[]
[]
[]
[]
[]
[]
[]
[]
[]
[]
[]
[]
[]
[]
[]
[]
[]
[]
[]
[]
[]
[]
[]
[]
[]
[]
[]
[]
[]
[]
[]
[]
[]
[]
[]
[]
[]
[]
[]
[]
[]
[]
[]
[]
[]
[]
[]
[]
[]
[]
[]
[]
[]
[]
[]
[]
[]
[]
[]
[]
[]
[]
[]
[]
[]
[]
[]
[]
[]
[]
[]
[]
[]
[]
[]
[]
[]
[]
[]
[]
[]
[]
[]
[]
[]
[]
[]
[]
[]
[]
[]
[]
[]
[]
[]
[]
[]
[]
[]
[]
[]
[]
[]
[]
[]
[]
[]
[]
[]
[]
[]
[]
[]
[]
[]
[]
[]
[]
[]
[]
[]
[]
[]
[]
[]
[]
[]
[]
[]
[]
[]
[]
[]
[]
[]
[]
[]
[]
[]
[]
[]
[]
[]
[]
[]
[]
[]
[]
[]
[]
[]
[]
[]
[]
[]
[]
[]
[]
[]
[]
[]
[]
[]
[]
[]
[]
[]
[]
[]
[]
[]
[]
[]
[]
[]
[]
[]
[]
[]
[]
[]
[]
[]
[]
[]
[]
[]
[]
[]
[]
[]
[]
[]
[]
[]
[]
[]
[]
[]
[]
[]
[]
[]
[]
[]
[]
[]
[]
[]
[]
[]
[]
[]
[]
[]
[]
[]
[]
[]
[]
[]
[]
[]
[]
[]
[]
[]
[]
[]
[]
[]
[]
[]
[]
[]
[]
[]
[]
[]
[]
[]
[]
[]
[]
[]
[]
[]
[]
[]
[]
[]
[]
[]
[]
[]
[]
[]
[]
[]
[]
[]
[]
[]
[]
[]
[]
[]
[]
[]
[]
[]
[]
[]
[]
[]
[]
[]
[]
[]
[]
[]
[]
[]
[]
[]
[]
[]
[]
[]
[]
[]
[]
[]
[]
[]
[]
[]
[]
[]
[]
[]
[]
[]
[]
[]
[]
[]
[]
[]
[]
[]
[]
[]
[]
[]
[]
[]
[]
[]
[]
[]
[]
[]
[]
[]
[]
[]
[]
[]
[]
[]
[]
[]
[]
[]
[]
[]
[]
[]
[]
[]
[]
[]
[]
[]
[]
[]
[]
[]
[]
[]
[]
[]
[]
[]
[]
[]
[]
[]
[]
[]
[]
[]
[]
[]
[]
[]
[]
[]
[]
[]
[]
[]
[]
[]
[]
[]
[]
[]
[]
[]
[]
[]
[]
[]
[]
[]
[]
[]
[]
[]
[]
[]
[]
[]
[]
[]
[]
[]
[]
[]
[]
[]
[]
[]
[]
[]
[]
[]
[]
[]
[]
[]
[]
[]
[]
[]
[]
[]
[]
[]
[]
[]
[]
[]
[]
[]
[]
[]
[]
[]
[]
[]
[]
[]
[]
[]
[]
[]
[]
[]
[]
[]
[]
[]
[]
[]
[]
[]
[]
[]
[]
[]
[]
[]
[]
[]
[]
[]
[]
[]
[]
[]
[]
[]
[]
[]
[]
[]
[]
[]
[]
[]
[]
[]
[]
[]
[]
[]
[]
[]
[]
[]
[]
[]
[]
[]
[]
[]
[]
[]
[]
[]
[]
[]
[]
[]
[]
[]
[]
[]
[]
[]
[]
[]
[]
[]
[]
[]
[]
[]
[]
[]
[]
[]
[]
[]
[]
[]
[]
[]
[]
[]
[]
[]
[]
[]
[]
[]
[]
[]
[]
[]
[]
[]
[]
[]
[]
[]
[]
[]
[]
[]
[]
[]
[]
[]
[]
[]
[]
[]
[]
[]
[]
[]
[]
[]
[]
[]
[]
[]
[]
[]
[]
[]
[]
[]
[]
[]
[]
[]
[]
[]
[]
[]
[]
[]
[]
[]
[]
[]
[]
[]
[]
[]
[]
[]
[]
[]
[]
[]
[]
[]
[]
[]
[]
[]
[]
[]
[]
[]
[]
[]
[]
[]
[]
[]
[]
[]
[]
[]
[]
[]
[]
[]
[]
[]
[]
[]
[]
[]
[]
[]
[]
[]
[]
[]
[]
[]
[]
[]
[]
[]
[]
[]
[]
[]
[]
[]
[]
[]
[]
[]
[]
[]
[]
[]
[]
[]
[]
[]
[]
[]
[]
[]
[]
[]
[]
[]
[]
[]
[]
[]
[]
[]
[]
[]
[]
[]
[]
[]
[]
[]
[]
[]
[]
[]
[]
[]
[]
[]
[]
[]
[]
[]
[]
[]
[]
[]
[]
[]
[]
[]
[]
[]
[]
[]
[]
[]
[]
[]
[]
[]
[]
[]
[]
[]
[]
[]
[]
[]
[]
[]
[]
[]
[]
[]
[]
[]
[]
[]
[]
[]
[]
[]
[]
[]
[]
[]
[]
[]
[]
[]
[]
[]
[]
[]
[]
[]
[]
[]
[]
[]
[]
[]
[]
[]
[]
[]
[]
[]
[]
[]
[]
[]
[]
[]
[]
[]
[]
[]
[]
[]
[]
[]
[]
[]
[]
[]
[]
[]
[]
[]
[]
[]
[]
[]
[]
[]
[]
[]
[]
[]
[]
[]
[]
[]
[]
[]
[]
[]
[]
[]
[]
[]
[]
[]
[]
[]
[]
[]
[]
[]
[]
[]
[]
[]
[]
[]
[]
[]
[]
[]
[]
[]
[]
[]
[]
[]
[]
[]
[]
[]
[]
[]
[]
[]
[]
[]
[]
[]
[]
[]
[]
[]
[]
[]
[]
[]
[]
[]
[]
[]
[]
[]
[]
[]
[]
[]
[]
[]
[]
[]
[]
[]
[]
[]
[]
[]
[]
[]
[]
[]
[]
[]
[]
[]
[]
[]
[]
[]
[]
[]
[]
[]
[]
[]
[]
[]
[]
[]
[]
[]
[]
[]
[]
[]
[]
[]
[]
[]
[]
[]
[]
[]
[]
[]
[]
[]
[]
[]
[]
[]
[]
[]
[]
[]
[]
[]
[]
[]
[]
[]
[]
[]
[]
[]
[]
[]
[]
[]
[]
[]
[]
[]
[]
[]
[]
[]
[]
[]
[]
[]
[]
[]
[]
[]
[]
[]
[]
[]
[]
[]
[]
[]
[]
[]
[]
[]
[]
[]
[]
[]
[]
[]
[]
[]
[]
[]
[]
[]
[]
[]
[]
[]
[]
[]
[]
[]
[]
[]
[]
[]
[]
[]
[]
[]
[]
[]
[]
[]
[]
[]
[]
[]
[]
[]
[]
[]
[]
[]
[]
[]
[]
[]
[]
[]
[]
[]
[]
[]
[]
[]
[]
[]
[]
[]
[]
[]
[]
[]
[]
[]
[]
[]
[]
[]
[]
[]
[]
[null,null,null,null,null," "]

{"sheet":"Henchmen","index":1,"n_rows":81,"n_cols":109,"rows_kept":81,"cut":false,"hidden":false,"merged":[[53,25,53,26],[34,15,35,16],[34,17,35,18],[34,19,35,20],[34,21,35,22],[34,23,35,24],[34,25,35,26],[54,35,55,35],[54,36,55,36],[50,33,51,34],[53,27,53,28],[53,29,53,30],[53,31,53,32],[50,0,51,2],[50,35,51,36],[50,40,51,42],[36,0,37,2],[40,0,41,2],[40,33,41,34],[50,9,51,11],[38,0,39,3],[36,19,37,20],[36,21,37,22],[36,23,37,24],[36,25,37,26],[36,3,37,8],[48,0,49,3],[44,25,45,26],[44,27,45,28],[46,0,47,2],[46,3,47,8],[46,9,47,14],[46,15,47,16],[46,17,47,18],[56,78,57,78],[56,79,57,79],[60,0,61,2],[60,33,61,34],[60,35,61,36],[60,40,61,42],[60,73,61,74],[60,75,61,76],[60,49,61,51],[56,21,57,22],[56,23,57,24],[56,25,57,26],[56,27,57,28],[60,3,60,8],[60,43,60,48],[61,3,61,5],[61,6,61,8],[61,43,61,45],[61,46,61,48],[58,4,59,36],[58,40,59,43],[56,73,57,74],[56,75,57,76],[56,29,57,30],[50,73,51,74],[50,75,51,76],[46,49,47,54],[46,78,47,78],[46,19,47,20],[46,21,47,22],[46,23,47,24],[46,25,47,26],[46,27,47,28],[46,29,47,30],[46,31,47,32],[46,40,47,42],[46,33,47,34],[46,35,47,36],[50,69,51,72],[43,37,46,37],[44,29,45,30],[44,31,45,32],[50,43,50,48],[51,43,51,45],[51,46,51,48],[44,63,45,64],[50,49,51,51],[44,59,45,60],[36,79,37,79],[30,0,31,2],[30,33,31,34],[40,75,41,76],[44,33,45,33],[44,34,45,34],[44,73,45,73],[44,74,45,74],[40,35,41,36],[44,15,45,16],[44,17,45,18],[44,19,45,20],[44,21,45,22],[43,73,43,74],[40,49,41,51],[44,35,45,35],[44,36,45,36],[44,75,45,75],[40,3,40,8],[40,43,40,48],[34,0,35,12],[34,40,35,52],[41,3,41,5],[33,25,33,26],[30,104,30,109],[34,33,35,33],[34,34,35,34],[34,73,35,73],[34,74,35,74],[34,65,35,66],[34,31,35,32],[34,55,35,56],[34,57,35,58],[34,59,35,60],[34,61,35,62],[34,63,35,64],[31,104,32,105],[31,106,32,107],[31,108,32,109],[30,35,31,36],[30,40,31,42],[30,49,31,51],[31,80,32,81],[31,82,32,83],[30,97,30,102],[33,37,36,37],[33,63,33,64],[36,78,37,78],[20,9,21,11],[24,61,25,62],[23,59,23,60],[23,61,23,62],[23,63,23,64],[23,65,23,66],[24,63,25,64],[24,65,25,66],[23,17,23,18],[23,19,23,20],[23,21,23,22],[23,23,23,24],[23,25,23,26],[23,27,23,28],[23,55,23,56],[23,57,23,58],[24,33,25,33],[20,33,21,34],[20,35,21,36],[23,75,23,76],[24,0,25,12],[24,40,25,52],[30,69,31,72],[23,80,23,85],[31,87,32,88],[31,89,32,90],[20,0,21,2],[18,0,19,3],[18,4,19,36],[18,40,19,43],[23,67,23,68],[23,69,23,70],[26,78,27,78],[26,79,27,79],[30,80,30,85],[31,84,32,85],[28,40,29,43],[26,73,27,74],[26,75,27,76],[26,0,27,2],[26,3,27,8],[26,9,27,14],[26,40,27,42],[14,23,15,24],[14,35,15,35],[14,36,15,36],[14,55,15,56],[30,87,30,92],[16,3,17,8],[16,9,17,14],[16,40,17,42],[16,43,17,48],[16,49,17,54],[16,15,17,16],[16,17,17,18],[16,19,17,20],[16,21,17,22],[16,23,17,24],[16,25,17,26],[16,27,17,28],[24,75,25,75],[24,76,25,76],[30,3,30,8],[30,43,30,48],[26,61,27,62],[26,63,27,64],[26,67,27,68],[13,80,13,85],[7,80,8,81],[7,82,8,83],[0,0,1,76],[3,15,3,16],[3,17,3,18],[3,19,3,20],[3,21,3,22],[13,55,13,56],[6,9,7,14],[4,34,5,34],[4,29,5,30],[6,25,7,26],[4,40,5,52],[6,3,7,8],[6,63,7,64],[4,55,5,56],[4,61,5,62],[3,23,3,24],[3,25,3,26],[3,27,3,28],[3,29,3,30],[4,57,5,58],[4,59,5,60],[10,97,10,102],[10,104,10,109],[11,97,12,98],[11,99,12,100],[11,101,12,102],[11,104,12,105],[11,106,12,107],[11,108,12,109],[10,80,10,85],[10,87,10,92],[11,80,12,81],[11,82,12,83],[11,84,12,85],[11,87,12,88],[11,89,12,90],[11,91,12,92],[63,0,78,1],[58,0,59,3],[13,97,13,102],[14,80,15,81],[14,82,15,83],[14,84,15,85],[14,97,15,98],[14,99,15,100],[14,101,15,102],[13,63,13,64],[13,65,13,66],[14,75,15,75],[14,76,15,76],[14,71,15,72],[16,78,17,78],[16,79,17,79],[14,57,15,58],[14,59,15,60],[14,63,15,64],[14,65,15,66],[16,61,17,62],[14,61,15,62],[16,59,17,60],[54,67,55,68],[53,63,53,64],[53,65,53,66],[53,67,53,68],[53,69,53,70],[54,73,55,73],[54,74,55,74],[53,71,53,72],[53,73,53,74],[54,71,55,72],[77,2,78,76],[75,2,76,76],[73,2,74,76],[71,2,72,76],[69,2,70,76],[67,2,68,76],[65,2,66,76],[63,2,64,76],[58,44,59,76],[60,9,61,11],[60,56,61,59],[60,60,61,63],[60,52,61,55],[54,29,55,30],[56,17,57,18],[56,0,57,2],[56,69,57,70],[56,3,57,8],[56,9,57,14],[56,40,57,42],[56,65,57,66],[56,67,57,68],[56,19,57,20],[56,33,57,34],[56,43,57,48],[56,49,57,54],[56,61,57,62],[56,63,57,64],[54,69,55,70],[54,40,55,52],[54,33,55,33],[54,34,55,34],[54,31,55,32],[54,0,55,12],[44,61,45,62],[56,35,57,36],[48,4,49,36],[48,40,49,43],[48,44,49,76],[54,25,55,26],[51,3,51,5],[51,6,51,8],[50,12,51,15],[50,16,51,19],[50,20,51,23],[50,25,51,28],[50,29,51,32],[54,13,55,14],[54,53,55,54],[50,3,50,8],[54,75,55,75],[56,31,57,32],[56,55,57,56],[56,57,57,58],[44,23,45,24],[56,59,57,60],[56,15,57,16],[54,27,55,28],[44,65,45,66],[36,55,37,56],[36,49,37,54],[44,40,45,52],[43,33,43,34],[43,35,43,36],[38,4,39,36],[38,40,39,43],[38,44,39,76],[36,35,37,36],[36,65,37,66],[40,73,41,74],[41,6,41,8],[36,9,37,14],[36,40,37,42],[36,43,37,48],[41,43,41,45],[41,46,41,48],[44,0,45,12],[43,67,43,68],[43,65,43,66],[40,69,41,72],[40,60,41,63],[40,65,41,68],[46,67,47,68],[46,73,47,74],[46,75,47,76],[44,69,45,70],[46,71,47,72],[44,71,45,72],[46,61,47,62],[33,65,33,66],[40,40,41,42],[44,55,45,56],[36,69,37,70],[36,71,37,72],[36,61,37,62],[34,75,35,75],[34,76,35,76],[36,73,37,74],[36,75,37,76],[43,75,43,76],[46,43,47,48],[44,57,45,58],[44,67,45,68],[46,55,47,56],[46,57,47,58],[46,59,47,60],[43,61,43,62],[43,63,43,64],[16,65,17,66],[24,34,25,34],[24,73,25,73],[24,74,25,74],[23,29,23,30],[23,31,23,32],[23,33,23,34],[23,71,23,72],[23,73,23,74],[24,57,25,58],[24,59,25,60],[24,55,25,56],[23,37,26,37],[24,35,25,35],[26,33,27,34],[26,35,27,36],[43,55,43,56],[43,57,43,58],[43,59,43,60],[14,0,15,12],[14,40,15,52],[20,40,21,42],[4,15,5,16],[4,17,5,18],[4,19,5,20],[6,0,7,2],[4,65,5,66],[10,0,11,2],[10,9,11,11],[10,33,11,34],[10,35,11,36],[13,15,13,16],[6,27,7,28],[6,29,7,30],[6,31,7,32],[6,33,7,34],[6,35,7,36],[6,15,7,16],[6,17,7,18],[6,19,7,20],[6,21,7,22],[6,23,7,24],[4,13,5,14],[4,35,5,35],[4,36,5,36],[26,15,27,16],[26,17,27,18],[26,49,27,54],[14,33,15,33],[24,15,25,16],[24,17,25,18],[24,19,25,20],[24,21,25,22],[23,35,23,36],[14,25,15,26],[14,27,15,28],[14,29,15,30],[14,31,15,32],[4,23,5,24],[4,25,5,26],[4,27,5,28],[4,33,5,33],[4,31,5,32],[6,40,7,42],[6,43,7,48],[6,49,7,54],[4,21,5,22],[4,63,5,64],[8,0,9,3],[8,4,9,36],[8,40,9,43],[8,44,9,76],[3,69,3,70],[3,71,3,72],[3,31,3,32],[3,33,3,34],[3,35,3,36],[3,73,3,74],[3,75,3,76],[3,37,6,37],[3,57,3,58],[3,59,3,60],[3,61,3,62],[3,63,3,64],[3,65,3,66],[3,67,3,68],[3,55,3,56],[6,55,7,56],[4,0,5,12],[4,75,5,75],[4,73,5,73],[13,69,13,70],[13,71,13,72],[13,73,13,74],[14,67,15,68],[14,69,15,70],[14,34,15,34],[13,57,13,58],[13,59,13,60],[13,61,13,62],[14,73,15,73],[14,74,15,74],[80,0,106,1],[53,75,53,76],[53,37,56,37],[53,15,53,16],[53,17,53,18],[53,19,53,20],[53,21,53,22],[53,23,53,24],[54,15,55,16],[54,17,55,18],[54,19,55,20],[54,21,55,22],[54,23,55,24],[54,55,55,56],[54,57,55,58],[54,59,55,60],[56,71,57,72],[53,55,53,56],[53,57,53,58],[53,59,53,60],[53,61,53,62],[54,61,55,62],[54,63,55,64],[54,65,55,66],[4,76,5,76],[4,67,5,68],[4,69,5,70],[4,71,5,72],[20,73,21,74],[20,75,21,76],[10,52,11,55],[10,56,11,59],[10,60,11,63],[10,65,11,68],[10,69,11,72],[16,63,17,64],[18,44,19,76],[16,57,17,58],[16,67,17,68],[20,43,20,48],[21,43,21,45],[21,46,21,48],[4,74,5,74],[6,57,7,58],[6,59,7,60],[6,61,7,62],[13,75,13,76],[13,67,13,68],[6,79,7,79],[6,67,7,68],[6,69,7,70],[6,71,7,72],[10,73,11,74],[6,65,7,66],[6,73,7,74],[6,75,7,76],[33,75,33,76],[6,78,7,78],[16,69,17,70],[16,71,17,72],[16,75,17,76],[30,73,31,74],[26,69,27,70],[26,65,27,66],[26,71,27,72],[10,75,11,76],[16,73,17,74],[24,67,25,68],[24,69,25,70],[24,71,25,72],[30,75,31,76],[33,73,33,74],[11,3,11,5],[11,6,11,8],[10,43,10,48],[11,43,11,45],[11,46,11,48],[13,17,13,18],[13,19,13,20],[13,21,13,22],[13,23,13,24],[10,40,11,42],[10,3,10,8],[13,33,13,34],[13,35,13,36],[13,31,13,32],[10,12,11,15],[10,16,11,19],[10,20,11,23],[10,25,11,28],[10,29,11,32],[13,37,16,37],[13,25,13,26],[13,27,13,28],[13,29,13,30],[16,29,17,30],[16,0,17,2],[20,3,20,8],[21,3,21,5],[21,6,21,8],[28,0,29,3],[28,4,29,36],[33,33,33,34],[43,29,43,30],[43,31,43,32],[30,12,31,15],[30,16,31,19],[30,20,31,23],[30,25,31,28],[30,29,31,32],[40,12,41,15],[30,9,31,11],[40,9,41,11],[24,29,25,30],[24,31,25,32],[23,15,23,16],[33,15,33,16],[33,17,33,18],[33,19,33,20],[33,21,33,22],[0,80,0,85],[3,80,3,85],[6,80,6,85],[0,97,0,102],[6,95,7,95],[6,96,7,96],[6,97,6,102],[7,97,8,98],[7,99,8,100],[7,101,8,102],[1,87,2,88],[1,89,2,90],[1,91,2,92],[4,82,5,83],[4,84,5,85],[7,84,8,85],[0,87,0,92],[1,80,2,81],[4,80,5,81],[1,82,2,83],[1,84,2,85],[4,86,5,87],[4,88,5,89],[0,104,0,109],[1,97,2,98],[1,99,2,100],[1,101,2,102],[1,104,2,105],[1,106,2,107],[1,108,2,109],[3,97,3,102],[4,97,5,98],[4,99,5,100],[4,101,5,102],[4,103,5,104],[4,105,5,106],[31,3,31,5],[31,6,31,8],[31,43,31,45],[31,46,31,48],[26,19,27,20],[26,21,27,22],[24,23,25,24],[24,25,25,26],[24,27,25,28],[24,36,25,36],[26,23,27,24],[26,25,27,26],[26,27,27,28],[26,29,27,30],[26,31,27,32],[26,43,27,48],[28,44,29,76],[36,80,36,85],[36,95,37,95],[36,96,37,96],[36,97,36,102],[37,80,38,81],[37,82,38,83],[37,84,38,85],[37,97,38,98],[37,99,38,100],[17,84,18,85],[17,97,18,98],[17,99,18,100],[24,84,25,85],[24,97,25,98],[24,99,25,100],[31,91,32,92],[31,97,32,98],[31,99,32,100],[17,101,18,102],[34,27,35,28],[34,29,35,30],[33,55,33,56],[33,57,33,58],[36,33,37,34],[34,35,35,35],[34,36,35,36],[20,49,21,51],[34,69,35,70],[33,67,33,68],[33,69,33,70],[33,71,33,72],[36,59,37,60],[16,55,17,56],[16,31,17,32],[16,33,17,34],[16,35,17,36],[33,27,33,28],[33,29,33,30],[33,31,33,32],[23,97,23,102],[24,80,25,81],[24,82,25,83],[24,101,25,102],[26,80,26,85],[26,95,27,95],[26,96,27,96],[26,97,26,102],[27,80,28,81],[27,82,28,83],[27,84,28,85],[27,97,28,98],[27,99,28,100],[27,101,28,102],[24,86,25,87],[24,88,25,89],[33,80,33,85],[33,97,33,102],[34,80,35,81],[34,82,35,83],[34,84,35,85],[34,97,35,98],[34,99,35,100],[34,101,35,102],[34,86,35,87],[34,88,35,89],[46,96,47,96],[46,97,46,102],[47,80,48,81],[47,82,48,83],[47,84,48,85],[47,97,48,98],[47,99,48,100],[47,101,48,102],[37,101,38,102],[41,80,42,81],[41,82,42,83],[41,84,42,85],[41,87,42,88],[41,89,42,90],[41,91,42,92],[41,97,42,98],[41,99,42,100],[41,101,42,102],[40,80,40,85],[51,101,52,102],[51,104,52,105],[51,106,52,107],[51,108,52,109],[56,80,56,85],[56,95,57,95],[56,96,57,96],[56,97,56,102],[57,80,58,81],[57,82,58,83],[57,84,58,85],[51,80,52,81],[51,82,52,83],[51,84,52,85],[51,87,52,88],[51,89,52,90],[51,91,52,92],[51,97,52,98],[54,103,55,104],[54,105,55,106],[57,97,58,98],[57,99,58,100],[53,80,53,85],[53,97,53,102],[4,53,5,54],[14,13,15,14],[14,53,15,54],[24,13,25,14],[24,53,25,54],[34,13,35,14],[34,53,35,54],[44,13,45,14],[44,53,45,54],[20,52,21,55],[30,52,31,55],[40,52,41,55],[43,27,43,28],[43,15,43,16],[43,17,43,18],[43,19,43,20],[43,21,43,22],[43,23,43,24],[43,25,43,26],[10,49,11,51],[14,15,15,16],[14,17,15,18],[14,19,15,20],[14,21,15,22],[46,63,47,64],[46,65,47,66],[46,69,47,70],[43,69,43,70],[43,71,43,72],[40,56,41,59],[20,12,21,15],[20,16,21,19],[20,20,21,23],[20,25,21,28],[20,29,21,32],[33,23,33,24],[36,15,37,16],[36,17,37,18],[33,59,33,60],[33,61,33,62],[34,67,35,68],[26,59,27,60],[26,55,27,56],[26,57,27,58],[36,63,37,64],[33,35,33,36],[34,71,35,72],[36,67,37,68],[14,86,15,87],[14,88,15,89],[14,103,15,104],[40,16,41,19],[40,20,41,23],[40,25,41,28],[40,29,41,32],[36,27,37,28],[36,29,37,30],[36,31,37,32],[36,57,37,58],[20,56,21,59],[20,60,21,63],[20,65,21,68],[30,56,31,59],[30,60,31,63],[30,65,31,68],[40,87,40,92],[40,97,40,102],[40,104,40,109],[41,104,42,105],[41,106,42,107],[41,108,42,109],[31,101,32,102],[14,105,15,106],[20,69,21,72],[20,80,20,85],[20,87,20,92],[20,97,20,102],[20,104,20,109],[21,80,22,81],[21,82,22,83],[21,84,22,85],[21,87,22,88],[21,89,22,90],[21,91,22,92],[21,97,22,98],[21,99,22,100],[21,101,22,102],[21,104,22,105],[21,106,22,107],[21,108,22,109],[16,80,16,85],[16,95,17,95],[16,96,17,96],[16,97,16,102],[17,80,18,81],[17,82,18,83],[44,76,45,76],[46,79,47,79],[44,86,45,87],[44,88,45,89],[50,80,50,85],[50,87,50,92],[50,97,50,102],[50,104,50,109],[24,103,25,104],[24,105,25,106],[34,103,35,104],[34,105,35,106],[44,103,45,104],[44,105,45,106],[43,80,43,85],[43,97,43,102],[44,80,45,81],[44,82,45,83],[44,84,45,85],[44,97,45,98],[44,99,45,100],[44,101,45,102],[46,80,46,85],[46,95,47,95],[57,101,58,102],[51,99,52,100],[60,65,61,68],[60,69,61,72],[60,12,61,15],[60,16,61,19],[60,20,61,23],[60,25,61,28],[60,29,61,32],[50,52,51,55],[50,56,51,59],[50,60,51,63],[50,65,51,68],[53,33,53,34],[53,35,53,36],[54,80,55,81],[54,82,55,83],[54,84,55,85],[54,97,55,98],[54,99,55,100],[54,101,55,102],[54,86,55,87],[54,88,55,89],[54,76,55,76]]}
["Henchmen",null,null,null,null,null,null,null,null,null,null,null,null,null,null,null,null,null,null,null,null,null,null,null,null,null,null,null,null,null,null,null,null,null,null,null,null,null,null,null,null,null,null,null,null,null,null,null,null,null,null,null,null,null,null,null,null,null,null,null,null,null,null,null,null,null,null,null,null,null,null,null,null,null,null,null,null,null,null,null,"Armour Points",null,null,null,null,null,null,"Armour",null,null,null,null,null,null,null,null,null,"Armour Points",null,null,null,null,null,null,"Armour"]
[null,null,null,null,null,null,null,null,null,null,null,null,null,null,null,null,null,null,null,null,null,null,null,null,null,null,null,null,null,null,null,null,null,null,null,null,null,null,null,null,null,null,null,null,null,null,null,null,null,null,null,null,null,null,null,null,null,null,null,null,null,null,null,null,null,null,null,null,null,null,null,null,null,null,null,null,null,null,null,null,{"$f":"IFERROR(VLOOKUP(D11,'Weapons & Equip'!$A$2:$C$9,2,FALSE),\"\")","v":""},null,{"$f":"IFERROR(VLOOKUP(D12,'Weapons & Equip'!$E$27:$G$28,2,FALSE),\"\")","v":""},null,{"$f":"IFERROR(VLOOKUP(G12,'Weapons & Equip'!$E$30:$G$31,2,FALSE),\"\")","v":""},null,null,{"$f":"IFERROR(VLOOKUP(D11,'Weapons & Equip'!$A$2:$C$9,3,FALSE),\"0\")","v":"0"},null,{"$f":"IFERROR(VLOOKUP(D12,'Weapons & Equip'!$E$27:$G$28,3,FALSE),\"0\")","v":"0"},null,{"$f":"IFERROR(VLOOKUP(G12,'Weapons & Equip'!$E$30:$G$31,3,FALSE),\"0\")","v":"0"},null,null,null,null,null,{"$f":"IFERROR(VLOOKUP(AR11,'Weapons & Equip'!$A$2:$C$9,2,FALSE),\"\")","v":""},null,{"$f":"IFERROR(VLOOKUP(AR12,'Weapons & Equip'!$E$27:$G$28,2,FALSE),\"\")","v":""},null,{"$f":"IFERROR(VLOOKUP(AU12,'Weapons & Equip'!$E$30:$G$31,2,FALSE),\"\")","v":""},null,null,{"$f":"IFERROR(VLOOKUP(AR11,'Weapons & Equip'!$A$2:$C$9,3,FALSE),\"0\")","v":"0"},null,{"$f":"IFERROR(VLOOKUP(AR12,'Weapons & Equip'!$E$27:$G$28,3,FALSE),\"0\")","v":"0"},null,{"$f":"IFERROR(VLOOKUP(AU12,'Weapons & Equip'!$E$30:$G$31,3,FALSE),\"0\")","v":"0"}]
[]
["Type",null,null,null,null,null,null,null,null,null,null,null,null,"Ava",null,"M",null,"WS",null,"BS",null,"S",null,"T",null,"W",null,"I",null,"A",null,"Ld",null,"AS",null,"WdS",null,null,null,null,"Type",null,null,null,null,null,null,null,null,null,null,null,null,"Ava",null,"M",null,"WS",null,"BS",null,"S",null,"T",null,"W",null,"I",null,"A",null,"Ld",null,"AS",null,"WdS",null,null,null,null,"Weapon Points",null,null,null,null,null,null,null,null,null,null,null,null,null,null,null,null,"Weapon Points"]
["",null,null,null,null,null,null,null,null,null,null,null,null,{"$f":"IFERROR(VLOOKUP(Henchmen!A5,Army!$B$2:$Q$19,4,FALSE),\"\")","v":""},null,{"$f":"IFERROR(VLOOKUP($A5,Army!$B$421:$Q$426,5,FALSE),\"\")","v":""},null,{"$f":"IFERROR(VLOOKUP($A5,Army!$B$421:$Q$426,6,FALSE),\"\")","v":""},null,{"$f":"IFERROR(VLOOKUP($A5,Army!$B$421:$Q$426,7,FALSE),\"\")","v":""},null,{"$f":"IFERROR(VLOOKUP($A5,Army!$B$421:$Q$426,8,FALSE),\"\")","v":""},null,{"$f":"IFERROR(VLOOKUP($A5,Army!$B$421:$Q$426,9,FALSE),\"\")","v":""},null,{"$f":"IFERROR(VLOOKUP($A5,Army!$B$421:$Q$426,10,FALSE),\"\")","v":""},null,{"$f":"IFERROR(VLOOKUP($A5,Army!$B$421:$Q$426,11,FALSE),\"\")","v":""},null,{"$f":"IFERROR(VLOOKUP($A5,Army!$B$421:$Q$426,12,FALSE),\"\")","v":""},null,{"$f":"IFERROR(VLOOKUP($A5,Army!$B$421:$Q$426,13,FALSE),\"\")","v":""},null,{"$f":"IF(CB5>0,7+CN2+CJ2+CL2,\"\")","v":""},{"$f":"IF(CB5>0,\"+\",\"\")","v":""},{"$f":"IF(D12=\"Shield\",\"6\",\"\")","v":""},{"$f":"IF(CA6>0,\"+\",\"\")","v":""},null,null,null,"",null,null,null,null,null,null,null,null,null,null,null,null,{"$f":"IFERROR(VLOOKUP(Henchmen!AO5,Army!$B$2:$Q$19,4,FALSE),\"\")","v":""},null,{"$f":"IFERROR(VLOOKUP($AO5,Army!$B$421:$Q$426,5,FALSE),\"\")","v":""},null,{"$f":"IFERROR(VLOOKUP($AO5,Army!$B$421:$Q$426,6,FALSE),\"\")","v":""},null,{"$f":"IFERROR(VLOOKUP($AO5,Army!$B$421:$Q$426,7,FALSE),\"\")","v":""},null,{"$f":"IFERROR(VLOOKUP($AO5,Army!$B$421:$Q$426,8,FALSE),\"\")","v":""},null,{"$f":"IFERROR(VLOOKUP($AO5,Army!$B$421:$Q$426,9,FALSE),\"\")","v":""},null,{"$f":"IFERROR(VLOOKUP($AO5,Army!$B$421:$Q$426,10,FALSE),\"\")","v":""},null,{"$f":"IFERROR(VLOOKUP($AO5,Army!$B$421:$Q$426,11,FALSE),\"\")","v":""},null,{"$f":"IFERROR(VLOOKUP($AO5,Army!$B$421:$Q$426,12,FALSE),\"\")","v":""},null,{"$f":"IFERROR(VLOOKUP($AO5,Army!$B$421:$Q$426,13,FALSE),\"\")","v":""},null,{"$f":"IF(CS5>0,7+DE2+DA2+DC2,\"\")","v":""},{"$f":"IF(CS5>0,\"+\",\"\")","v":""},{"$f":"IF(AR12=\"Shield\",\"6\",\"\")","v":""},{"$f":"IF(CR6>0,\"+\",\"\")","v":""},null,{"$f":"LEN(D11)","v":0},{"$f":"SUM(CA5,CA6,CB6)","v":0},{"$f":"IFERROR(VLOOKUP(M11,'Weapons & Equip'!$E$2:$G$23,2,FALSE),\"\")","v":""},null,{"$f":"IFERROR(VLOOKUP(Q11,'Weapons & Equip'!$E$2:$G$23,2,FALSE),\"\")","v":""},null,{"$f":"IFERROR(VLOOKUP(U11,'Weapons & Equip'!$E$2:$G$23,2,FALSE),\"\")","v":""},null,{"$f":"IFERROR(VLOOKUP(Z11,'Weapons & Equip'!$I$2:$J$26,2,FALSE),\"\")","v":""},null,{"$f":"IFERROR(VLOOKUP(AD11,'Weapons & Equip'!$I$2:$J$26,2,FALSE),\"\")","v":""},null,null,null,null,null,null,{"$f":"LEN(AR11)","v":0},{"$f":"SUM(CR5,CR6,CS6)","v":0},{"$f":"IFERROR(VLOOKUP(BA11,'Weapons & Equip'!$E$2:$G$23,2,FALSE),\"\")","v":""},null,{"$f":"IFERROR(VLOOKUP(BE11,'Weapons & Equip'!$E$2:$G$23,2,FALSE),\"\")","v":""},null,{"$f":"IFERROR(VLOOKUP(BI11,'Weapons & Equip'!$E$2:$G$23,2,FALSE),\"\")","v":""},null,{"$f":"IFERROR(VLOOKUP(BN11,'Weapons & Equip'!$I$2:$J$26,2,FALSE),\"\")","v":""},null,{"$f":"IFERROR(VLOOKUP(BR11,'Weapons & Equip'!$I$2:$J$26,2,FALSE),\"\")","v":""}]
[null,null,null,null,null,null,null,null,null,null,null,null,null,null,null,null,null,null,null,null,null,null,null,null,null,null,null,null,null,null,null,null,null,null,null,null,null,null,null,null,null,null,null,null,null,null,null,null,null,null,null,null,null,null,null,null,null,null,null,null,null,null,null,null,null,null,null,null,null,null,null,null,null,null,null,null,null,null,{"$f":"LEN(D12)","v":0},{"$f":"LEN(G12)","v":0},null,null,null,null,null,null,null,null,null,null,null,null,null,null,null,{"$f":"LEN(AR12)","v":0},{"$f":"LEN(AU12)","v":0}]
["Equip",null,null,null,null,null,null,null,null,null,null,null,null,null,null,null,null,null,null,null,null,null,null,null,null,null,null,{"$f":"IF(OR(D11=\"Heavy Armour\",D11=\"Plate Armour\",D11=\"Gromril Armour\"),\"-1\",\"\")","v":""},null,null,null,null,null,null,null,null,null,null,null,null,"Equip",null,null,null,null,null,null,null,null,null,null,null,null,null,null,null,null,null,null,null,null,null,null,null,null,null,null,{"$f":"IF(OR(AR11=\"Heavy Armour\",AR11=\"Plate Armour\",AR11=\"Gromril Armour\"),\"-1\",\"\")","v":""},null,null,null,null,null,null,null,null,null,null,null,null,"Equip Points",null,null,null,null,null,null,null,null,null,null,null,null,null,null,null,null,"Equip Points"]
[null,null,null,null,null,null,null,null,null,null,null,null,null,null,null,null,null,null,null,null,null,null,null,null,null,null,null,null,null,null,null,null,null,null,null,null,null,null,null,null,null,null,null,null,null,null,null,null,null,null,null,null,null,null,null,null,null,null,null,null,null,null,null,null,null,null,null,null,null,null,null,null,null,null,null,null,null,null,null,null,{"$f":"IFERROR(VLOOKUP(D7,'Weapons & Equip'!$R$2:$S$16,2,FALSE),\"\")","v":""},null,{"$f":"IFERROR(VLOOKUP(J7,'Weapons & Equip'!$R$2:$S$16,2,FALSE),\"\")","v":""},null,{"$f":"IFERROR(VLOOKUP(A5,Army!$B$421:$Q$426,3,FALSE),\"\")","v":""},null,null,null,null,null,null,null,null,null,null,null,null,{"$f":"IFERROR(VLOOKUP(AR7,'Weapons & Equip'!$R$2:$S$16,2,FALSE),\"\")","v":""},null,{"$f":"IFERROR(VLOOKUP(AX7,'Weapons & Equip'!$R$2:$S$16,2,FALSE),\"\")","v":""},null,{"$f":"IFERROR(VLOOKUP(AO5,Army!$B$421:$Q$426,3,FALSE),\"\")","v":""}]
["Special Abilities",null,null,null,{"$f":"IFERROR(VLOOKUP(A5,Army!$B$421:$Q$426,15,FALSE),\"\")","v":""},null,null,null,null,null,null,null,null,null,null,null,null,null,null,null,null,null,null,null,null,null,null,null,null,null,null,null,null,null,null,null,null,null,null,null,"Special Abilities",null,null,null,{"$f":"IFERROR(VLOOKUP(AO5,Army!$B$421:$Q$426,15,FALSE),\"\")","v":""}]
[]
["Armour",null,null,null,null,null,null,null,null,"Weapon",null,null,null,null,null,null,null,null,null,null,null,null,null,null,null,null,null,null,null,null,null,null,null,"pts",null,{"$f":"SUM(CC2:CH3,CC5:CL6,CC8:CH9)","v":0},null,null,null,null,"Armour",null,null,null,null,null,null,null,null,"Weapon",null,null,null,null,null,null,null,null,null,null,null,null,null,null,null,null,null,null,null,null,null,null,null,"pts",null,{"$f":"SUM(CT2:CY3,CT5:DC6,CT8:CY9)","v":0},null,null,null,null,"Armour Points",null,null,null,null,null,null,"Armour",null,null,null,null,null,null,null,null,null,"Armour Points",null,null,null,null,null,null,"Armour"]
[null,null,null,null,null,null,null,null,null,null,null,null,null,null,null,null,null,null,null,null,null,null,null,null,null,null,null,null,null,null,null,null,null,null,null,null,null,null,null,null,null,null,null,null,null,null,null,null,null,null,null,null,null,null,null,null,null,null,null,null,null,null,null,null,null,null,null,null,null,null,null,null,null,null,null,null,null,null,null,null,{"$f":"IFERROR(VLOOKUP(D21,'Weapons & Equip'!$A$2:$C$9,2,FALSE),\"\")","v":""},null,{"$f":"IFERROR(VLOOKUP(D22,'Weapons & Equip'!$E$27:$G$28,2,FALSE),\"\")","v":""},null,{"$f":"IFERROR(VLOOKUP(G22,'Weapons & Equip'!$E$30:$G$31,2,FALSE),\"\")","v":""},null,null,{"$f":"IFERROR(VLOOKUP(D21,'Weapons & Equip'!$A$2:$C$9,3,FALSE),\"0\")","v":"0"},null,{"$f":"IFERROR(VLOOKUP(D22,'Weapons & Equip'!$E$27:$G$28,3,FALSE),\"0\")","v":"0"},null,{"$f":"IFERROR(VLOOKUP(G22,'Weapons & Equip'!$E$30:$G$31,3,FALSE),\"0\")","v":"0"},null,null,null,null,null,{"$f":"IFERROR(VLOOKUP(AR21,'Weapons & Equip'!$A$2:$C$9,2,FALSE),\"\")","v":""},null,{"$f":"IFERROR(VLOOKUP(AR22,'Weapons & Equip'!$E$27:$G$28,2,FALSE),\"\")","v":""},null,{"$f":"IFERROR(VLOOKUP(AU22,'Weapons & Equip'!$E$30:$G$31,2,FALSE),\"\")","v":""},null,null,{"$f":"IFERROR(VLOOKUP(AR21,'Weapons & Equip'!$A$2:$C$9,3,FALSE),\"0\")","v":"0"},null,{"$f":"IFERROR(VLOOKUP(AR22,'Weapons & Equip'!$E$27:$G$28,3,FALSE),\"0\")","v":"0"},null,{"$f":"IFERROR(VLOOKUP(AU22,'Weapons & Equip'!$E$30:$G$31,3,FALSE),\"0\")","v":"0"}]
[]
["Type",null,null,null,null,null,null,null,null,"Ava",null,null,null,null,null,"M",null,"WS",null,"BS",null,"S",null,"T",null,"W",null,"I",null,"A",null,"Ld",null,"AS",null,"WdS",null,null,null,null,"Type",null,null,null,null,null,null,null,null,"Ava",null,null,null,null,null,"M",null,"WS",null,"BS",null,"S",null,"T",null,"W",null,"I",null,"A",null,"Ld",null,"AS",null,"WdS",null,null,null,null,"Weapon Points",null,null,null,null,null,null,null,null,null,null,null,null,null,null,null,null,"Weapon Points"]
["",null,null,null,null,null,null,null,null,null,null,null,null,{"$f":"IFERROR(VLOOKUP(Henchmen!A15,Army!$B$2:$Q$19,4,FALSE),\"\")","v":""},null,{"$f":"IFERROR(VLOOKUP($A15,Army!$B$421:$Q$426,5,FALSE),\"\")","v":""},null,{"$f":"IFERROR(VLOOKUP($A15,Army!$B$421:$Q$426,6,FALSE),\"\")","v":""},null,{"$f":"IFERROR(VLOOKUP($A15,Army!$B$421:$Q$426,7,FALSE),\"\")","v":""},null,{"$f":"IFERROR(VLOOKUP($A15,Army!$B$421:$Q$426,8,FALSE),\"\")","v":""},null,{"$f":"IFERROR(VLOOKUP($A15,Army!$B$421:$Q$426,9,FALSE),\"\")","v":""},null,{"$f":"IFERROR(VLOOKUP($A15,Army!$B$421:$Q$426,10,FALSE),\"\")","v":""},null,{"$f":"IFERROR(VLOOKUP($A15,Army!$B$421:$Q$426,11,FALSE),\"\")","v":""},null,{"$f":"IFERROR(VLOOKUP($A15,Army!$B$421:$Q$426,12,FALSE),\"\")","v":""},null,{"$f":"IFERROR(VLOOKUP($A15,Army!$B$421:$Q$426,13,FALSE),\"\")","v":""},null,{"$f":"IF(CB15>0,7+CN12+CJ12+CL12,\"\")","v":""},{"$f":"IF(CB15>0,\"+\",\"\")","v":""},{"$f":"IF(D22=\"Shield\",\"6\",\"\")","v":""},{"$f":"IF(CA16>0,\"+\",\"\")","v":""},null,null,null,"",null,null,null,null,null,null,null,null,null,null,null,null,{"$f":"IFERROR(VLOOKUP(Henchmen!AO15,Army!$B$2:$Q$19,4,FALSE),\"\")","v":""},null,{"$f":"IFERROR(VLOOKUP($AO15,Army!$B$421:$Q$426,5,FALSE),\"\")","v":""},null,{"$f":"IFERROR(VLOOKUP($AO15,Army!$B$421:$Q$426,6,FALSE),\"\")","v":""},null,{"$f":"IFERROR(VLOOKUP($AO15,Army!$B$421:$Q$426,7,FALSE),\"\")","v":""},null,{"$f":"IFERROR(VLOOKUP($AO15,Army!$B$421:$Q$426,8,FALSE),\"\")","v":""},null,{"$f":"IFERROR(VLOOKUP($AO15,Army!$B$421:$Q$426,9,FALSE),\"\")","v":""},null,{"$f":"IFERROR(VLOOKUP($AO15,Army!$B$421:$Q$426,10,FALSE),\"\")","v":""},null,{"$f":"IFERROR(VLOOKUP($AO15,Army!$B$421:$Q$426,11,FALSE),\"\")","v":""},null,{"$f":"IFERROR(VLOOKUP($AO15,Army!$B$421:$Q$426,12,FALSE),\"\")","v":""},null,{"$f":"IFERROR(VLOOKUP($AO15,Army!$B$421:$Q$426,13,FALSE),\"\")","v":""},null,{"$f":"IF(CS15>0,7+DE12+DA12+DC12,\"\")","v":""},{"$f":"IF(CS15>0,\"+\",\"\")","v":""},{"$f":"IF(AR22=\"Shield\",\"6\",\"\")","v":""},{"$f":"IF(CR16>0,\"+\",\"\")","v":""},null,{"$f":"LEN(D21)","v":0},{"$f":"SUM(CA15,CA16,CB16)","v":0},{"$f":"IFERROR(VLOOKUP(M21,'Weapons & Equip'!$E$2:$G$23,2,FALSE),\"\")","v":""},null,{"$f":"IFERROR(VLOOKUP(Q21,'Weapons & Equip'!$E$2:$G$23,2,FALSE),\"\")","v":""},null,{"$f":"IFERROR(VLOOKUP(U21,'Weapons & Equip'!$E$2:$G$23,2,FALSE),\"\")","v":""},null,{"$f":"IFERROR(VLOOKUP(Z21,'Weapons & Equip'!$I$2:$J$26,2,FALSE),\"\")","v":""},null,{"$f":"IFERROR(VLOOKUP(AD21,'Weapons & Equip'!$I$2:$J$26,2,FALSE),\"\")","v":""},null,null,null,null,null,null,{"$f":"LEN(AR21)","v":0},{"$f":"SUM(CR15,CR16,CS16)","v":0},{"$f":"IFERROR(VLOOKUP(BA21,'Weapons & Equip'!$E$2:$G$23,2,FALSE),\"\")","v":""},null,{"$f":"IFERROR(VLOOKUP(BE21,'Weapons & Equip'!$E$2:$G$23,2,FALSE),\"\")","v":""},null,{"$f":"IFERROR(VLOOKUP(BI21,'Weapons & Equip'!$E$2:$G$23,2,FALSE),\"\")","v":""},null,{"$f":"IFERROR(VLOOKUP(BN21,'Weapons & Equip'!$I$2:$J$26,2,FALSE),\"\")","v":""},null,{"$f":"IFERROR(VLOOKUP(BR21,'Weapons & Equip'!$I$2:$J$26,2,FALSE),\"\")","v":""}]
[null,null,null,null,null,null,null,null,null,null,null,null,null,null,null,null,null,null,null,null,null,null,null,null,null,null,null,null,null,null,null,null,null,null,null,null,null,null,null,null,null,null,null,null,null,null,null,null,null,null,null,null,null,null,null,null,null,null,null,null,null,null,null,null,null,null,null,null,null,null,null,null,null,null,null,null,null,null,{"$f":"LEN(D22)","v":0},{"$f":"LEN(G22)","v":0},null,null,null,null,null,null,null,null,null,null,null,null,null,null,null,{"$f":"LEN(AR22)","v":0},{"$f":"LEN(AU22)","v":0}]
["Equip",null,null,null,null,null,null,null,null,null,null,null,null,null,null,null,null,null,null,null,null,null,null,null,null,null,null,{"$f":"IF(OR(D21=\"Heavy Armour\",D21=\"Plate Armour\",D21=\"Gromril Armour\"),\"-1\",\"\")","v":""},null,null,null,null,null,null,null,null,null,null,null,null,"Equip",null,null,null,null,null,null,null,null,null,null,null,null,null,null,null,null,null,null,null,null,null,null,null,null,null,null,{"$f":"IF(OR(AR21=\"Heavy Armour\",AR21=\"Plate Armour\",AR21=\"Gromril Armour\"),\"-1\",\"\")","v":""},null,null,null,null,null,null,null,null,null,null,null,null,"Equip Points",null,null,null,null,null,null,null,null,null,null,null,null,null,null,null,null,"Equip Points"]
[null,null,null,null,null,null,null,null,null,null,null,null,null,null,null,null,null,null,null,null,null,null,null,null,null,null,null,null,null,null,null,null,null,null,null,null,null,null,null,null,null,null,null,null,null,null,null,null,null,null,null,null,null,null,null,null,null,null,null,null,null,null,null,null,null,null,null,null,null,null,null,null,null,null,null,null,null,null,null,null,{"$f":"IFERROR(VLOOKUP(D17,'Weapons & Equip'!$R$2:$S$16,2,FALSE),\"\")","v":""},null,{"$f":"IFERROR(VLOOKUP(J17,'Weapons & Equip'!$R$2:$S$16,2,FALSE),\"\")","v":""},null,{"$f":"IFERROR(VLOOKUP(A15,Army!$B$421:$Q$426,3,FALSE),\"\")","v":""},null,null,null,null,null,null,null,null,null,null,null,null,{"$f":"IFERROR(VLOOKUP(AR17,'Weapons & Equip'!$R$2:$S$16,2,FALSE),\"\")","v":""},null,{"$f":"IFERROR(VLOOKUP(AX17,'Weapons & Equip'!$R$2:$S$16,2,FALSE),\"\")","v":""},null,{"$f":"IFERROR(VLOOKUP(AO15,Army!$B$421:$Q$426,3,FALSE),\"\")","v":""}]
["Special Abilities",null,null,null,{"$f":"IFERROR(VLOOKUP(A15,Army!$B$421:$Q$426,15,FALSE),\"\")","v":""},null,null,null,null,null,null,null,null,null,null,null,null,null,null,null,null,null,null,null,null,null,null,null,null,null,null,null,null,null,null,null,null,null,null,null,"Special Abilities",null,null,null,{"$f":"IFERROR(VLOOKUP(AO15,Army!$B$421:$Q$426,15,FALSE),\"\")","v":""}]
[]
["Armour",null,null,null,null,null,null,null,null,"Weapon",null,null,null,null,null,null,null,null,null,null,null,null,null,null,null,null,null,null,null,null,null,null,null,"pts",null,{"$f":"SUM(CC12:CH13,CC15:CL16,CC18:CH19)","v":0},null,null,null,null,"Armour",null,null,null,null,null,null,null,null,"Weapon",null,null,null,null,null,null,null,null,null,null,null,null,null,null,null,null,null,null,null,null,null,null,null,"pts",null,{"$f":"SUM(CT12:CY13,CT15:DC16,CT18:CY19)","v":0},null,null,null,null,"Armour Points",null,null,null,null,null,null,"Armour",null,null,null,null,null,null,null,null,null,"Armour Points",null,null,null,null,null,null,"Armour"]
[null,null,null,null,null,null,null,null,null,null,null,null,null,null,null,null,null,null,null,null,null,null,null,null,null,null,null,null,null,null,null,null,null,null,null,null,null,null,null,null,null,null,null,null,null,null,null,null,null,null,null,null,null,null,null,null,null,null,null,null,null,null,null,null,null,null,null,null,null,null,null,null,null,null,null,null,null,null,null,null,{"$f":"IFERROR(VLOOKUP(D31,'Weapons & Equip'!$A$2:$C$9,2,FALSE),\"\")","v":""},null,{"$f":"IFERROR(VLOOKUP(D32,'Weapons & Equip'!$E$27:$G$28,2,FALSE),\"\")","v":""},null,{"$f":"IFERROR(VLOOKUP(G32,'Weapons & Equip'!$E$30:$G$31,2,FALSE),\"\")","v":""},null,null,{"$f":"IFERROR(VLOOKUP(D31,'Weapons & Equip'!$A$2:$C$9,3,FALSE),\"0\")","v":"0"},null,{"$f":"IFERROR(VLOOKUP(D32,'Weapons & Equip'!$E$27:$G$28,3,FALSE),\"0\")","v":"0"},null,{"$f":"IFERROR(VLOOKUP(G32,'Weapons & Equip'!$E$30:$G$31,3,FALSE),\"0\")","v":"0"},null,null,null,null,null,{"$f":"IFERROR(VLOOKUP(AR31,'Weapons & Equip'!$A$2:$C$9,2,FALSE),\"\")","v":""},null,{"$f":"IFERROR(VLOOKUP(AR32,'Weapons & Equip'!$E$27:$G$28,2,FALSE),\"\")","v":""},null,{"$f":"IFERROR(VLOOKUP(AU32,'Weapons & Equip'!$E$30:$G$31,2,FALSE),\"\")","v":""},null,null,{"$f":"IFERROR(VLOOKUP(AR31,'Weapons & Equip'!$A$2:$C$9,3,FALSE),\"0\")","v":"0"},null,{"$f":"IFERROR(VLOOKUP(AR32,'Weapons & Equip'!$E$27:$G$28,3,FALSE),\"0\")","v":"0"},null,{"$f":"IFERROR(VLOOKUP(AU32,'Weapons & Equip'!$E$30:$G$31,3,FALSE),\"0\")","v":"0"}]
[]
["Type",null,null,null,null,null,null,null,null,"Ava",null,null,null,null,null,"M",null,"WS",null,"BS",null,"S",null,"T",null,"W",null,"I",null,"A",null,"Ld",null,"AS",null,"WdS",null,null,null,null,"Type",null,null,null,null,null,null,null,null,"Ava",null,null,null,null,null,"M",null,"WS",null,"BS",null,"S",null,"T",null,"W",null,"I",null,"A",null,"Ld",null,"AS",null,"WdS",null,null,null,null,"Weapon Points",null,null,null,null,null,null,null,null,null,null,null,null,null,null,null,null,"Weapon Points"]
["",null,null,null,null,null,null,null,null,null,null,null,null,{"$f":"IFERROR(VLOOKUP(Henchmen!A25,Army!$B$2:$Q$19,4,FALSE),\"\")","v":""},null,{"$f":"IFERROR(VLOOKUP($A25,Army!$B$421:$Q$426,5,FALSE),\"\")","v":""},null,{"$f":"IFERROR(VLOOKUP($A25,Army!$B$421:$Q$426,6,FALSE),\"\")","v":""},null,{"$f":"IFERROR(VLOOKUP($A25,Army!$B$421:$Q$426,7,FALSE),\"\")","v":""},null,{"$f":"IFERROR(VLOOKUP($A25,Army!$B$421:$Q$426,8,FALSE),\"\")","v":""},null,{"$f":"IFERROR(VLOOKUP($A25,Army!$B$421:$Q$426,9,FALSE),\"\")","v":""},null,{"$f":"IFERROR(VLOOKUP($A25,Army!$B$421:$Q$426,10,FALSE),\"\")","v":""},null,{"$f":"IFERROR(VLOOKUP($A25,Army!$B$421:$Q$426,11,FALSE),\"\")","v":""},null,{"$f":"IFERROR(VLOOKUP($A25,Army!$B$421:$Q$426,12,FALSE),\"\")","v":""},null,{"$f":"IFERROR(VLOOKUP($A25,Army!$B$421:$Q$426,13,FALSE),\"\")","v":""},null,{"$f":"IF(CB25>0,7+CN22+CJ22+CL22,\"\")","v":""},{"$f":"IF(CB25>0,\"+\",\"\")","v":""},{"$f":"IF(D32=\"Shield\",\"6\",\"\")","v":""},{"$f":"IF(CA26>0,\"+\",\"\")","v":""},null,null,null,"",null,null,null,null,null,null,null,null,null,null,null,null,{"$f":"IFERROR(VLOOKUP(Henchmen!AO25,Army!$B$2:$Q$19,4,FALSE),\"\")","v":""},null,{"$f":"IFERROR(VLOOKUP($AO25,Army!$B$421:$Q$426,5,FALSE),\"\")","v":""},null,{"$f":"IFERROR(VLOOKUP($AO25,Army!$B$421:$Q$426,6,FALSE),\"\")","v":""},null,{"$f":"IFERROR(VLOOKUP($AO25,Army!$B$421:$Q$426,7,FALSE),\"\")","v":""},null,{"$f":"IFERROR(VLOOKUP($AO25,Army!$B$421:$Q$426,8,FALSE),\"\")","v":""},null,{"$f":"IFERROR(VLOOKUP($AO25,Army!$B$421:$Q$426,9,FALSE),\"\")","v":""},null,{"$f":"IFERROR(VLOOKUP($AO25,Army!$B$421:$Q$426,10,FALSE),\"\")","v":""},null,{"$f":"IFERROR(VLOOKUP($AO25,Army!$B$421:$Q$426,11,FALSE),\"\")","v":""},null,{"$f":"IFERROR(VLOOKUP($AO25,Army!$B$421:$Q$426,12,FALSE),\"\")","v":""},null,{"$f":"IFERROR(VLOOKUP($AO25,Army!$B$421:$Q$426,13,FALSE),\"\")","v":""},null,{"$f":"IF(CS25>0,7+DE22+DA22+DC22,\"\")","v":""},{"$f":"IF(CS25>0,\"+\",\"\")","v":""},{"$f":"IF(AR32=\"Shield\",\"6\",\"\")","v":""},{"$f":"IF(CR26>0,\"+\",\"\")","v":""},null,{"$f":"LEN(D31)","v":0},{"$f":"SUM(CA25,CA26,CB26)","v":0},{"$f":"IFERROR(VLOOKUP(M31,'Weapons & Equip'!$E$2:$G$23,2,FALSE),\"\")","v":""},null,{"$f":"IFERROR(VLOOKUP(Q31,'Weapons & Equip'!$E$2:$G$23,2,FALSE),\"\")","v":""},null,{"$f":"IFERROR(VLOOKUP(U31,'Weapons & Equip'!$E$2:$G$23,2,FALSE),\"\")","v":""},null,{"$f":"IFERROR(VLOOKUP(Z31,'Weapons & Equip'!$I$2:$J$26,2,FALSE),\"\")","v":""},null,{"$f":"IFERROR(VLOOKUP(AD31,'Weapons & Equip'!$I$2:$J$26,2,FALSE),\"\")","v":""},null,null,null,null,null,null,{"$f":"LEN(AR31)","v":0},{"$f":"SUM(CR25,CR26,CS26)","v":0},{"$f":"IFERROR(VLOOKUP(BA31,'Weapons & Equip'!$E$2:$G$23,2,FALSE),\"\")","v":""},null,{"$f":"IFERROR(VLOOKUP(BE31,'Weapons & Equip'!$E$2:$G$23,2,FALSE),\"\")","v":""},null,{"$f":"IFERROR(VLOOKUP(BI31,'Weapons & Equip'!$E$2:$G$23,2,FALSE),\"\")","v":""},null,{"$f":"IFERROR(VLOOKUP(BN31,'Weapons & Equip'!$I$2:$J$26,2,FALSE),\"\")","v":""},null,{"$f":"IFERROR(VLOOKUP(BR31,'Weapons & Equip'!$I$2:$J$26,2,FALSE),\"\")","v":""}]
[null,null,null,null,null,null,null,null,null,null,null,null,null,null,null,null,null,null,null,null,null,null,null,null,null,null,null,null,null,null,null,null,null,null,null,null,null,null,null,null,null,null,null,null,null,null,null,null,null,null,null,null,null,null,null,null,null,null,null,null,null,null,null,null,null,null,null,null,null,null,null,null,null,null,null,null,null,null,{"$f":"LEN(D32)","v":0},{"$f":"LEN(G32)","v":0},null,null,null,null,null,null,null,null,null,null,null,null,null,null,null,{"$f":"LEN(AR32)","v":0},{"$f":"LEN(AU32)","v":0}]
["Equip",null,null,null,null,null,null,null,null,null,null,null,null,null,null,null,null,null,null,null,null,null,null,null,null,null,null,{"$f":"IF(OR(D31=\"Heavy Armour\",D31=\"Plate Armour\",D31=\"Gromril Armour\"),\"-1\",\"\")","v":""},null,null,null,null,null,null,null,null,null,null,null,null,"Equip",null,null,null,null,null,null,null,null,null,null,null,null,null,null,null,null,null,null,null,null,null,null,null,null,null,null,{"$f":"IF(OR(AR31=\"Heavy Armour\",AR31=\"Plate Armour\",AR31=\"Gromril Armour\"),\"-1\",\"\")","v":""},null,null,null,null,null,null,null,null,null,null,null,null,"Equip Points",null,null,null,null,null,null,null,null,null,null,null,null,null,null,null,null,"Equip Points"]
[null,null,null,null,null,null,null,null,null,null,null,null,null,null,null,null,null,null,null,null,null,null,null,null,null,null,null,null,null,null,null,null,null,null,null,null,null,null,null,null,null,null,null,null,null,null,null,null,null,null,null,null,null,null,null,null,null,null,null,null,null,null,null,null,null,null,null,null,null,null,null,null,null,null,null,null,null,null,null,null,{"$f":"IFERROR(VLOOKUP(D27,'Weapons & Equip'!$R$2:$S$16,2,FALSE),\"\")","v":""},null,{"$f":"IFERROR(VLOOKUP(J27,'Weapons & Equip'!$R$2:$S$16,2,FALSE),\"\")","v":""},null,{"$f":"IFERROR(VLOOKUP(A25,Army!$B$421:$Q$426,3,FALSE),\"\")","v":""},null,null,null,null,null,null,null,null,null,null,null,null,{"$f":"IFERROR(VLOOKUP(AR27,'Weapons & Equip'!$R$2:$S$16,2,FALSE),\"\")","v":""},null,{"$f":"IFERROR(VLOOKUP(AX27,'Weapons & Equip'!$R$2:$S$16,2,FALSE),\"\")","v":""},null,{"$f":"IFERROR(VLOOKUP(AO25,Army!$B$421:$Q$426,3,FALSE),\"\")","v":""}]
["Special Abilities",null,null,null,{"$f":"IFERROR(VLOOKUP(A25,Army!$B$421:$Q$426,15,FALSE),\"\")","v":""},null,null,null,null,null,null,null,null,null,null,null,null,null,null,null,null,null,null,null,null,null,null,null,null,null,null,null,null,null,null,null,null,null,null,null,"Special Abilities",null,null,null,{"$f":"IFERROR(VLOOKUP(AO25,Army!$B$421:$Q$426,15,FALSE),\"\")","v":""}]
[]
["Armour",null,null,null,null,null,null,null,null,"Weapon",null,null,null,null,null,null,null,null,null,null,null,null,null,null,null,null,null,null,null,null,null,null,null,"pts",null,{"$f":"SUM(CC22:CH23,CC25:CL26,CC28:CH29)","v":0},null,null,null,null,"Armour",null,null,null,null,null,null,null,null,"Weapon",null,null,null,null,null,null,null,null,null,null,null,null,null,null,null,null,null,null,null,null,null,null,null,"pts",null,{"$f":"SUM(CT22:CY23,CT25:DC26,CT28:CY29)","v":0},null,null,null,null,"Armour Points",null,null,null,null,null,null,"Armour",null,null,null,null,null,null,null,null,null,"Armour Points",null,null,null,null,null,null,"Armour"]
[null,null,null,null,null,null,null,null,null,null,null,null,null,null,null,null,null,null,null,null,null,null,null,null,null,null,null,null,null,null,null,null,null,null,null,null,null,null,null,null,null,null,null,null,null,null,null,null,null,null,null,null,null,null,null,null,null,null,null,null,null,null,null,null,null,null,null,null,null,null,null,null,null,null,null,null,null,null,null,null,{"$f":"IFERROR(VLOOKUP(D41,'Weapons & Equip'!$A$2:$C$9,2,FALSE),\"\")","v":""},null,{"$f":"IFERROR(VLOOKUP(D42,'Weapons & Equip'!$E$27:$G$28,2,FALSE),\"\")","v":""},null,{"$f":"IFERROR(VLOOKUP(G42,'Weapons & Equip'!$E$30:$G$31,2,FALSE),\"\")","v":""},null,null,{"$f":"IFERROR(VLOOKUP(D41,'Weapons & Equip'!$A$2:$C$9,3,FALSE),\"0\")","v":"0"},null,{"$f":"IFERROR(VLOOKUP(D42,'Weapons & Equip'!$E$27:$G$28,3,FALSE),\"0\")","v":"0"},null,{"$f":"IFERROR(VLOOKUP(G42,'Weapons & Equip'!$E$30:$G$31,3,FALSE),\"0\")","v":"0"},null,null,null,null,null,{"$f":"IFERROR(VLOOKUP(AR41,'Weapons & Equip'!$A$2:$C$9,2,FALSE),\"\")","v":""},null,{"$f":"IFERROR(VLOOKUP(AR42,'Weapons & Equip'!$E$27:$G$28,2,FALSE),\"\")","v":""},null,{"$f":"IFERROR(VLOOKUP(AU42,'Weapons & Equip'!$E$30:$G$31,2,FALSE),\"\")","v":""},null,null,{"$f":"IFERROR(VLOOKUP(AR41,'Weapons & Equip'!$A$2:$C$9,3,FALSE),\"0\")","v":"0"},null,{"$f":"IFERROR(VLOOKUP(AR42,'Weapons & Equip'!$E$27:$G$28,3,FALSE),\"0\")","v":"0"},null,{"$f":"IFERROR(VLOOKUP(AU42,'Weapons & Equip'!$E$30:$G$31,3,FALSE),\"0\")","v":"0"}]
[]
["Type",null,null,null,null,null,null,null,null,"Ava",null,null,null,null,null,"M",null,"WS",null,"BS",null,"S",null,"T",null,"W",null,"I",null,"A",null,"Ld",null,"AS",null,"WdS",null,null,null,null,"Type",null,null,null,null,null,null,null,null,"Ava",null,null,null,null,null,"M",null,"WS",null,"BS",null,"S",null,"T",null,"W",null,"I",null,"A",null,"Ld",null,"AS",null,"WdS",null,null,null,null,"Weapon Points",null,null,null,null,null,null,null,null,null,null,null,null,null,null,null,null,"Weapon Points"]
["",null,null,null,null,null,null,null,null,null,null,null,null,{"$f":"IFERROR(VLOOKUP(Henchmen!A35,Army!$B$2:$Q$19,4,FALSE),\"\")","v":""},null,{"$f":"IFERROR(VLOOKUP($A35,Army!$B$421:$Q$426,5,FALSE),\"\")","v":""},null,{"$f":"IFERROR(VLOOKUP($A35,Army!$B$421:$Q$426,6,FALSE),\"\")","v":""},null,{"$f":"IFERROR(VLOOKUP($A35,Army!$B$421:$Q$426,7,FALSE),\"\")","v":""},null,{"$f":"IFERROR(VLOOKUP($A35,Army!$B$421:$Q$426,8,FALSE),\"\")","v":""},null,{"$f":"IFERROR(VLOOKUP($A35,Army!$B$421:$Q$426,9,FALSE),\"\")","v":""},null,{"$f":"IFERROR(VLOOKUP($A35,Army!$B$421:$Q$426,10,FALSE),\"\")","v":""},null,{"$f":"IFERROR(VLOOKUP($A35,Army!$B$421:$Q$426,11,FALSE),\"\")","v":""},null,{"$f":"IFERROR(VLOOKUP($A35,Army!$B$421:$Q$426,12,FALSE),\"\")","v":""},null,{"$f":"IFERROR(VLOOKUP($A35,Army!$B$421:$Q$426,13,FALSE),\"\")","v":""},null,{"$f":"IF(CB35>0,7+CN32+CJ32+CL32,\"\")","v":""},{"$f":"IF(CB35>0,\"+\",\"\")","v":""},{"$f":"IF(D42=\"Shield\",\"6\",\"\")","v":""},{"$f":"IF(CA36>0,\"+\",\"\")","v":""},null,null,null,"",null,null,null,null,null,null,null,null,null,null,null,null,{"$f":"IFERROR(VLOOKUP(Henchmen!AO35,Army!$B$2:$Q$19,4,FALSE),\"\")","v":""},null,{"$f":"IFERROR(VLOOKUP($AO35,Army!$B$421:$Q$426,5,FALSE),\"\")","v":""},null,{"$f":"IFERROR(VLOOKUP($AO35,Army!$B$421:$Q$426,6,FALSE),\"\")","v":""},null,{"$f":"IFERROR(VLOOKUP($AO35,Army!$B$421:$Q$426,7,FALSE),\"\")","v":""},null,{"$f":"IFERROR(VLOOKUP($AO35,Army!$B$421:$Q$426,8,FALSE),\"\")","v":""},null,{"$f":"IFERROR(VLOOKUP($AO35,Army!$B$421:$Q$426,9,FALSE),\"\")","v":""},null,{"$f":"IFERROR(VLOOKUP($AO35,Army!$B$421:$Q$426,10,FALSE),\"\")","v":""},null,{"$f":"IFERROR(VLOOKUP($AO35,Army!$B$421:$Q$426,11,FALSE),\"\")","v":""},null,{"$f":"IFERROR(VLOOKUP($AO35,Army!$B$421:$Q$426,12,FALSE),\"\")","v":""},null,{"$f":"IFERROR(VLOOKUP($AO35,Army!$B$421:$Q$426,13,FALSE),\"\")","v":""},null,{"$f":"IF(CS35>0,7+DE32+DA32+DC32,\"\")","v":""},{"$f":"IF(CS35>0,\"+\",\"\")","v":""},{"$f":"IF(AR42=\"Shield\",\"6\",\"\")","v":""},{"$f":"IF(CR36>0,\"+\",\"\")","v":""},null,{"$f":"LEN(D41)","v":0},{"$f":"SUM(CA35,CA36,CB36)","v":0},{"$f":"IFERROR(VLOOKUP(M41,'Weapons & Equip'!$E$2:$G$23,2,FALSE),\"\")","v":""},null,{"$f":"IFERROR(VLOOKUP(Q41,'Weapons & Equip'!$E$2:$G$23,2,FALSE),\"\")","v":""},null,{"$f":"IFERROR(VLOOKUP(U41,'Weapons & Equip'!$E$2:$G$23,2,FALSE),\"\")","v":""},null,{"$f":"IFERROR(VLOOKUP(Z41,'Weapons & Equip'!$I$2:$J$26,2,FALSE),\"\")","v":""},null,{"$f":"IFERROR(VLOOKUP(AD41,'Weapons & Equip'!$I$2:$J$26,2,FALSE),\"\")","v":""},null,null,null,null,null,null,{"$f":"LEN(AR41)","v":0},{"$f":"SUM(CR35,CR36,CS36)","v":0},{"$f":"IFERROR(VLOOKUP(BA41,'Weapons & Equip'!$E$2:$G$23,2,FALSE),\"\")","v":""},null,{"$f":"IFERROR(VLOOKUP(BE41,'Weapons & Equip'!$E$2:$G$23,2,FALSE),\"\")","v":""},null,{"$f":"IFERROR(VLOOKUP(BI41,'Weapons & Equip'!$E$2:$G$23,2,FALSE),\"\")","v":""},null,{"$f":"IFERROR(VLOOKUP(BN41,'Weapons & Equip'!$I$2:$J$26,2,FALSE),\"\")","v":""},null,{"$f":"IFERROR(VLOOKUP(BR41,'Weapons & Equip'!$I$2:$J$26,2,FALSE),\"\")","v":""}]
[null,null,null,null,null,null,null,null,null,null,null,null,null,null,null,null,null,null,null,null,null,null,null,null,null,null,null,null,null,null,null,null,null,null,null,null,null,null,null,null,null,null,null,null,null,null,null,null,null,null,null,null,null,null,null,null,null,null,null,null,null,null,null,null,null,null,null,null,null,null,null,null,null,null,null,null,null,null,{"$f":"LEN(D42)","v":0},{"$f":"LEN(G42)","v":0},null,null,null,null,null,null,null,null,null,null,null,null,null,null,null,{"$f":"LEN(AR42)","v":0},{"$f":"LEN(AU42)","v":0}]
["Equip",null,null,null,null,null,null,null,null,null,null,null,null,null,null,null,null,null,null,null,null,null,null,null,null,null,null,{"$f":"IF(OR(D41=\"Heavy Armour\",D41=\"Plate Armour\",D41=\"Gromril Armour\"),\"-1\",\"\")","v":""},null,null,null,null,null,null,null,null,null,null,null,null,"Equip",null,null,null,null,null,null,null,null,null,null,null,null,null,null,null,null,null,null,null,null,null,null,null,null,null,null,{"$f":"IF(OR(AR41=\"Heavy Armour\",AR41=\"Plate Armour\",AR41=\"Gromril Armour\"),\"-1\",\"\")","v":""},null,null,null,null,null,null,null,null,null,null,null,null,"Equip Points",null,null,null,null,null,null,null,null,null,null,null,null,null,null,null,null,"Equip Points"]
[null,null,null,null,null,null,null,null,null,null,null,null,null,null,null,null,null,null,null,null,null,null,null,null,null,null,null,null,null,null,null,null,null,null,null,null,null,null,null,null,null,null,null,null,null,null,null,null,null,null,null,null,null,null,null,null,null,null,null,null,null,null,null,null,null,null,null,null,null,null,null,null,null,null,null,null,null,null,null,null,{"$f":"IFERROR(VLOOKUP(D37,'Weapons & Equip'!$R$2:$S$16,2,FALSE),\"\")","v":""},null,{"$f":"IFERROR(VLOOKUP(J37,'Weapons & Equip'!$R$2:$S$16,2,FALSE),\"\")","v":""},null,{"$f":"IFERROR(VLOOKUP(A35,Army!$B$421:$Q$426,3,FALSE),\"\")","v":""},null,null,null,null,null,null,null,null,null,null,null,null,{"$f":"IFERROR(VLOOKUP(AR37,'Weapons & Equip'!$R$2:$S$16,2,FALSE),\"\")","v":""},null,{"$f":"IFERROR(VLOOKUP(AX37,'Weapons & Equip'!$R$2:$S$16,2,FALSE),\"\")","v":""},null,{"$f":"IFERROR(VLOOKUP(AO35,Army!$B$421:$Q$426,3,FALSE),\"\")","v":""}]
["Special Abilities",null,null,null,{"$f":"IFERROR(VLOOKUP(A35,Army!$B$421:$Q$426,15,FALSE),\"\")","v":""},null,null,null,null,null,null,null,null,null,null,null,null,null,null,null,null,null,null,null,null,null,null,null,null,null,null,null,null,null,null,null,null,null,null,null,"Special Abilities",null,null,null,{"$f":"IFERROR(VLOOKUP(AO35,Army!$B$421:$Q$426,15,FALSE),\"\")","v":""}]
[]
["Armour",null,null,null,null,null,null,null,null,"Weapon",null,null,null,null,null,null,null,null,null,null,null,null,null,null,null,null,null,null,null,null,null,null,null,"pts",null,{"$f":"SUM(CC32:CH33,CC35:CL36,CC38:CH39)","v":0},null,null,null,null,"Armour",null,null,null,null,null,null,null,null,"Weapon",null,null,null,null,null,null,null,null,null,null,null,null,null,null,null,null,null,null,null,null,null,null,null,"pts",null,{"$f":"SUM(CT32:CY33,CT35:DC36,CT38:CY39)","v":0},null,null,null,null,"Armour Points",null,null,null,null,null,null,"Armour",null,null,null,null,null,null,null,null,null,"Armour Points",null,null,null,null,null,null,"Armour"]
[null,null,null,null,null,null,null,null,null,null,null,null,null,null,null,null,null,null,null,null,null,null,null,null,null,null,null,null,null,null,null,null,null,null,null,null,null,null,null,null,null,null,null,null,null,null,null,null,null,null,null,null,null,null,null,null,null,null,null,null,null,null,null,null,null,null,null,null,null,null,null,null,null,null,null,null,null,null,null,null,{"$f":"IFERROR(VLOOKUP(D51,'Weapons & Equip'!$A$2:$C$9,2,FALSE),\"\")","v":""},null,{"$f":"IFERROR(VLOOKUP(D52,'Weapons & Equip'!$E$27:$G$28,2,FALSE),\"\")","v":""},null,{"$f":"IFERROR(VLOOKUP(G52,'Weapons & Equip'!$E$30:$G$31,2,FALSE),\"\")","v":""},null,null,{"$f":"IFERROR(VLOOKUP(D51,'Weapons & Equip'!$A$2:$C$9,3,FALSE),\"0\")","v":"0"},null,{"$f":"IFERROR(VLOOKUP(D52,'Weapons & Equip'!$E$27:$G$28,3,FALSE),\"0\")","v":"0"},null,{"$f":"IFERROR(VLOOKUP(G52,'Weapons & Equip'!$E$30:$G$31,3,FALSE),\"0\")","v":"0"},null,null,null,null,null,{"$f":"IFERROR(VLOOKUP(AR51,'Weapons & Equip'!$A$2:$C$9,2,FALSE),\"\")","v":""},null,{"$f":"IFERROR(VLOOKUP(AR52,'Weapons & Equip'!$E$27:$G$28,2,FALSE),\"\")","v":""},null,{"$f":"IFERROR(VLOOKUP(AU52,'Weapons & Equip'!$E$30:$G$31,2,FALSE),\"\")","v":""},null,null,{"$f":"IFERROR(VLOOKUP(AR51,'Weapons & Equip'!$A$2:$C$9,3,FALSE),\"0\")","v":"0"},null,{"$f":"IFERROR(VLOOKUP(AR52,'Weapons & Equip'!$E$27:$G$28,3,FALSE),\"0\")","v":"0"},null,{"$f":"IFERROR(VLOOKUP(AU52,'Weapons & Equip'!$E$30:$G$31,3,FALSE),\"0\")","v":"0"}]
[]
["Type",null,null,null,null,null,null,null,null,"Ava",null,null,null,null,null,"M",null,"WS",null,"BS",null,"S",null,"T",null,"W",null,"I",null,"A",null,"Ld",null,"AS",null,"WdS",null,null,null,null,"Type",null,null,null,null,null,null,null,null,"Ava",null,null,null,null,null,"M",null,"WS",null,"BS",null,"S",null,"T",null,"W",null,"I",null,"A",null,"Ld",null,"AS",null,"WdS",null,null,null,null,"Weapon Points",null,null,null,null,null,null,null,null,null,null,null,null,null,null,null,null,"Weapon Points"]
["",null,null,null,null,null,null,null,null,null,null,null,null,{"$f":"IFERROR(VLOOKUP(Henchmen!A45,Army!$B$2:$Q$19,4,FALSE),\"\")","v":""},null,{"$f":"IFERROR(VLOOKUP($A45,Army!$B$421:$Q$426,5,FALSE),\"\")","v":""},null,{"$f":"IFERROR(VLOOKUP($A45,Army!$B$421:$Q$426,6,FALSE),\"\")","v":""},null,{"$f":"IFERROR(VLOOKUP($A45,Army!$B$421:$Q$426,7,FALSE),\"\")","v":""},null,{"$f":"IFERROR(VLOOKUP($A45,Army!$B$421:$Q$426,8,FALSE),\"\")","v":""},null,{"$f":"IFERROR(VLOOKUP($A45,Army!$B$421:$Q$426,9,FALSE),\"\")","v":""},null,{"$f":"IFERROR(VLOOKUP($A45,Army!$B$421:$Q$426,10,FALSE),\"\")","v":""},null,{"$f":"IFERROR(VLOOKUP($A45,Army!$B$421:$Q$426,11,FALSE),\"\")","v":""},null,{"$f":"IFERROR(VLOOKUP($A45,Army!$B$421:$Q$426,12,FALSE),\"\")","v":""},null,{"$f":"IFERROR(VLOOKUP($A45,Army!$B$421:$Q$426,13,FALSE),\"\")","v":""},null,{"$f":"IF(CB45>0,7+CN42+CJ42+CL42,\"\")","v":""},{"$f":"IF(CB45>0,\"+\",\"\")","v":""},{"$f":"IF(D52=\"Shield\",\"6\",\"\")","v":""},{"$f":"IF(CA46>0,\"+\",\"\")","v":""},null,null,null,"",null,null,null,null,null,null,null,null,null,null,null,null,{"$f":"IFERROR(VLOOKUP(Henchmen!AO45,Army!$B$2:$Q$19,4,FALSE),\"\")","v":""},null,{"$f":"IFERROR(VLOOKUP($AO45,Army!$B$421:$Q$426,5,FALSE),\"\")","v":""},null,{"$f":"IFERROR(VLOOKUP($AO45,Army!$B$421:$Q$426,6,FALSE),\"\")","v":""},null,{"$f":"IFERROR(VLOOKUP($AO45,Army!$B$421:$Q$426,7,FALSE),\"\")","v":""},null,{"$f":"IFERROR(VLOOKUP($AO45,Army!$B$421:$Q$426,8,FALSE),\"\")","v":""},null,{"$f":"IFERROR(VLOOKUP($AO45,Army!$B$421:$Q$426,9,FALSE),\"\")","v":""},null,{"$f":"IFERROR(VLOOKUP($AO45,Army!$B$421:$Q$426,10,FALSE),\"\")","v":""},null,{"$f":"IFERROR(VLOOKUP($AO45,Army!$B$421:$Q$426,11,FALSE),\"\")","v":""},null,{"$f":"IFERROR(VLOOKUP($AO45,Army!$B$421:$Q$426,12,FALSE),\"\")","v":""},null,{"$f":"IFERROR(VLOOKUP($AO45,Army!$B$421:$Q$426,13,FALSE),\"\")","v":""},null,{"$f":"IF(CS45>0,7+DE42+DA42+DC42,\"\")","v":""},{"$f":"IF(CS45>0,\"+\",\"\")","v":""},{"$f":"IF(AR52=\"Shield\",\"6\",\"\")","v":""},{"$f":"IF(CR46>0,\"+\",\"\")","v":""},null,{"$f":"LEN(D51)","v":0},{"$f":"SUM(CA45,CA46,CB46)","v":0},{"$f":"IFERROR(VLOOKUP(M51,'Weapons & Equip'!$E$2:$G$23,2,FALSE),\"\")","v":""},null,{"$f":"IFERROR(VLOOKUP(Q51,'Weapons & Equip'!$E$2:$G$23,2,FALSE),\"\")","v":""},null,{"$f":"IFERROR(VLOOKUP(U51,'Weapons & Equip'!$E$2:$G$23,2,FALSE),\"\")","v":""},null,{"$f":"IFERROR(VLOOKUP(Z51,'Weapons & Equip'!$I$2:$J$26,2,FALSE),\"\")","v":""},null,{"$f":"IFERROR(VLOOKUP(AD51,'Weapons & Equip'!$I$2:$J$26,2,FALSE),\"\")","v":""},null,null,null,null,null,null,{"$f":"LEN(AR51)","v":0},{"$f":"SUM(CR45,CR46,CS46)","v":0},{"$f":"IFERROR(VLOOKUP(BA51,'Weapons & Equip'!$E$2:$G$23,2,FALSE),\"\")","v":""},null,{"$f":"IFERROR(VLOOKUP(BE51,'Weapons & Equip'!$E$2:$G$23,2,FALSE),\"\")","v":""},null,{"$f":"IFERROR(VLOOKUP(BI51,'Weapons & Equip'!$E$2:$G$23,2,FALSE),\"\")","v":""},null,{"$f":"IFERROR(VLOOKUP(BN51,'Weapons & Equip'!$I$2:$J$26,2,FALSE),\"\")","v":""},null,{"$f":"IFERROR(VLOOKUP(BR51,'Weapons & Equip'!$I$2:$J$26,2,FALSE),\"\")","v":""}]
[null,null,null,null,null,null,null,null,null,null,null,null,null,null,null,null,null,null,null,null,null,null,null,null,null,null,null,null,null,null,null,null,null,null,null,null,null,null,null,null,null,null,null,null,null,null,null,null,null,null,null,null,null,null,null,null,null,null,null,null,null,null,null,null,null,null,null,null,null,null,null,null,null,null,null,null,null,null,{"$f":"LEN(D52)","v":0},{"$f":"LEN(G52)","v":0},null,null,null,null,null,null,null,null,null,null,null,null,null,null,null,{"$f":"LEN(AR52)","v":0},{"$f":"LEN(AU52)","v":0}]
["Equip",null,null,null,null,null,null,null,null,null,null,null,null,null,null,null,null,null,null,null,null,null,null,null,null,null,null,{"$f":"IF(OR(D51=\"Heavy Armour\",D51=\"Plate Armour\",D51=\"Gromril Armour\"),\"-1\",\"\")","v":""},null,null,null,null,null,null,null,null,null,null,null,null,"Equip",null,null,null,null,null,null,null,null,null,null,null,null,null,null,null,null,null,null,null,null,null,null,null,null,null,null,{"$f":"IF(OR(AR51=\"Heavy Armour\",AR51=\"Plate Armour\",AR51=\"Gromril Armour\"),\"-1\",\"\")","v":""},null,null,null,null,null,null,null,null,null,null,null,null,"Equip Points",null,null,null,null,null,null,null,null,null,null,null,null,null,null,null,null,"Equip Points"]
[null,null,null,null,null,null,null,null,null,null,null,null,null,null,null,null,null,null,null,null,null,null,null,null,null,null,null,null,null,null,null,null,null,null,null,null,null,null,null,null,null,null,null,null,null,null,null,null,null,null,null,null,null,null,null,null,null,null,null,null,null,null,null,null,null,null,null,null,null,null,null,null,null,null,null,null,null,null,null,null,{"$f":"IFERROR(VLOOKUP(D47,'Weapons & Equip'!$R$2:$S$16,2,FALSE),\"\")","v":""},null,{"$f":"IFERROR(VLOOKUP(J47,'Weapons & Equip'!$R$2:$S$16,2,FALSE),\"\")","v":""},null,{"$f":"IFERROR(VLOOKUP(A45,Army!$B$421:$Q$426,3,FALSE),\"\")","v":""},null,null,null,null,null,null,null,null,null,null,null,null,{"$f":"IFERROR(VLOOKUP(AR47,'Weapons & Equip'!$R$2:$S$16,2,FALSE),\"\")","v":""},null,{"$f":"IFERROR(VLOOKUP(AX47,'Weapons & Equip'!$R$2:$S$16,2,FALSE),\"\")","v":""},null,{"$f":"IFERROR(VLOOKUP(AO45,Army!$B$421:$Q$426,3,FALSE),\"\")","v":""}]
["Special Abilities",null,null,null,{"$f":"IFERROR(VLOOKUP(A45,Army!$B$421:$Q$426,15,FALSE),\"\")","v":""},null,null,null,null,null,null,null,null,null,null,null,null,null,null,null,null,null,null,null,null,null,null,null,null,null,null,null,null,null,null,null,null,null,null,null,"Special Abilities",null,null,null,{"$f":"IFERROR(VLOOKUP(AO45,Army!$B$421:$Q$426,15,FALSE),\"\")","v":""}]
[]
["Armour",null,null,null,null,null,null,null,null,"Weapon",null,null,null,null,null,null,null,null,null,null,null,null,null,null,null,null,null,null,null,null,null,null,null,"pts",null,{"$f":"SUM(CC42:CH43,CC45:CL46,CC48:CH49)","v":0},null,null,null,null,"Armour",null,null,null,null,null,null,null,null,"Weapon",null,null,null,null,null,null,null,null,null,null,null,null,null,null,null,null,null,null,null,null,null,null,null,"pts",null,{"$f":"SUM(CT42:CY43,CT45:DC46,CT48:CY49)","v":0},null,null,null,null,"Armour Points",null,null,null,null,null,null,"Armour",null,null,null,null,null,null,null,null,null,"Armour Points",null,null,null,null,null,null,"Armour"]
[null,null,null,null,null,null,null,null,null,null,null,null,null,null,null,null,null,null,null,null,null,null,null,null,null,null,null,null,null,null,null,null,null,null,null,null,null,null,null,null,null,null,null,null,null,null,null,null,null,null,null,null,null,null,null,null,null,null,null,null,null,null,null,null,null,null,null,null,null,null,null,null,null,null,null,null,null,null,null,null,{"$f":"IFERROR(VLOOKUP(D61,'Weapons & Equip'!$A$2:$C$9,2,FALSE),\"\")","v":""},null,{"$f":"IFERROR(VLOOKUP(D62,'Weapons & Equip'!$E$27:$G$28,2,FALSE),\"\")","v":""},null,{"$f":"IFERROR(VLOOKUP(G62,'Weapons & Equip'!$E$30:$G$31,2,FALSE),\"\")","v":""},null,null,{"$f":"IFERROR(VLOOKUP(D61,'Weapons & Equip'!$A$2:$C$9,3,FALSE),\"0\")","v":"0"},null,{"$f":"IFERROR(VLOOKUP(D62,'Weapons & Equip'!$E$27:$G$28,3,FALSE),\"0\")","v":"0"},null,{"$f":"IFERROR(VLOOKUP(G62,'Weapons & Equip'!$E$30:$G$31,3,FALSE),\"0\")","v":"0"},null,null,null,null,null,{"$f":"IFERROR(VLOOKUP(AR61,'Weapons & Equip'!$A$2:$C$9,2,FALSE),\"\")","v":""},null,{"$f":"IFERROR(VLOOKUP(AR62,'Weapons & Equip'!$E$27:$G$28,2,FALSE),\"\")","v":""},null,{"$f":"IFERROR(VLOOKUP(AU62,'Weapons & Equip'!$E$30:$G$31,2,FALSE),\"\")","v":""},null,null,{"$f":"IFERROR(VLOOKUP(AR61,'Weapons & Equip'!$A$2:$C$9,3,FALSE),\"0\")","v":"0"},null,{"$f":"IFERROR(VLOOKUP(AR62,'Weapons & Equip'!$E$27:$G$28,3,FALSE),\"0\")","v":"0"},null,{"$f":"IFERROR(VLOOKUP(AU62,'Weapons & Equip'!$E$30:$G$31,3,FALSE),\"0\")","v":"0"}]
[]
["Type",null,null,null,null,null,null,null,null,"Ava",null,null,null,null,null,"M",null,"WS",null,"BS",null,"S",null,"T",null,"W",null,"I",null,"A",null,"Ld",null,"AS",null,"WdS",null,null,null,null,"Type",null,null,null,null,null,null,null,null,"Ava",null,null,null,null,null,"M",null,"WS",null,"BS",null,"S",null,"T",null,"W",null,"I",null,"A",null,"Ld",null,"AS",null,"WdS",null,null,null,null,"Weapon Points",null,null,null,null,null,null,null,null,null,null,null,null,null,null,null,null,"Weapon Points"]
["",null,null,null,null,null,null,null,null,null,null,null,null,{"$f":"IFERROR(VLOOKUP(Henchmen!A55,Army!$B$2:$Q$19,4,FALSE),\"\")","v":""},null,{"$f":"IFERROR(VLOOKUP($A55,Army!$B$421:$Q$426,5,FALSE),\"\")","v":""},null,{"$f":"IFERROR(VLOOKUP($A55,Army!$B$421:$Q$426,6,FALSE),\"\")","v":""},null,{"$f":"IFERROR(VLOOKUP($A55,Army!$B$421:$Q$426,7,FALSE),\"\")","v":""},null,{"$f":"IFERROR(VLOOKUP($A55,Army!$B$421:$Q$426,8,FALSE),\"\")","v":""},null,{"$f":"IFERROR(VLOOKUP($A55,Army!$B$421:$Q$426,9,FALSE),\"\")","v":""},null,{"$f":"IFERROR(VLOOKUP($A55,Army!$B$421:$Q$426,10,FALSE),\"\")","v":""},null,{"$f":"IFERROR(VLOOKUP($A55,Army!$B$421:$Q$426,11,FALSE),\"\")","v":""},null,{"$f":"IFERROR(VLOOKUP($A55,Army!$B$421:$Q$426,12,FALSE),\"\")","v":""},null,{"$f":"IFERROR(VLOOKUP($A55,Army!$B$421:$Q$426,13,FALSE),\"\")","v":""},null,{"$f":"IF(CB55>0,7+CN52+CJ52+CL52,\"\")","v":""},{"$f":"IF(CB55>0,\"+\",\"\")","v":""},{"$f":"IF(D62=\"Shield\",\"6\",\"\")","v":""},{"$f":"IF(CA56>0,\"+\",\"\")","v":""},null,null,null,"",null,null,null,null,null,null,null,null,null,null,null,null,{"$f":"IFERROR(VLOOKUP(Henchmen!AO55,Army!$B$2:$Q$19,4,FALSE),\"\")","v":""},null,{"$f":"IFERROR(VLOOKUP($AO55,Army!$B$421:$Q$426,5,FALSE),\"\")","v":""},null,{"$f":"IFERROR(VLOOKUP($AO55,Army!$B$421:$Q$426,6,FALSE),\"\")","v":""},null,{"$f":"IFERROR(VLOOKUP($AO55,Army!$B$421:$Q$426,7,FALSE),\"\")","v":""},null,{"$f":"IFERROR(VLOOKUP($AO55,Army!$B$421:$Q$426,8,FALSE),\"\")","v":""},null,{"$f":"IFERROR(VLOOKUP($AO55,Army!$B$421:$Q$426,9,FALSE),\"\")","v":""},null,{"$f":"IFERROR(VLOOKUP($AO55,Army!$B$421:$Q$426,10,FALSE),\"\")","v":""},null,{"$f":"IFERROR(VLOOKUP($AO55,Army!$B$421:$Q$426,11,FALSE),\"\")","v":""},null,{"$f":"IFERROR(VLOOKUP($AO55,Army!$B$421:$Q$426,12,FALSE),\"\")","v":""},null,{"$f":"IFERROR(VLOOKUP($AO55,Army!$B$421:$Q$426,13,FALSE),\"\")","v":""},null,{"$f":"IF(CS55>0,7+DE52+DA52+DC52,\"\")","v":""},{"$f":"IF(CS55>0,\"+\",\"\")","v":""},{"$f":"IF(AR62=\"Shield\",\"6\",\"\")","v":""},{"$f":"IF(CR56>0,\"+\",\"\")","v":""},null,{"$f":"LEN(D61)","v":0},{"$f":"SUM(CA55,CA56,CB56)","v":0},{"$f":"IFERROR(VLOOKUP(M61,'Weapons & Equip'!$E$2:$G$23,2,FALSE),\"\")","v":""},null,{"$f":"IFERROR(VLOOKUP(Q61,'Weapons & Equip'!$E$2:$G$23,2,FALSE),\"\")","v":""},null,{"$f":"IFERROR(VLOOKUP(U61,'Weapons & Equip'!$E$2:$G$23,2,FALSE),\"\")","v":""},null,{"$f":"IFERROR(VLOOKUP(Z61,'Weapons & Equip'!$I$2:$J$26,2,FALSE),\"\")","v":""},null,{"$f":"IFERROR(VLOOKUP(AD61,'Weapons & Equip'!$I$2:$J$26,2,FALSE),\"\")","v":""},null,null,null,null,null,null,{"$f":"LEN(AR61)","v":0},{"$f":"SUM(CR55,CR56,CS56)","v":0},{"$f":"IFERROR(VLOOKUP(BA61,'Weapons & Equip'!$E$2:$G$23,2,FALSE),\"\")","v":""},null,{"$f":"IFERROR(VLOOKUP(BE61,'Weapons & Equip'!$E$2:$G$23,2,FALSE),\"\")","v":""},null,{"$f":"IFERROR(VLOOKUP(BI61,'Weapons & Equip'!$E$2:$G$23,2,FALSE),\"\")","v":""},null,{"$f":"IFERROR(VLOOKUP(BN61,'Weapons & Equip'!$I$2:$J$26,2,FALSE),\"\")","v":""},null,{"$f":"IFERROR(VLOOKUP(BR61,'Weapons & Equip'!$I$2:$J$26,2,FALSE),\"\")","v":""}]
[null,null,null,null,null,null,null,null,null,null,null,null,null,null,null,null,null,null,null,null,null,null,null,null,null,null,null,null,null,null,null,null,null,null,null,null,null,null,null,null,null,null,null,null,null,null,null,null,null,null,null,null,null,null,null,null,null,null,null,null,null,null,null,null,null,null,null,null,null,null,null,null,null,null,null,null,null,null,{"$f":"LEN(D62)","v":0},{"$f":"LEN(G62)","v":0},null,null,null,null,null,null,null,null,null,null,null,null,null,null,null,{"$f":"LEN(AR62)","v":0},{"$f":"LEN(AU62)","v":0}]
["Equip",null,null,null,null,null,null,null,null,null,null,null,null,null,null,null,null,null,null,null,null,null,null,null,null,null,null,{"$f":"IF(OR(D61=\"Heavy Armour\",D61=\"Plate Armour\",D61=\"Gromril Armour\"),\"-1\",\"\")","v":""},null,null,null,null,null,null,null,null,null,null,null,null,"Equip",null,null,null,null,null,null,null,null,null,null,null,null,null,null,null,null,null,null,null,null,null,null,null,null,null,null,{"$f":"IF(OR(AR61=\"Heavy Armour\",AR61=\"Plate Armour\",AR61=\"Gromril Armour\"),\"-1\",\"\")","v":""},null,null,null,null,null,null,null,null,null,null,null,null,"Equip Points",null,null,null,null,null,null,null,null,null,null,null,null,null,null,null,null,"Equip Points"]
[null,null,null,null,null,null,null,null,null,null,null,null,null,null,null,null,null,null,null,null,null,null,null,null,null,null,null,null,null,null,null,null,null,null,null,null,null,null,null,null,null,null,null,null,null,null,null,null,null,null,null,null,null,null,null,null,null,null,null,null,null,null,null,null,null,null,null,null,null,null,null,null,null,null,null,null,null,null,null,null,{"$f":"IFERROR(VLOOKUP(D57,'Weapons & Equip'!$R$2:$S$16,2,FALSE),\"\")","v":""},null,{"$f":"IFERROR(VLOOKUP(J57,'Weapons & Equip'!$R$2:$S$16,2,FALSE),\"\")","v":""},null,{"$f":"IFERROR(VLOOKUP(A55,Army!$B$421:$Q$426,3,FALSE),\"\")","v":""},null,null,null,null,null,null,null,null,null,null,null,null,{"$f":"IFERROR(VLOOKUP(AR57,'Weapons & Equip'!$R$2:$S$16,2,FALSE),\"\")","v":""},null,{"$f":"IFERROR(VLOOKUP(AX57,'Weapons & Equip'!$R$2:$S$16,2,FALSE),\"\")","v":""},null,{"$f":"IFERROR(VLOOKUP(AO55,Army!$B$421:$Q$426,3,FALSE),\"\")","v":""}]
["Special Abilities",null,null,null,{"$f":"IFERROR(VLOOKUP(A55,Army!$B$421:$Q$426,15,FALSE),\"\")","v":""},null,null,null,null,null,null,null,null,null,null,null,null,null,null,null,null,null,null,null,null,null,null,null,null,null,null,null,null,null,null,null,null,null,null,null,"Special Abilities",null,null,null,{"$f":"IFERROR(VLOOKUP(AO55,Army!$B$421:$Q$426,15,FALSE),\"\")","v":""}]
[]
["Armour",null,null,null,null,null,null,null,null,"Weapon",null,null,null,null,null,null,null,null,null,null,null,null,null,null,null,null,null,null,null,null,null,null,null,"pts",null,{"$f":"SUM(CC52:CH53,CC55:CL56,CC58:CH59)","v":0},null,null,null,null,"Armour",null,null,null,null,null,null,null,null,"Weapon",null,null,null,null,null,null,null,null,null,null,null,null,null,null,null,null,null,null,null,null,null,null,null,"pts",null,{"$f":"SUM(CT52:CY53,CT55:DC56,CT58:CY59)","v":0}]
[]
[]
["Stash"]
[]
[]
[]
[]
[]
[]
[]
[]
[]
[]
[]
[]
[]
[]
[]
[]
["Notes"]

{"sheet":"Army","index":2,"n_rows":452,"n_cols":29,"rows_kept":452,"cut":false,"hidden":true,"merged":[[399,0,399,16],[99,0,99,16],[18,6,18,9],[18,10,18,13],[18,14,18,16],[259,0,259,16],[279,0,279,16],[299,0,299,16],[419,0,419,16],[339,0,339,16],[19,0,19,16],[39,0,39,16],[59,0,59,16],[79,0,79,16],[119,0,119,16],[139,0,139,16],[159,0,159,16],[179,0,179,16],[199,0,199,16],[319,0,319,16],[219,0,219,16],[239,0,239,16],[359,0,359,16],[379,0,379,16]]}
["Type","Name",null,"Pkt.","AVA","M","WS","BS","S","T","W","I","A","Ld","EXP","Special Rules","Skills","Armour",null,"Weapon",null,"Missle",null,"Equip",null,"Equip H",null,null,"Araby"]
["Hero","Seikh","Human",40,"0-1",4,4,4,3,3,3,4,1,8,18,"Leader 6\", Slaver","Combat, Shooting, Academic, Strength, Speed",null,null,null,null,null,null,null,null,null," ",null,"Beastmen"]
["Hero","Slave Master","Human",30,"0-2",4,4,3,3,3,3,3,1,7,8,"Slaver","Combat, Strength, Speed",null,null,null,null,null,null,null,null,null," ",null,"Bretonia"]
["Hero","Vizir","Human",30,"0-1",4,2,2,3,3,3,3,1,7,6,"Wizard (Metal & Light)","Combat (+10gc), Academic, Speed",null,null,null,null,null,null,null,null,null," ",null,"Cult of the Possessed"]
["Hero","Djinn","Daemon",45,"0-1",5,4,null,4,3,3,4,1,6,18,"Cause Fear, Unstable, Elemental, Treacherous, Swirling Attacks, Wizard (Fire or Heavens)","Combat, Academic, Strength, Speed",null,null,null,null,null,null,null,null,null," ",null,"Dark Elves"]
["Hero","Hashashin","Human",20,"0-2",4,2,2,3,3,3,3,1,5,4,"Stealth, Poisonous Attacks, Hashashin Arts, Treacherous","Combat, Shooting, Speed, Rogue",null,null,null,null,null,null,null,null,null," ",null,"Dwarfes"]
["Hero","(HS) Warlock","Human",35,"0-1",4,2,2,3,3,3,3,1,7,8,"Wizard: 3 Spells, Unschooled, Odious Amateur","Academic, Speed",null,null,null,null,null,null,null,null,null," ",null,"High Elves"]
["Hero","(HS) Halfling Cook","Halfling",20,"0-1",4,2,4,2,2,3,4,1,6,4,"Stealth, Cook","Shooting, Academic, Speed",null,null,null,null,null,null,null,null,null," ",null,"Lizardmen"]
["Hero","(HS) Elfen Ranger","Elf",40,"0-1",5,4,4,3,2,3,5,1,8,28,"Eagle Eyes, Frail but Fey, Streetwise, Dislikes Dwarfes","Combat, Shooting, Speed",null,null,null,null,null,null,null,null,null," ",null,"Mercenaries"]
["Hero","(HS) Ogre","Ogre",80,"0-1",5,3,3,5,4,3,3,1,7,20,"Cause Fear, Huge","Combat, Strength",null,null,null,null,null,null,null,null,null," ",null,"Norse"]
["Hero","(HS) Pit Fighter","Human",45,"0-1",4,4,3,4,3,3,4,1,7,14,"None","Combat, Strength, Speed",null,null,null,null,null,null,null,null,null," ",null,"Orcs and Goblins"]
["Hero","(HS) Freelancer","Human",30,"0-1",4,4,3,3,3,3,3,1,8,12,"Heirloom: Plate Armour","Combat, Shooting, Strength",null,null,null,null,null,null,null,null,null," ",null,"Pirates"]
["Henchmen","Arabyan Warrior","Human",25,"+",4,3,3,3,3,3,3,1,7,6,"Slaver","Henchmen",null,null,null,null,null,null,null,null,null," ",null,"Sisters of Sigmar"]
["Henchmen","Naffatun","Human",20,"0-3",4,2,4,3,3,3,3,1,6,4,"None","Henchmen",null,null,null,null,null,null,null,null,null," ",null,"Skaven"]
["Henchmen","Desert Nomad","Human",25,"0-3",4,3,3,3,3,3,3,1,6,6,"Stealth, Treacherous","Henchmen",null,null,null,null,null,null,null,null,null," ",null,"Tomb Kings"]
["Henchmen","Mameluke","Human",25,"0-3",4,4,3,3,3,3,3,1,8,14,"Stubborn, Heirloom: Heavy Armour","Henchmen",null,null,null,null,null,null,null,null,null," ",null,"Vampire Counts"]
["Henchmen","Jackals","Animal",35,"0-3",6,4,null,4,3,3,4,1,5,null,"Quicksilver, Animals (Cannot Climb; Cannot Hide; Flee 3D6”; Cannot use the Leader’s Ld; Cannot Capture Objectives; Fight Unarmed; No Promotion.)","Animal",null,null,null,null,null,null,null,null,null," ",null,"Warriors of Chaos"]
[null,null,null,null,null,null,null,null,null,null,null,null,null,null,null,null,null," "," "," "," "," "," "," "," "," "," ",null,"Witch Hunters"]
[null,null,null,null,null,null,null,null,null,null,null,null,null,null,null,null,null," "," "," "," "," "," "," "," "," "," ",null,"Wood Elves"]
["Araby",null,null,null,null,null,null,null,null,null,null,null,null,null,null,null,null,"Armour",null,null,"Weapon",null,"Missle",null,"Equip",null,"Equip Henchmen"]
["Hero","Seikh","Human",40,"0-1",4,4,4,3,3,3,4,1,8,18,"Leader 6\", Slaver","Combat, Shooting, Academic, Strength, Speed"," "," ",null," "," ","Naphta Bombs",10,"Wash Bar",10," "," "]
["Hero","Slave Master","Human",30,"0-2",4,4,3,3,3,3,3,1,7,8,"Slaver","Combat, Strength, Speed"," "," ",null," "," "," "," ","Oil Lamp",10," "," "]
["Hero","Vizir","Human",30,"0-1",4,2,2,3,3,3,3,1,7,6,"Wizard (Metal & Light)","Combat (+10gc), Academic, Speed"," "," ",null," "," "," "," "," "," "," "," "]
["Hero","Djinn","Daemon",45,"0-1",5,4,null,4,3,3,4,1,6,18,"Cause Fear, Unstable, Elemental, Treacherous, Swirling Attacks, Wizard (Fire or Heavens)","Combat, Academic, Strength, Speed"," "," ",null," "," "," "," "," "," "," "," "]
["Hero","Hashashin","Human",20,"0-2",4,2,2,3,3,3,3,1,5,4,"Stealth, Poisonous Attacks, Hashashin Arts, Treacherous","Combat, Shooting, Speed, Rogue"," "," ",null," "," "," "," "," "," "," "," "]
["Hero","(HS) Warlock","Human",35,"0-1",4,2,2,3,3,3,3,1,7,8,"Wizard: 3 Spells, Unschooled, Odious Amateur","Academic, Speed"," "," ",null," "," "," "," "," "," "," "," "]
["Hero","(HS) Halfling Cook","Halfling",20,"0-1",4,2,4,2,2,3,4,1,6,4,"Stealth, Cook","Shooting, Academic, Speed"," "," ",null," "," "," "," "," "," "," "," "]
["Hero","(HS) Elfen Ranger","Elf",40,"0-1",5,4,4,3,2,3,5,1,8,28,"Eagle Eyes, Frail but Fey, Streetwise, Dislikes Dwarfes","Combat, Shooting, Speed"," "," ",null," "," "," "," "," "," "," "," "]
["Hero","(HS) Ogre","Ogre",80,"0-1",5,3,3,5,4,3,3,1,7,20,"Cause Fear, Huge","Combat, Strength"," "," ",null," "," "," "," "," "," "," "," "]
["Hero","(HS) Pit Fighter","Human",45,"0-1",4,4,3,4,3,3,4,1,7,14,"None","Combat, Strength, Speed"," "," ",null," "," "," "," "," "," "," "," "]
["Hero","(HS) Freelancer","Human",30,"0-1",4,4,3,3,3,3,3,1,8,12,"Heirloom: Plate Armour","Combat, Shooting, Strength"," "," ",null," "," "," "," "," "," "," "," "]
["Henchmen","Arabyan Warrior","Human",25,"+",4,3,3,3,3,3,3,1,7,6,"Slaver","Henchmen"," "," ",null," "," "," "," "," "," "," "," "]
["Henchmen","Naffatun","Human",20,"0-3",4,2,4,3,3,3,3,1,6,4,"None","Henchmen"," "," ",null," "," "," "," "," "," "," "," "]
["Henchmen","Desert Nomad","Human",25,"0-3",4,3,3,3,3,3,3,1,6,6,"Stealth, Treacherous","Henchmen"," "," ",null," "," "," "," "," "," "," "," "]
["Henchmen","Mameluke","Human",25,"0-3",4,4,3,3,3,3,3,1,8,14,"Stubborn, Heirloom: Heavy Armour","Henchmen"," "," ",null," "," "," "," "," "," "," "," "]
["Henchmen","Jackals","Animal",35,"0-3",6,4,null,4,3,3,4,1,5,null,"Quicksilver, Animals (Cannot Climb; Cannot Hide; Flee 3D6”; Cannot use the Leader’s Ld; Cannot Capture Objectives; Fight Unarmed; No Promotion.)","Animal"," "," ",null," "," "," "," "," "," "," "," "]
[null,null,null,null,null,null,null,null,null,null,null,null,null,null,null,null,null," "," ",null," "," "," "," "," "," "," "," "]
[null,null,null,null,null,null,null,null,null,null,null,null,null,null,null,null,null," "," ",null," "," "," "," "," "," "," "," "]
[null,null,null,null,null,null,null,null,null,null,null,null,null,null,null,null,null," "," ",null," "," "," "," "," "," "," "," "]
["Beastmen",null,null,null,null,null,null,null,null,null,null,null,null,null,null,null,null,"Armour",null,null,"Weapon",null,"Missle",null,"Equip",null,"Equip Henchmen"]
["Hero","Gor Chieftain","Gor",55,"0-1",5,4,4,3,4,3,4,1,7,20,"Leader (6”), Cloven Hoofs, Primal Fury, Despoiler","Combat, Academic (+10gc), Strength, Speed, Gifts"," "," ",null," "," "," "," "," "," "," "," "]
["Hero","Gor Bruiser","Gor",40,"0-2",5,4,3,3,4,3,3,1,6,12,"Cloven Hoofs, Primal Fury","Combat, Strength, Speed, Gifts"," "," ",null," "," "," "," "," "," "," "," "]
["Hero","Gor Bray Shaman","Gor",40,"0-1",5,2,2,3,4,3,3,1,6,8,"Cloven Hoofs, Wizard (Nurgle, Tzeentch, or Slaanesh)","Combat (+10gc), Academic, Strength, Speed (+10gc), Gifts "," "," ",null," "," "," "," "," "," "," "," "]
["Hero","Ungor Shaman","Ungor",30,"0-1",5,2,2,3,3,3,3,1,6,6,"Cloven Hoofs, Wizard (Kin-Magic)","Combat (+10gc), Academic, Speed, Gifts (+10gc)"," "," ",null," "," "," "," "," "," "," "," "]
["Hero","Ungor Halfhorn","Ungor",15,"0-3",5,2,2,3,3,3,3,1,5,null,"Cloven Hoofs","Combat, Shooting, Academic (+10gc), Speed, Gifts (+10gc)"," "," ",null," "," "," "," "," "," "," "," "]
["Hero","(HS) Warlock","Human",35,"0-1",4,2,2,3,3,3,3,1,7,8,"Wizard: 3 Spells, Unschooled, Odious Amateur","Academic, Speed"," "," ",null," "," "," "," "," "," "," "," "]
["Hero","(HS) Ogre","Ogre",80,"0-1",5,3,3,5,4,3,3,1,7,20,"Cause Fear, Huge","Combat, Strength"," "," ",null," "," "," "," "," "," "," "," "]
["Henchmen","Ungor","Ungor",20,"+",5,3,3,3,3,3,3,1,5,4,"Cloven Hoofs","Henchmen"," "," ",null," "," "," "," "," "," "," "," "]
["Henchmen","Gor","Gor",35,"+",5,3,2,3,4,3,3,1,6,6,"Cloven Hoofs, Primal Fury","Henchmen"," "," ",null," "," "," "," "," "," "," "," "]
["Henchmen","Bestigor","Gor",35,"0-4",5,4,3,3,4,3,3,1,7,14,"Cloven Hoofs, Primal Fury, Despoilers, Heirloom: Heavy Armour","Henchmen"," "," ",null," "," "," "," "," "," "," "," "]
["Henchmen","Beasthounds","Animal",35,"0-3",6,4,null,4,3,3,4,1,5,null,"Primal Fury, Animals (Cannot Climb; Cannot Hide; Flee 3D6”; Cannot use the Leader’s Ld; Cannot Capture Objectives; Fight Unarmed; No Promotion.)","Animal"," "," ",null," "," "," "," "," "," "," "," "]
["Henchmen","Harpy","Animal",35,"0-2",3,4,null,3,3,3,5,1,4,null,"Animals, Fly (8”), Unruly","Animal"," "," ",null," "," "," "," "," "," "," "," "]
[null,null,null,null,null,null,null,null,null,null,null,null,null,null,null,null,null," "," ",null," "," "," "," "," "," "," "," "]
[null,null,null,null,null,null,null,null,null,null,null,null,null,null,null,null,null," "," ",null," "," "," "," "," "," "," "," "]
[null,null,null,null,null,null,null,null,null,null,null,null,null,null,null,null,null," "," ",null," "," "," "," "," "," "," "," "]
[null,null,null,null,null,null,null,null,null,null,null,null,null,null,null,null,null," "," ",null," "," "," "," "," "," "," "," "]
[null,null,null,null,null,null,null,null,null,null,null,null,null,null,null,null,null," "," ",null," "," "," "," "," "," "," "," "]
[null,null,null,null,null,null,null,null,null,null,null,null,null,null,null,null,null," "," ",null," "," "," "," "," "," "," "," "]
[null,null,null,null,null,null,null,null,null,null,null,null,null,null,null,null,null," "," ",null," "," "," "," "," "," "," "," "]
["Bretonia",null,null,null,null,null,null,null,null,null,null,null,null,null,null,null,null,"Armour",null,null,"Weapon",null,"Missle",null,"Equip",null,"Equip Henchmen"]
["Hero","Questing Knight","Human",45,"0-1",4,4,4,3,3,3,4,1,8,20,"Leader (6\"), The Lady's Blessing (4+), Virtue of Stoicism","Combat, Academic, Strength, Speed, Virtues"," "," ",null," "," ","Hunting Falcon",10," "," "," "," "]
["Hero","Knight Errant","Human",30,"0-2",4,4,3,3,3,3,2,1,7,12,"The Lady's Blessing (4+), Virtue of the Impetuous (W3)","Combat, Academic, Strength, Speed, Virtues"," "," ",null," "," "," "," "," "," "," "," "]
["Hero","Priest of Shallaya","Human",30,"0-1",4,2,2,3,3,3,3,1,8,8,"Priest (Prayers of Shallaya): 1 Prayer","Combat (+10gc), Academic, Speed"," "," ",null," "," "," "," "," "," "," "," "]
["Hero","Damsel of the Lady","Human",30,"0-1",4,2,2,3,3,3,3,1,7,8,"Wizard (Light, Heaven, Life): 1 Spell, Virtue of Purity (4+)","Combat (+10gc), Academic, Speed"," "," ",null," "," "," "," "," "," "," "," "]
["Hero","Squire","Human",15,"0-3",4,2,2,3,3,3,3,1,6,0,"The Peasant's Duty (6\")","Combat, Shooting, Academic (+10gc), Strength (+10gc), Speed"," "," ",null," "," "," "," "," "," "," "," "]
["Hero","(HS) Halfling Cook","Human",20,"0-1",4,2,4,2,2,3,4,1,6,4,"Stealth, Cook","Shooting, Academic, Speed"," "," ",null," "," "," "," "," "," "," "," "]
["Hero","(HS) Trollslayer","Dwarf",50,"0-1",3,4,3,3,4,3,2,1,9,24,"Immune to Fear & Panic, Sturdy, Slayer Vows, Deathblow (Axes), Dawi Skills, Dislikes Elves","Combat, Strength, Dawi"," "," ",null," "," "," "," "," "," "," "," "]
["Hero","(HS) Elfen Ranger","Elf",40,"0-1",5,4,4,3,2,3,5,1,8,28,"Eagle Eyes, Frail but Fey, Streetwise, Dislikes Dwarfes","Combat, Shooting, Speed"," "," ",null," "," "," "," "," "," "," "," "]
["Hero","(HS) Ogre","Ogre",80,"0-1",5,3,3,5,4,3,3,1,7,20,"Cause Fear, Huge","Combat, Strength"," "," ",null," "," "," "," "," "," "," "," "]
["Hero","(HS) Pit Fighter","Human",45,"0-1",4,4,3,4,3,3,4,1,7,14,"None","Combat, Strength, Speed"," "," ",null," "," "," "," "," "," "," "," "]
["Hero","(HS) Freelancer","Human",30,"0-1",4,4,3,3,3,3,3,1,8,12,"Heirloom: Plate Armour","Combat, Shooting, Strength"," "," ",null," "," "," "," "," "," "," "," "]
["Henchman","Men-at-Arms","Human",25,"+",4,3,3,3,3,3,3,1,7,6,"The Peasant's Duty","Henchmen"," "," ",null," "," "," "," "," "," "," "," "]
["Henchman","Bowman","Human",20,"0-6",4,2,4,3,3,3,3,1,6,4,"The Peasant's Duty, Stockades","Henchmen"," "," ",null," "," "," "," "," "," "," "," "]
["Henchman","Knight of the Realm","Human",25,"0-4",4,4,3,3,3,3,3,1,8,14,"The Lady's Blessing, Virtue of the Stoicism, Heirloom: Heavy Armour","Henchmen"," "," ",null," "," "," "," "," "," "," "," "]
["Henchman","Halflings","Human",15,"0-3",4,2,4,2,2,3,4,1,6,4,"Stealth","Henchmen"," "," ",null," "," "," "," "," "," "," "," "]
["Henchman","Warhounds","Animal",30,"0-3",6,4,null,4,3,3,4,1,5,null,"Animals","Animal"," "," ",null," "," "," "," "," "," "," "," "]
[" "," "," "," "," "," "," "," "," "," "," "," "," "," "," "," "," "," "," ",null," "," "," "," "," "," "," "," "]
[" "," "," "," "," "," "," "," "," "," "," "," "," "," "," "," "," "," "," ",null," "," "," "," "," "," "," "," "]
[" "," "," "," "," "," "," "," "," "," "," "," "," "," "," "," "," "," "," ",null," "," "," "," "," "," "," "," "]
["Chaos Dwarfs",null,null,null,null,null,null,null,null,null,null,null,null,null,null,null,null,"Armour",null,null,"Weapon",null,"Missle",null,"Equip",null,"Equip Henchmen"]
["Hero","Chaos Dwarf Tyrant","Dwarf",55,"0-1",3,5,4,3,4,3,3,1,9,24,"Leader (6”), Sturdy and Stout","Combat, Shooting, Academic, Strength"," "," ",null," "," ","Fireglaive",20," "," "," "," "]
["Hero","Chaos Dwarf Overseers","Dwarf",45,"0-2",3,5,3,3,4,3,2,1,9,20,"Sturdy and Stout, Stubborn","Combat, Shooting, Strength"," "," ",null," "," ","Death Rocket",30," "," "," "," "]
["Hero","Chaos Dwarf Sorcerer","Dwarf",50,"0-1",3,2,2,3,4,3,1,1,9,14,"Sturdy and Stout, Stony Skin (6+), Wizard (Lore of Hashut)","Combat (+10gc), Academic, Strength"," "," ",null," "," ","Erthshaker Mortar",25," "," "," "," "]
["Hero","Hobgoblin Shaman","Hobgoblin",20,"0-1",4,2,2,3,2,3,2,1,6,2,"Wizards (Shadow or Beasts), Animosity, Treacherous","Combat (+10gc), Academic, Speed"," "," ",null," "," "," "," "," "," "," "," "]
["Hero","Hobgoblin Sneaks","Hobgoblin",10,"0-3",4,2,2,3,2,3,2,1,6,null,"Animosity, Treacherous","Combat, Shooting, Speed, Rogue"," "," ",null," "," "," "," "," "," "," "," "]
["Hero","(HS) Ogre","Ogre",80,"0-1",5,3,3,5,4,3,3,1,7,20,"Cause Fear, Huge","Combat, Strength"," "," ",null," "," "," "," "," "," "," "," "]
["Henchmen","Hobgoblin Warrior","Hobgoblin",15,"+",4,3,3,3,2,3,2,1,6,0,"Animosity, Treacherous","Henchmen"," "," ",null," "," "," "," "," "," "," "," "]
["Henchmen","Hobgoblin Git","Hobgoblin",25,"0-3",4,3,3,3,2,3,2,1,5,4,"Animosity, Treacherous, Poisonous Attacks, Strength in Numbers (+1 S)","Henchmen"," "," ",null," "," "," "," "," "," "," "," "]
["Henchmen","Chaos Dwarf Warrior","Dwarf",40,"+",3,4,3,3,4,3,2,1,9,18,"Sturdy and Stout","Henchmen"," "," ",null," "," "," "," "," "," "," "," "]
["Henchmen","Chaos Dwarf Daemonsmith","Dwarf",40,"0-3",3,3,4,3,4,3,2,1,9,18,"Sturdy and Stout","Henchmen"," "," ",null," "," "," "," "," "," "," "," "]
["Henchmen","Hobhound","Animal",35,"0-3",6,4,null,4,3,3,4,1,5,null,"Strength in Numbers (+1 S), Animals (Cannot Climb; Cannot Hide; Flee 3D6”; Cannot use the Leader’s Ld; Cannot Capture Objectives; Fight Unarmed; No Promotion.)","Animal"," "," ",null," "," "," "," "," "," "," "," "]
[null,null,null,null,null,null,null,null,null,null,null,null,null,null,null,null,null," "," ",null," "," "," "," "," "," "," "," "]
[null,null,null,null,null,null,null,null,null,null,null,null,null,null,null,null,null," "," ",null," "," "," "," "," "," "," "," "]
[null,null,null,null,null,null,null,null,null,null,null,null,null,null,null,null,null," "," ",null," "," "," "," "," "," "," "," "]
[null,null,null,null,null,null,null,null,null,null,null,null,null,null,null,null,null," "," ",null," "," "," "," "," "," "," "," "]
[null,null,null,null,null,null,null,null,null,null,null,null,null,null,null,null,null," "," ",null," "," "," "," "," "," "," "," "]
[null,null,null,null,null,null,null,null,null,null,null,null,null,null,null,null,null," "," ",null," "," "," "," "," "," "," "," "]
[null,null,null,null,null,null,null,null,null,null,null,null,null,null,null,null,null," "," ",null," "," "," "," "," "," "," "," "]
[null,null,null,null,null,null,null,null,null,null,null,null,null,null,null,null,null," "," ",null," "," "," "," "," "," "," "," "]
["Cult of the Possessed",null,null,null,null,null,null,null,null,null,null,null,null,null,null,null,null,"Armour",null,null,"Weapon",null,"Missle",null,"Equip",null,"Equip Henchmen"]
["Hero","Coven Master","Human",45,"0-1",4,3,3,3,3,3,4,1,8,18,"Leader (6”), Blasphemous Pilgrimage, Wizards (Chaos Rituals)","Combat, Academic, Speed"," "," ",null,"Sacrificial Dagger",10," "," "," "," "," "," "]
["Hero","Possessed","Daemon",45,"0-2",4,3,null,4,3,3,4,2,8,14,"Cause Fear, Mutated Monstrosity, Buy Mutations (10gc)","Combat, Strength, Speed, Mutations"," "," ",null," "," "," "," "," "," "," "," "]
["Hero","Magister","Human",30,"0-1",4,2,2,3,3,3,3,1,7,6,"Blasphemous Pilgrimage, Wizard (Shadow or Chaos Rituals)","Combat (+10gc), Academic, Speed"," "," ",null," "," "," "," "," "," "," "," "]
["Hero","Ungor Shaman","Ungor",30,"0-1",5,2,2,3,3,3,3,1,6,6,"Cloven Hoofs, Wizards (Kin-Magic)","Combat (+10gc), Academic, Speed"," "," ",null," "," "," "," "," "," "," "," "]
["Hero","Initiat","Human",15,"0-3",4,2,2,3,3,3,3,1,6,null,"Blasphemous Pilgrimage","Combat, Shooting (+10gc), Academic (+10gc), Stenght (+10gc), Speed, Mutations"," "," ",null," "," "," "," "," "," "," "," "]
["Hero","(HS) Warlock","Human",35,"0-1",4,2,2,3,3,3,3,1,7,8,"Wizard: 3 Spells, Unschooled, Odious Amateur","Academic, Speed"," "," ",null," "," "," "," "," "," "," "," "]
["Hero","(HS) Ogre","Ogre",80,"0-1",5,3,3,5,4,3,3,1,7,20,"Cause Fear, Huge","Combat, Strength"," "," ",null," "," "," "," "," "," "," "," "]
["Hero","(HS) Pit Fighter","Human",45,"0-1",4,4,3,4,3,3,4,1,7,14,"None","Combat, Strength, Speed"," "," ",null," "," "," "," "," "," "," "," "]
["Henchmen","Cultist","Human",15,"+",4,2,2,3,3,3,3,1,6,null,"Beseech the Shadowlord, Blasphemous Pilgrimage","Henchmen"," "," ",null," "," "," "," "," "," "," "," "]
["Henchmen","Ungor","Ungor",20,"0-3",5,3,3,3,3,3,3,1,5,4,"Cloven Hoofs","Henchmen"," "," ",null," "," "," "," "," "," "," "," "]
["Henchmen","Gor","Gor",35,"0-3",5,3,2,3,4,3,3,1,6,6,"Cloven Hoofs, Primal Fury","Henchmen"," "," ",null," "," "," "," "," "," "," "," "]
["Henchmen","Darksoul","Human",30,"0-3",4,3,2,3,3,3,3,1,6,8,"Immune to Fear and Panic, Cannot Break, Scaly Skin (6+)","Henchmen"," "," ",null," "," "," "," "," "," "," "," "]
["Henchmen","Harpy","Animal",35,"0-2",3,4,null,3,3,3,5,1,4,null,"Animals, Fly (8”), Unruly","Animal"," "," ",null," "," "," "," "," "," "," "," "]
[null,null,null,null,null,null,null,null,null,null,null,null,null,null,null,null,null," "," ",null," "," "," "," "," "," "," "," "]
[null,null,null,null,null,null,null,null,null,null,null,null,null,null,null,null,null," "," ",null," "," "," "," "," "," "," "," "]
[null,null,null,null,null,null,null,null,null,null,null,null,null,null,null,null,null," "," ",null," "," "," "," "," "," "," "," "]
[null,null,null,null,null,null,null,null,null,null,null,null,null,null,null,null,null," "," ",null," "," "," "," "," "," "," "," "]
[null,null,null,null,null,null,null,null,null,null,null,null,null,null,null,null,null," "," ",null," "," "," "," "," "," "," "," "]
[null,null,null,null,null,null,null,null,null,null,null,null,null,null,null,null,null," "," ",null," "," "," "," "," "," "," "," "]
["Dark Elves",null,null,null,null,null,null,null,null,null,null,null,null,null,null,null,null,"Armour",null,null,"Weapon",null,"Missle",null,"Equip",null,"Equip Henchmen"]
["Hero","Dark Elf Highborn","Elf",40,"0-1",5,5,4,3,2,3,5,1,9,28,"Leader (6”), Frail but Fey, Eagle Eyes, Murderous Prowess","Combat, Shooting, Academic, Strength, Speed, Slaanesh (+10gc)","Cloak",10,-1,"Sacrificial Dagger",10," "," "," "," "," "," "]
["Hero","Fellblade","Elf",35,"0-2",5,5,4,3,2,3,5,1,8,28,"Frail but Fey, Eagle Eyes, Murderous Prowess","Combat, Strength, Speed, Slaanesh (+10gc)"," "," ",null," "," "," "," "," "," "," "," "]
["Hero","Doomfire Warlock","Daemon",50,"0-1",5,4,4,3,3,3,5,1,8,28,"Cause Fear, Wizard (Slaanesh or Fire)","Combat, Academic, Strength, Speed, Slaanesh"," "," ",null," "," "," "," "," "," "," "," "]
["Hero","Dark Elf Sorceress","Elf",35,"0-1",5,3,3,3,2,3,5,1,8,24,"Frail but Fey, Eagle Eyes, Druchii Sorcery Wizard (Dark Magic)","Combat  (+10gc), Academic, Speed, Slaanesh (+10gc)"," "," ",null," "," "," "," "," "," "," "," "]
["Hero","Raider Scout","Elf",25,"0-3",5,3,3,3,2,3,5,1,7,14,"Frail but Fey, Eagle Eyes","Combat, Shooting, Academic (+10gc), Strength (+10gc), Speed, Slaanesh (+10gc)"," "," ",null," "," "," "," "," "," "," "," "]
["Henchmen","Dark Elf Warrior","Elf",30,"+",5,4,4,3,2,3,5,1,8,24,"Frail but Fey, Eagle Eyes","Henchmen"," "," ",null," "," "," "," "," "," "," "," "]
["Henchmen","Shade","Elf",30,"0-3",5,3,4,3,2,3,5,1,8,24,"Frail but Fey, Eagle Eyes, Stealth","Henchmen"," "," ",null," "," "," "," "," "," "," "," "]
["Henchmen","Witch Elf","Elf",40,"0-3",5,4,4,3,2,3,5,1,8,28,"Frail but Fey, Eagle Eyes, Poisonous Attacks","Henchmen"," "," ",null," "," "," "," "," "," "," "," "]
["Henchmen","Executioner","Elf",35,"0-3",5,5,4,3,2,3,5,1,8,28,"Frail but Fey, Eagle Eyes, Murderous Prowess, Deathblow, Heirloom: Heavy Armour","Henchmen"," "," ",null," "," "," "," "," "," "," "," "]
["Henchmen","Cold Ones","Animal",30,"0-3",6,4,null,4,3,3,2,1,5,null,"Scaly Skin (6+), Animals (Cannot Climb; Cannot Hide; Flee 3D6”; Cannot use the Leader’s Ld; Cannot Capture Objectives; Fight Unarmed; No Promotion.)","Animal"," "," ",null," "," "," "," "," "," "," "," "]
[null,null,null,null,null,null,null,null,null,null,null,null,null,null,null,null,null," "," ",null," "," "," "," "," "," "," "," "]
[null,null,null,null,null,null,null,null,null,null,null,null,null,null,null,null,null," "," ",null," "," "," "," "," "," "," "," "]
[null,null,null,null,null,null,null,null,null,null,null,null,null,null,null,null,null," "," ",null," "," "," "," "," "," "," "," "]
[null,null,null,null,null,null,null,null,null,null,null,null,null,null,null,null,null," "," ",null," "," "," "," "," "," "," "," "]
[null,null,null,null,null,null,null,null,null,null,null,null,null,null,null,null,null," "," ",null," "," "," "," "," "," "," "," "]
[null,null,null,null,null,null,null,null,null,null,null,null,null,null,null,null,null," "," ",null," "," "," "," "," "," "," "," "]
[null,null,null,null,null,null,null,null,null,null,null,null,null,null,null,null,null," "," ",null," "," "," "," "," "," "," "," "]
[null,null,null,null,null,null,null,null,null,null,null,null,null,null,null,null,null," "," ",null," "," "," "," "," "," "," "," "]
[null,null,null,null,null,null,null,null,null,null,null,null,null,null,null,null,null," "," ",null," "," "," "," "," "," "," "," "]
["Dwarfes",null,null,null,null,null,null,null,null,null,null,null,null,null,null,null,null,"Armour",null,null,"Weapon",null,"Missle",null,"Equip",null,"Equip Henchmen"]
["Hero","Thane","Dwarf",55,"0-1",3,5,4,3,4,3,3,1,9,24,"Leader (6”), Sturdy and Stout","Combat, Shooting, Academic, Strength, Dawi"," "," ",null," "," ","Cinderblast Bombs",10,"Oath Stone",10," "," "]
["Hero","Longbeard","Dwarf",45,"0-2",3,5,3,3,4,3,2,1,9,20,"Sturdy and Stout, Stubborn","Combat, Strength, Dawi"," "," ",null," "," ","Drakegun (BS)",35," "," "," "," "]
["Hero","Rune Priest","Dwarf",55,"0-2",3,4,2,3,4,3,2,1,9,20,"Sturdy and Stout, Priests (Lore of Runes)","Shooting, Academic, Strength, Dawi"," "," ",null," "," ","Drakegun (TS)",30," "," "," "," "]
["Hero","Master Engineer","Dwarf",50,"0-2",3,3,4,3,4,3,2,1,9,20,"Sturdy and Stout, Master of Ballistics","Combat, Academic, Strength, Dawi"," "," ",null," "," ","Drakegun (DS)",25," "," "," "," "]
["Hero","Beardling","Dwarf",25,"0-3",3,2,2,3,4,3,2,1,8,6,"Sturdy and Stout","Combat, Shooting (+10gc), Academic (+10gc), Strength, Dawi"," "," ",null," "," "," "," "," "," "," "," "]
["Hero","(HS) Halfling Cook","Halfling",20,"0-1",4,2,4,2,2,3,4,1,6,4,"Stealth, Cook","Shooting, Academic, Speed"," "," ",null," "," "," "," "," "," "," "," "]
["Hero","(HS) Troll Slayer","Dwarf",50,"0-1",3,4,3,3,4,3,2,1,9,24,"Immune to Fear and Panic, Cannot Break, Sturdy, Slayer Vows, Deathblow (Axes), Dawi Skills, Dislikes Elves (+10gc)","Combat, Strength, Dawi"," "," ",null," "," "," "," "," "," "," "," "]
["Hero","(HS) Pit Fighter","Human",45,"0-1",4,4,3,4,3,3,4,1,7,14,"None","Combat, Strength, Speed"," "," ",null," "," "," "," "," "," "," "," "]
["Hero","(HS) Freelancer","Human",30,"0-1",4,4,3,3,3,3,3,1,8,12,"Heirloom: Plate Armour","Combat, Shooting, Strength"," "," ",null," "," "," "," "," "," "," "," "]
["Henchman","Clansmen","Dwarf",40,"+",3,4,3,3,4,3,2,1,9,18,"Sturdy and Stout","Henchmen"," "," ",null," "," "," "," "," "," "," "," "]
["Henchman","Troll Slayer","Dwarf",45,"0-3",3,4,3,3,4,3,2,1,9,24,"Sturdy and Stout, Immune to Fear and Panic, Unbreakable, Slayer Vows, Deathblow (Axes)","Henchmen"," "," ",null," "," "," "," "," "," "," "," "]
["Henchman","Ironbreaker","Dwarf",30,"0-3",3,5,3,3,4,3,2,1,9,20,"Sturdy and Stout, Resolute (+1 S), Heirloom: Gromril Armour","Henchmen"," "," ",null," "," "," "," "," "," "," "," "]
["Henchman","Halfling","Halfling",15,"0-3",4,2,4,2,2,3,4,1,6,4,"Stealth","Henchmen"," "," ",null," "," "," "," "," "," "," "," "]
["Henchman","Warhound","Animal",30,"0-3",6,4,null,4,3,3,4,1,5,null,"Animals (Cannot Climb; Cannot Hide; Flee 3D6”; Cannot use the Leader’s Ld; Cannot Capture Objectives; Fight Unarmed; No Promotion.)","Animal"," "," ",null," "," "," "," "," "," "," "," "]
[null,null,null,null,null,null,null,null,null,null,null,null,null,null,null,null,null," "," ",null," "," "," "," "," "," "," "," "]
[null,null,null,null,null,null,null,null,null,null,null,null,null,null,null,null,null," "," ",null," "," "," "," "," "," "," "," "]
[null,null,null,null,null,null,null,null,null,null,null,null,null,null,null,null,null,"Gromril Armour",25,-2," "," "," "," "," "," "," "," "]
[null,null,null,null,null,null,null,null,null,null,null,null,null,null,null,null,null," "," ",null," "," "," "," "," "," "," "," "]
[null,null,null,null,null,null,null,null,null,null,null,null,null,null,null,null,null," "," "," "," "," "," "," "," "," "," "," "]
["High Elves",null,null,null,null,null,null,null,null,null,null,null,null,null,null,null,null,"Armour",null,null,"Weapon",null,"Missle",null,"Equip",null,"Equip Henchmen"]
["Hero","Noble","Elf",40,"0-1",5,5,4,3,2,3,5,1,9,28,"Leader (6”), Frail but Fey, Eagle Eyes, Martial Prowess","Combat, Shooting,  Academic, Strength, Speed","Cloak",5,-1," "," "," "," "," "," "," "," "]
["Hero","Silver Helm","Elf",35,"0-2",5,5,4,3,2,3,5,1,8,28,"Frail but Fey, Eagle Eyes, Martial Prowess","Combat, Strength, Speed"," "," ",null," "," "," "," "," "," "," "," "]
["Hero","Elf Loremaster","Elf",40,"0-1",5,4,4,3,2,3,5,1,8,28,"Frail but Fey, Eagle Eyes, Warrior Wizard, Wizard (Any): 1 Spell","Combat, Academic, Strength, Speed"," "," ",null," "," "," "," "," "," "," "," "]
["Hero","Elf Mage","Elf",35,"0-1",5,3,3,3,2,3,5,1,8,24,"Frail but Fey, Eagle Eyes, Lileath's Blessing, Wizard (High Magic): 1 Spell","Combat (10gc), Academic, Speed"," "," ",null," "," "," "," "," "," "," "," "]
["Hero","Reaver Scout","Elf",25,"0-3",5,3,3,3,2,3,5,1,7,14,"Frail but Fey, Eagle Eyes","Combat, Shooting,  Academic (10gc), Strength(10gc), Speed"," "," ",null," "," "," "," "," "," "," "," "]
["Hero","(HS) Halfling Cook","Halfling",20,"0-1",4,2,4,2,2,3,4,1,6,4,"Stealth, Cook","Shooting, Academic, Speed"," "," ",null," "," "," "," "," "," "," "," "]
["Hero","(HS) Elven Ranger","Elf",40,"0-1",5,4,4,3,2,3,5,1,8,28,"Eagle Eyes, Frail but Fey, Streetwise, Dislikes Dwarfes","Combat, Shooting, Speed"," "," ",null," "," "," "," "," "," "," "," "]
["Hero","(HS) Pit Fighter","Human",45,"0-1",4,4,3,4,3,3,4,1,7,14,"None","Combat, Strength, Speed"," "," ",null," "," "," "," "," "," "," "," "]
["Hero","(HS) Freelancer","Human",30,"0-1",4,4,3,3,3,3,3,1,8,12,"Heirloom: Plate Armour","Combat, Shooting, Strength"," "," ",null," "," "," "," "," "," "," "," "]
["Henchman","Sea Guard","Elf",30,"+",5,4,4,3,2,3,5,1,8,24,"Frail but Fey, Eagle Eyes","Henchmen"," "," ",null," "," "," "," "," "," "," "," "]
["Henchman","Shadow Warrior","Elf",30,"0-3",5,3,4,3,2,3,5,1,8,24,"Frail but Fey, Eagle Eyes, Stealth","Henchmen"," "," ",null," "," "," "," "," "," "," "," "]
["Henchman","Swordmaster","Elf",40,"0-3",5,5,4,3,2,3,5,1,8,28,"Frail but Fey, Eagle Eyes, Martial Prowess, Teachings of Hoeth","Henchmen"," "," ",null," "," "," "," "," "," "," "," "]
["Henchman","White Lion","Elf",25,"0-3",5,4,4,3,2,3,5,1,8,28,"Frail but Fey, Eagle Eyes, Stubborn, Woodsmen, Heirloom: Lion Cloak + Ithilmar Armour","Henchmen"," "," ",null," "," "," "," "," "," "," "," "]
["Henchman","War Lion","Animal",45,"0-2",6,4,null,5,3,3,4,1,6,null,"Stubborn, Animals (Cannot Climb; Cannot Hide; Flee 3D6”; Cannot use the Leader’s Ld; Cannot Capture Objectives; Fight Unarmed; No Promotion.)","Animal"," "," ",null," "," "," "," "," "," "," "," "]
[null,null,null,null,null,null,null,null,null,null,null,null,null,null,null,null,null," "," ",null," "," "," "," "," "," "," "," "]
[null,null,null,null,null,null,null,null,null,null,null,null,null,null,null,null,null," "," ",null," "," "," "," "," "," "," "," "]
[null,null,null,null,null,null,null,null,null,null,null,null,null,null,null,null,null,"Ithilmar Armour",20,-2," "," "," "," "," "," "," "," "]
[null,null,null,null,null,null,null,null,null,null,null,null,null,null,null,null,null," "," ",null," "," "," "," "," "," "," "," "]
[null,null,null,null,null,null,null,null,null,null,null,null,null,null,null,null,null," "," "," "," "," "," "," "," "," "," "," "]
["Lizardmen",null,null,null,null,null,null,null,null,null,null,null,null,null,null,null,null,"Armour",null,null,"Weapon",null,"Missle",null,"Equip",null,"Equip Henchmen"]
["Hero","Saurus Oldblood","Saurus",55,"0-1",4,4,4,4,3,3,3,1,8,24,"Leader (6”), Cold-blooded, Scaly Skin (6+), Predator Attack","Combat,  Strength, Spawnings"," "," ",null," "," "," "," "," "," "," "," "]
["Hero","Saurus Totem Warrior","Saurus",45,"0-2",4,4,3,4,3,3,2,1,7,14,"Cold-blooded, Scaly Skin (6+), Predator Attack","Combat,  Strength, Spawnings"," "," ",null," "," "," "," "," "," "," "," "]
["Hero","Slann Mage Priest","Slann",40,"0-1",4,2,2,3,4,3,2,1,7,12,"Wizards (High Magic), Contemplation of Eternity, Telepathic Exchange, Cold-blooded, Floating Palanquin (+3 I)","Academic, Strength (+10gc), Spawnings"," "," ",null," "," "," "," "," "," "," "," "]
["Hero","Skink Priest","Skink",20,"0-1",5,2,2,2,2,3,4,1,6,4,"Cold-blooded, Telepathic Vassal, Scarly Skin (6+), Wizards (Heavens or Beasts)","Combat (+10gc), Academic, Speed,  Spawnings"," "," ",null," "," "," "," "," "," "," "," "]
["Hero","Skink Braves","Skink",10,"0-3",5,2,2,2,2,3,4,1,6,null,"Cold-blooded, Scarly Skin (6+)","Combat, Shooting,  Academic (+10gc), Speed,  Spawnings"," "," ",null," "," "," "," "," "," "," "," "]
["Hero","(HS) Warlock","Human",35,"0-1",4,2,2,3,3,3,3,1,7,8,"Wizard: 3 Spells, Unschooled, Odious Amateur","Academic, Speed"," "," ",null," "," "," "," "," "," "," "," "]
["Henchman","Skink Warrior","Skink",10,"+",5,2,3,2,2,3,4,1,5,null,"Cold-blooded, Scarly Skin (6+)","Henchmen"," "," ",null," "," "," "," "," "," "," "," "]
["Henchman","Saurus Warrior","Saurus",40,"+",4,3,2,4,3,3,2,1,7,6,"Cold-blooded, Scaly Skin (6+), Predator Attack","Henchmen"," "," ",null," "," "," "," "," "," "," "," "]
["Henchman","Chameleon Skink","Skink",15,"0-3",5,2,4,2,2,3,4,1,4,2,"Cold-blooded, Scarly Skin (6+), Stealth, Cannot Capture Objectives","Henchmen"," "," ",null," "," "," "," "," "," "," "," "]
["Henchman","Saurus Temple Guard","Saurus",45,"0-3",4,4,2,4,3,3,2,1,8,14,"Cold-blooded, Scaly Skin (6+), Predator Attack, Stubborn","Henchmen"," "," ",null," "," "," "," "," "," "," "," "]
["Henchmen","Cold Ones","Animal",30,"0-3",6,4,null,4,3,3,2,1,5,null,"Scaly Skin (6+), Animals (Cannot Climb; Cannot Hide; Flee 3D6”; Cannot use the Leader’s Ld; Cannot Capture Objectives; Fight Unarmed; No Promotion.)","Animal"," "," ",null," "," "," "," "," "," "," "," "]
[null,null,null,null,null,null,null,null,null,null,null,null,null,null,null,null,null," "," ",null," "," "," "," "," "," "," "," "]
[null,null,null,null,null,null,null,null,null,null,null,null,null,null,null,null,null," "," ",null," "," "," "," "," "," "," "," "]
[null,null,null,null,null,null,null,null,null,null,null,null,null,null,null,null,null," "," ",null," "," "," "," "," "," "," "," "]
[null,null,null,null,null,null,null,null,null,null,null,null,null,null,null,null,null," "," ",null," "," "," "," "," "," "," "," "]
[null,null,null,null,null,null,null,null,null,null,null,null,null,null,null,null,null," "," ",null," "," "," "," "," "," "," "," "]
[null,null,null,null,null,null,null,null,null,null,null,null,null,null,null,null,null," "," ",null," "," "," "," "," "," "," "," "]
[null,null,null,null,null,null,null,null,null,null,null,null,null,null,null,null,null," "," ",null," "," "," "," "," "," "," "," "]
[null,null,null,null,null,null,null,null,null,null,null,null,null,null,null,null,null," "," ",null," "," "," "," "," "," "," "," "]
["Mercenaries",null,null,null,null,null,null,null,null,null,null,null,null,null,null,null,null,"Armour",null,null,"Weapon",null,"Missle",null,"Equip",null,"Equip Henchmen"]
["Hero","Captain","Human",45,"0-1",4,4,4,3,3,3,4,1,8,20,"Leader (6\")","Combat, Shooting, Academic, Strength, Speed","Cloak",5,-1," "," ","Longrifle",35,"Silk Hat & Plumes",10," "," "]
["Hero","Sergeant","Human",30,"0-2",4,4,3,3,3,3,3,1,7,12,"None","Combat, Shooting, Strength, Speed"," "," ",null," "," "," "," "," "," "," "," "]
["Hero","Warrior Priest","Human",35,"0-1",4,3,2,3,3,3,3,1,8,8,"Priest: 1 Prayer","Combat, Academic, Strength"," "," ",null," "," "," "," "," "," "," "," "]
["Hero","Battle Wizard","Human",30,"0-1",4,2,2,3,3,3,3,1,7,6,"Wizard (Any): 1 Spell","Combat (+10gc), Academic, Speed"," "," ",null," "," "," "," "," "," "," "," "]
["Hero","Youngblood","Human",15,"0-3",4,2,2,3,3,3,3,1,6,0,"None","Combat, Shooting, Academic (+10gc), Strength (+10gc), Speed"," "," ",null," "," "," "," "," "," "," "," "]
["Hero","(HS) Warlock","Human",35,"0-1",4,2,2,3,3,3,3,1,7,8,"Wizard: 3 Spells, Unschooled, Odious Amateur","Academic, Speed"," "," ",null," "," "," "," "," "," "," "," "]
["Hero","(HS) Halfling Cook","Halfling",20,"0-1",4,2,4,2,2,3,4,1,6,4,"Stealth, Cook","Shooting, Academic, Speed"," "," ",null," "," "," "," "," "," "," "," "]
["Hero","(HS) Troll Slayer","Dwarf",50,"0-1",3,4,3,3,4,3,2,1,9,24,"Immune to Fear and Panic, Cannot Break, Sturdy, Slayer Vows, Deathblow (Axes), Dawi Skills, Dislikes Elves (+10gc)","Combat, Strength, Dawi"," "," ",null," "," "," "," "," "," "," "," "]
["Hero","(HS) Elven Ranger","Elf",40,"0-1",5,4,4,3,2,3,5,1,8,28,"Eagle Eyes, Frail but Fey, Streetwise, Dislikes Dwarfes","Combat, Shooting, Speed"," "," ",null," "," "," "," "," "," "," "," "]
["Hero","(HS) Ogre","Ogre",80,"0-1",5,3,3,5,4,3,3,1,7,20,"Cause Fear, Huge","Combat, Strength"," "," ",null," "," "," "," "," "," "," "," "]
["Hero","(HS) Pit Fighter","Human",45,"0-1",4,4,3,4,3,3,4,1,7,14,"None","Combat, Strength, Speed"," "," ",null," "," "," "," "," "," "," "," "]
["Hero","(HS) Freelancer","Human",30,"0-1",4,4,3,3,3,3,3,1,8,12,"Heirloom: Plate Armour","Combat, Shooting, Strength"," "," ",null," "," "," "," "," "," "," "," "]
["Henchman","Free Company","Human",25,"+",4,3,3,3,3,3,3,1,7,6,"None","Henchmen"," "," ",null," "," "," "," "," "," "," "," "]
["Henchman","Marksman","Human",20,"0-6",4,2,4,3,3,3,3,1,6,4,"None","Henchmen"," "," ",null," "," "," "," "," "," "," "," "]
["Henchman","Greatsword","Human",25,"0-4",4,4,3,3,3,3,3,1,8,14,"Stubborn, Heirloom: Heavy Armour","Henchmen"," "," ",null," "," "," "," "," "," "," "," "]
["Henchman","Halfling","Human",15,"0-3",4,2,4,2,2,3,4,1,6,4,"Stealth","Henchmen"," "," ",null," "," "," "," "," "," "," "," "]
["Henchman","Warhound","Human",30,"0-3",6,4,null,4,3,3,4,1,5,null,"Animal","Animal","Full Plate Armour",25,-3," "," "," "," "," "," "," "," "]
[null,null,null,null,null,null,null,null,null,null,null,null,null,null,null,null,null," "," ",null," "," "," "," "," "," "," "," "]
[null,null,null,null,null,null,null,null,null,null,null,null,null,null,null,null,null," "," "," "," "," "," "," "," "," "," "," "]
["Norse",null,null,null,null,null,null,null,null,null,null,null,null,null,null,null,null,"Armour",null,null,"Weapon",null,"Missle",null,"Equip",null,"Equip Henchmen"]
["Hero","Jarl","Human",40,"0-1",4,4,4,3,3,3,4,1,8,18,"Leader (6”), Counter-Charge (8”)","Combat, Shooting, Academic, Strength, Speed, Warhird","Cloak",5,-1," "," "," "," ","Runestone",5," "," "]
["Hero","Huscarl","Human",30,"0-2",4,4,3,3,3,3,3,1,7,12,"Counter-Charge (8”), Stubborn","Combat, Strength, Speed, Warhird"," "," ",null," "," "," "," "," "," "," "," "]
["Hero","Runeskryer","Human",35,"0-1",4,3,2,3,3,3,3,1,8,12,"Priest (Lore of Runes)","Combat, Academic, Strength"," "," ",null," "," "," "," "," "," "," "," "]
["Hero","Vekti","Human",30,"0-1",4,2,2,3,3,3,3,1,7,6,"Trickster Magic, Wizard (Beasts, Heavens, Shadow, or Death)","Combat (+10gc), Academic, Speed"," "," ",null," "," "," "," "," "," "," "," "]
["Hero","Norse Brave","Human",15,"0-3",4,2,2,3,3,3,3,1,6,null,"Counter-Charge (8”)","Combat, Shooting (+10gc), Academic (+10gc), Strength, Speed, Warhird  (+10gc)"," "," ",null," "," "," "," "," "," "," "," "]
["Hero","(HS) Warlock","Human",35,"0-1",4,2,2,3,3,3,3,1,7,8,"Wizard: 3 Spells, Unschooled, Odious Amateur","Academic, Speed"," "," ",null," "," "," "," "," "," "," "," "]
["Hero","(HS) Halfling Cook","Halfling",20,"0-1",4,2,4,2,2,3,4,1,6,4,"Stealth, Cook","Shooting, Academic, Speed"," "," ",null," "," "," "," "," "," "," "," "]
["Hero","(HS) Troll Slayer","Dwarf",50,"0-1",3,4,3,3,4,3,2,1,9,24,"Immune to Fear and Panic, Cannot Break, Sturdy, Slayer Vows, Deathblow (Axes), Dawi Skills, Dislikes Elves (+10gc)","Combat, Strength, Dawi"," "," ",null," "," "," "," "," "," "," "," "]
["Hero","(HS) Ogre","Ogre",80,"0-1",5,3,3,5,4,3,3,1,7,20,"Cause Fear, Huge","Combat, Strength"," "," ",null," "," "," "," "," "," "," "," "]
["Hero","(HS) Pit Fighter","Human",45,"0-1",4,4,3,4,3,3,4,1,7,14,"None","Combat, Strength, Speed"," "," ",null," "," "," "," "," "," "," "," "]
["Hero","(HS) Freelancer","Human",30,"0-1",4,4,3,3,3,3,3,1,8,12,"Heirloom: Plate Armour","Combat, Shooting, Strength"," "," ",null," "," "," "," "," "," "," "," "]
["Henchman","Norse Warrior",null,25,"+",4,3,3,3,3,3,3,1,7,6,"Counter-Charge (8”)","Henchmen"," "," ",null," "," "," "," "," "," "," "," "]
["Henchman","Norse Whaler",null,20,"0-3",4,2,4,3,3,3,3,1,6,4,"None","Henchmen"," "," ",null," "," "," "," "," "," "," "," "]
["Henchman","Norse Berserker",null,35,"0-2",4,4,3,3,3,3,3,1,7,18,"Counter-Charge (8”), Barbarian Courage, Berserk Fury (+D3”), Berserk Rage (+1 S), Cannot Capture Scenario Objectives","Henchmen"," "," ",null," "," "," "," "," "," "," "," "]
["Henchman","Norse Dwarf","Dwarf",40,"0-2",3,4,3,3,4,3,2,1,9,18,"Sturdy and Stout","Henchmen"," "," ",null," "," "," "," "," "," "," "," "]
["Henchman","Fenrir Wolf","Animal",35,"0-3",6,4,null,4,3,3,4,1,5,null,"Bloodlust, Animals (Cannot Climb; Cannot Hide; Flee 3D6”; Cannot use the Leader’s Ld; Cannot Capture Objectives; Fight Unarmed; No Promotion.)","Animal"," "," ",null," "," "," "," "," "," "," "," "]
[null,null,null,null,null,null,null,null,null,null,null,null,null,null,null,null,null," "," ",null," "," "," "," "," "," "," "," "]
[null,null,null,null,null,null,null,null,null,null,null,null,null,null,null,null,null," "," ",null," "," "," "," "," "," "," "," "]
[null,null,null,null,null,null,null,null,null,null,null,null,null,null,null,null,null," "," ",null," "," "," "," "," "," "," "," "]
["Orcs and Goblins",null,null,null,null,null,null,null,null,null,null,null,null,null,null,null,null,"Armour",null,null,"Weapon",null,"Missle",null,"Equip",null,"Equip Henchmen"]
["Hero","Orc Boss","Orc",45,"0-1",4,4,4,3,4,3,3,1,8,18,"Leader (6”), Animosity","Combat,  Strength, Speed, Waaagh!"," "," ",null," "," "," "," "," "," "," "," "]
["Hero","Orc Big 'Uns","Orc",35,"0-2",4,4,3,3,4,3,2,1,7,8,"Animosity","Combat,  Strength, Waaagh!"," "," ",null," "," "," "," "," "," "," "," "]
["Hero","Orc Shaman","Orc",40,"0-1",4,2,2,3,4,3,2,1,7,6,"Wizard (Big Waaagh!), Animosity","Combat (+10gc), Academic,   Strength, Waaagh!"," "," ",null," "," "," "," "," "," "," "," "]
["Hero","Goblin Shaman","Goblin",20,"0-1",4,2,2,3,2,3,2,1,6,2,"Wizard (Little Waaagh!), Animosity","Combat (+10gc), Academic, Speed"," "," ",null," "," "," "," "," "," "," "," "]
["Hero","Night Goblin Shaman","Goblin",20,"0-1",4,2,2,3,2,3,3,1,5,2,"Wizard (Little Waaagh!), Animosity, Hate: Dwarfs","Combat (+10gc), Academic, Speed"," "," ",null," "," "," "," "," "," "," "," "]
["Hero","Goblin Sneak","Goblin",10,"0-3",4,2,2,3,2,3,2,1,6,null,"Animosity","Combat,  Shooting, Speed, Rogue"," "," ",null," "," "," "," "," "," "," "," "]
["Hero","Night Goblin Sneak","Goblin",10,"0-3",4,2,2,3,2,3,3,1,5,null,"Animosity, Hate: Dwarfs","Combat,  Shooting, Speed, Rogue"," "," ",null," "," "," "," "," "," "," "," "]
["Hero","(HS) Ogre","Ogre",80,"0-1",5,3,3,5,4,3,3,1,7,20,"Cause Fear, Huge","Combat, Strength"," "," ",null," "," "," "," "," "," "," "," "]
["Henchman","Orc Warrior","Orc",30,"+",4,3,3,3,4,3,2,1,7,6,"Animosity","Henchmen"," "," ",null," "," "," "," "," "," "," "," "]
["Henchman","Goblin Warrior","Goblin",10,"+",4,2,3,3,2,3,2,1,6,null,"Animosity","Henchmen"," "," ",null," "," "," "," "," "," "," "," "]
["Henchman","Night Goblin Warrior","Goblin",10,"+",4,2,3,3,2,3,3,1,5,null,"Animosity, Hate: Dwarfs","Henchmen"," "," ",null," "," "," "," "," "," "," "," "]
["Henchman","Orc Shoota","Orc",30,"0-3",4,2,4,3,4,3,2,1,7,6,"Animosity","Henchmen"," "," ",null," "," "," "," "," "," "," "," "]
["Henchman","Black Orc","Orc",35,"0-3",4,4,3,3,4,3,2,1,8,14,"Stubborn, Heirloom: Heavy Armour","Henchmen"," "," ",null," "," "," "," "," "," "," "," "]
["Henchman","Warg","Animal",35,"0-3",6,4,null,4,3,3,4,1,5,null,"Killing Bite, Animals (Cannot Climb; Cannot Hide; Flee 3D6”; Cannot use the Leader’s Ld; Cannot Capture Objectives; Fight Unarmed; No Promotion.)","Animal"," "," ",null," "," "," "," "," "," "," "," "]
[null,null,null,null,null,null,null,null,null,null,null,null,null,null,null,null,null," "," ",null," "," "," "," "," "," "," "," "]
[null,null,null,null,null,null,null,null,null,null,null,null,null,null,null,null,null," "," ",null," "," "," "," "," "," "," "," "]
[null,null,null,null,null,null,null,null,null,null,null,null,null,null,null,null,null," "," ",null," "," "," "," "," "," "," "," "]
[null,null,null,null,null,null,null,null,null,null,null,null,null,null,null,null,null," "," ",null," "," "," "," "," "," "," "," "]
[null,null,null,null,null,null,null,null,null,null,null,null,null,null,null,null,null," "," ",null," "," "," "," "," "," "," "," "]
["Pirates",null,null,null,null,null,null,null,null,null,null,null,null,null,null,null,null,"Armour",null,null,"Weapon",null,"Missle",null,"Equip",null,"Equip Henchmen"]
["Hero","Captain","Human",45,"0-1",4,4,4,3,3,3,4,1,8,20,"Leader (6”), Sea Legs, Dirty Fighting","Combat, Shooting, Academic, Strength, Speed"," "," ",null,"Oriental Longsword",10,"Swievel Gun (BS)",35,"Parrot",10," "," "]
["Hero","Ship Mate","Human",30,"0-2",4,4,3,3,3,3,3,1,7,12,"Sea Legs, Dirty Fighting","Combat, Shooting, Strength, Speed"," "," ",null," "," ","Swievel Gun (CS)",30," "," "," "," "]
["Hero","Priest of Stormfelds","Human",35,"0-1",4,3,2,3,3,3,3,1,8,12,"Priest (Prayers of Stromfelds)","Combat, Academic, Strength"," "," ",null," "," ","Swievel Gun (GS)",25," "," "," "," "]
["Hero","Pirate Sorcerer","Human",30,"0-1",4,2,2,3,3,3,3,1,7,6,"Sea Legs, Wizard (Fire, Metal, Heavens, Death, or Shadow)","Combat (+10gc), Academic, Speed"," "," ",null," "," "," "," "," "," "," "," "]
["Hero","Cabin Boy","Human",15,"0-3",4,2,2,3,3,3,3,1,6,null,"Sea Legs","Combat, Shooting, Academic (+10gc), Strength (+10gc), Speed"," "," ",null," "," "," "," "," "," "," "," "]
["Hero","(HS) Warlock","Human",35,"0-1",4,2,2,3,3,3,3,1,7,8,"Wizard: 3 Spells, Unschooled, Odious Amateur","Academic, Speed"," "," ",null," "," "," "," "," "," "," "," "]
["Hero","(HS) Halfling Cook","Halfling",20,"0-1",4,2,4,2,2,3,4,1,6,4,"Stealth, Cook","Shooting, Academic, Speed"," "," ",null," "," "," "," "," "," "," "," "]
["Hero","(HS) Troll Slayer","Dwarf",50,"0-1",3,4,3,3,4,3,2,1,9,24,"Immune to Fear and Panic, Cannot Break, Sturdy, Slayer Vows, Deathblow (Axes), Dawi Skills, Dislikes Elves (+10gc)","Combat, Strength, Dawi"," "," ",null," "," "," "," "," "," "," "," "]
["Hero","(HS) Ogre","Ogre",80,"0-1",5,3,3,5,4,3,3,1,7,20,"Cause Fear, Huge","Combat, Strength"," "," ",null," "," "," "," "," "," "," "," "]
["Hero","(HS) Pit Fighter","Human",45,"0-1",4,4,3,4,3,3,4,1,7,14,"None","Combat, Strength, Speed"," "," ",null," "," "," "," "," "," "," "," "]
["Hero","(HS) Freelancer","Human",30,"0-1",4,4,3,3,3,3,3,1,8,12,"Heirloom: Plate Armour","Combat, Shooting, Strength"," "," ",null," "," "," "," "," "," "," "," "]
["Henchman","Swabbie","Human",10,"+",4,2,2,3,3,3,3,1,6,null,"Heirloom: Lantern, Treacherous","Henchmen"," "," ",null," "," "," "," "," "," "," "," "]
["Henchman","Pirate Crew","Human",25,"+",4,3,3,3,3,3,3,1,7,6,"Sea Legs","Henchmen"," "," ",null," "," "," "," "," "," "," "," "]
["Henchman","Deck Gunner","Human",20,"0-6",4,2,4,3,3,3,3,1,6,4,"Sea Legs","Henchmen"," "," ",null," "," "," "," "," "," "," "," "]
["Henchman","Wokou Raider","Human",30,"0-4",4,4,3,3,3,3,4,1,7,12,"Sea Legs","Henchmen"," "," ",null," "," "," "," "," "," "," "," "]
["Henchman","Powder Monkey","Animal",35,"0-3",4,4,null,4,3,3,4,1,5,null,"May Climb, Wall Climbers, Animals (Cannot Hide; Flee 3D6”; Cannot use the Leader’s Ld; Cannot Capture Scenario Objectives; Fight Unarmed; No Promotion.)","Animal"," "," ",null," "," "," "," "," "," "," "," "]
[null,null,null,null,null,null,null,null,null,null,null,null,null,null,null,null,null," "," ",null," "," "," "," "," "," "," "," "]
[null,null,null,null,null,null,null,null,null,null,null,null,null,null,null,null,null," "," ",null," "," "," "," "," "," "," "," "]
[null,null,null,null,null,null,null,null,null,null,null,null,null,null,null,null,null," "," ",null," "," "," "," "," "," "," "," "]
["Sisters of Sigmar",null,null,null,null,null,null,null,null,null,null,null,null,null,null,null,null,"Armour",null,null,"Weapon",null,"Missle",null,"Equip",null,"Equip Henchmen"]
["Hero","Sirgmarite Matriarch","Human",50,"0-1",4,4,4,3,3,3,4,1,8,24,"Leader (6”), Sigmarite Vows, Priest (Prayers of Sigmar)","Combat, Academic, Strength, Speed, Sigmarite"," "," ",null," "," "," "," "," "," "," "," "]
["Hero","Sister Superior","Human",30,"0-2",4,4,3,3,3,3,3,1,7,12,"Sigmarite Vows, Stubborn","Combat, Academic, Strength, Speed, Sigmarite"," "," ",null," "," "," "," "," "," "," "," "]
["Hero","Priestess of Sigmar","Human",35,"0-1",4,3,2,3,3,3,3,1,8,12,"Sigmarite Vows, Priest (Prayers of Sigmar)","Combat, Academic, Strength, Sigmarite"," "," ",null," "," "," "," "," "," "," "," "]
["Hero","Sister Librarian","Human",30,"0-1",4,2,2,3,3,3,3,1,7,6,"Sigmarite Vows, Archivist, Wizard (Fire, Light, Heavens, or Metal)","Combat (+10gc), Academic, Strength, Speed, Sigmarite (+10gc)"," "," ",null," "," "," "," "," "," "," "," "]
["Hero","Augur","Human",15,"0-3",4,2,2,3,3,3,3,1,6,2,"Blessed Sight (8”)","Combat, Academic, Speed, Sigmarite"," "," ",null," "," "," "," "," "," "," "," "]
["Hero","(HS) Halfling Cook","Halfling",20,"0-1",4,2,4,2,2,3,4,1,6,4,"Stealth, Cook","Shooting, Academic, Speed"," "," ",null," "," "," "," "," "," "," "," "]
["Hero","(HS) Troll Slayer","Dwarf",50,"0-1",3,4,3,3,4,3,2,1,9,24,"Immune to Fear and Panic, Cannot Break, Sturdy, Slayer Vows, Deathblow (Axes), Dawi Skills, Dislikes Elves (+10gc)","Combat, Strength, Dawi"," "," ",null," "," "," "," "," "," "," "," "]
["Hero","(HS) Elven Ranger","Elf",40,"0-1",5,4,4,3,2,3,5,1,8,28,"Eagle Eyes, Frail but Fey, Streetwise, Dislikes Dwarfes","Combat, Shooting, Speed"," "," ",null," "," "," "," "," "," "," "," "]
["Hero","(HS) Ogre","Ogre",80,"0-1",5,3,3,5,4,3,3,1,7,20,"Cause Fear, Huge","Combat, Strength"," "," ",null," "," "," "," "," "," "," "," "]
["Hero","(HS) Pit Fighter","Human",45,"0-1",4,4,3,4,3,3,4,1,7,14,"None","Combat, Strength, Speed"," "," ",null," "," "," "," "," "," "," "," "]
["Hero","(HS) Freelancer","Human",30,"0-1",4,4,3,3,3,3,3,1,8,12,"Heirloom: Plate Armour","Combat, Shooting, Strength"," "," ",null," "," "," "," "," "," "," "," "]
["Henchman","Novices","Human",20,"+",4,3,2,3,3,3,3,1,7,4,"Sigmarite Vows","Henchmen"," "," ",null," "," "," "," "," "," "," "," "]
["Henchman","Sister Devoted","Human",35,"0-5",4,4,3,3,3,3,3,1,8,14,"Sigmarite Vows, Indomitable Zeal","Henchmen"," "," ",null," "," "," "," "," "," "," "," "]
["Henchman","Gunnery Sister","Human",20,"0-3",4,2,4,3,3,3,3,1,6,4,"Sigmarite Vows","Henchmen"," "," ",null," "," "," "," "," "," "," "," "]
["Henchman","Halfling","Human",15,"0-3",4,2,4,2,2,3,4,1,6,4,"Stealth","Henchmen"," "," ",null," "," "," "," "," "," "," "," "]
["Henchman","Warhound","Animal",30,"0-3",6,4,null,4,3,3,4,1,5,null,"Animals (Cannot Climb; Cannot Hide; Flee 3D6”; Cannot use the Leader’s Ld; Cannot Capture Objectives; Fight Unarmed; No Promotion.)","Animal"," "," ",null," "," "," "," "," "," "," "," "]
[null,null,null,null,null,null,null,null,null,null,null,null,null,null,null,null,null," "," ",null," "," "," "," "," "," "," "," "]
[null,null,null,null,null,null,null,null,null,null,null,null,null,null,null,null,null," "," ",null," "," "," "," "," "," "," "," "]
[null,null,null,null,null,null,null,null,null,null,null,null,null,null,null,null,null," "," ",null," "," "," "," "," "," "," "," "]
["Skaven",null,null,null,null,null,null,null,null,null,null,null,null,null,null,null,null,"Armour",null,null,"Weapon",null,"Missle",null,"Equip",null,"Equip Henchmen"]
["Hero","Eshin Chieftain","Skaven",40,"0-1",5,4,4,3,3,3,4,1,7,18,"Leader (6”), Scurry Away (3D6”)","Combat, Shooting, Academic, Strength, Speed"," "," ",null,"Weeping Blades",25,"Warplock Pistol",15,"Smoke Bombs",5," "," "]
["Hero","Eshin Assassin","Skaven",45,"0-2",5,4,4,3,3,3,4,1,5,20,"Scurry Away (3D6”), Eshin Arts, Poisonous Attacks, Stealth","Combat, Shooting, Speed, Rogue"," "," ",null," "," ","2x Warplock Pistol",30," "," "," "," "]
["Hero","Grey Seer Apprentice","Skaven",30,"0-1",5,2,2,3,3,3,4,1,6,8,"Scurry Away (3D6”), Warpstone Token, Wizard (Lore of Horned Rat)","Combat (+10gc), Academic, Speed"," "," ",null," "," ","Warpmusket",30," "," "," "," "]
["Hero","Eshin Sorcerer","Skaven",30,"0-1",5,2,2,3,3,3,4,1,6,8,"Scurry Away (3D6”), Wizard (Death, Heavens, Shadow, or Beasts)","Combat (+10gc), Academic, Speed"," "," ",null," "," "," "," "," "," "," "," "]
["Hero","Night Runner","Skaven",25,"0-3",5,2,2,3,3,3,4,1,4,6,"Scurry Away (3D6”), Eshin Arts, Poisonous Attacks, Stealth","Combat, Shooting, Speed, Rogue"," "," ",null," "," "," "," "," "," "," "," "]
["Hero","(HS) Warlock","Human",35,"0-1",4,2,2,3,3,3,3,1,7,8,"Wizard: 3 Spells, Unschooled, Odious Amateur","Academic, Speed"," "," ",null," "," "," "," "," "," "," "," "]
["Henchman","Clanrat","Skaven",25,"+",5,3,3,3,3,3,4,1,5,6,"Scurry Away (3D6”)","Henchmen"," "," ",null," "," "," "," "," "," "," "," "]
["Henchman","Skavenslave","Skaven",15,"0-6",5,2,2,3,3,3,4,1,4,null,"Scurry Away (3D6”), Expendable, No Promotion, Cannot use the Leader’s Ld","Henchmen"," "," ",null," "," "," "," "," "," "," "," "]
["Henchman","Sharpshooter","Skaven",25,"0-3",5,2,4,3,3,3,4,1,5,6,"Scurry Away (3D6”)","Henchmen"," "," ",null," "," "," "," "," "," "," "," "]
["Henchman","Stormvermin","Skaven",25,"0-3",5,4,3,3,3,3,4,1,7,14,"Scurry Away (3D6”), Heirloom: Heavy Armour","Henchmen"," "," ",null," "," "," "," "," "," "," "," "]
["Henchman","Rathound","Animal",35,"0-3",6,4,null,4,3,3,4,1,5,null,"Poisonous Attacks, Animals (Cannot Climb; Cannot Hide; Flee 3D6”; Cannot use the Leader’s Ld; Cannot Capture Objectives; Fight Unarmed; No Promotion.)","Animal"," "," ",null," "," "," "," "," "," "," "," "]
["Henchman","(HS) Rat Ogre","Ogre",90,"0-1",5,3,null,5,5,3,3,2,4,null,"Monter, Cannot Break, Stupidity (6\"), Huge (2 Henchmen Slots)",null," "," ",null," "," "," "," "," "," "," "," "]
[null,null,null,null,null,null,null,null,null,null,null,null,null,null,null,null,null," "," ",null," "," "," "," "," "," "," "," "]
[null,null,null,null,null,null,null,null,null,null,null,null,null,null,null,null,null," "," ",null," "," "," "," "," "," "," "," "]
[null,null,null,null,null,null,null,null,null,null,null,null,null,null,null,null,null," "," ",null," "," "," "," "," "," "," "," "]
[null,null,null,null,null,null,null,null,null,null,null,null,null,null,null,null,null," "," ",null," "," "," "," "," "," "," "," "]
[null,null,null,null,null,null,null,null,null,null,null,null,null,null,null,null,null," "," ",null," "," "," "," "," "," "," "," "]
[null,null,null,null,null,null,null,null,null,null,null,null,null,null,null,null,null," "," ",null," "," "," "," "," "," "," "," "]
[null,null,null,null,null,null,null,null,null,null,null,null,null,null,null,null,null," "," ",null," "," "," "," "," "," "," "," "]
["Tomb Kings",null,null,null,null,null,null,null,null,null,null,null,null,null,null,null,null,"Armour",null,null,"Weapon",null,"Missle",null,"Equip",null,"Equip Henchmen"]
["Hero","Tomb Prince","Skeleton",55,"0-1",3,4,4,3,4,3,3,1,8,24,"Leader (6”), Undead, Crumble, Flammable, My Will Be Done (6”)","Combat, Academic, Strength, Scarabs"," "," ",null,"Serpent Staff",10," "," ","Asp Arrows",10,"Asp Arrows",10]
["Hero","Tomb Herald","Skeleton",40,"0-2",3,4,3,3,4,3,2,1,7,12,"Undead, Crumble, Flammable","Combat, Strength, Scarabs"," "," ",null," "," "," "," "," "," "," "," "]
["Hero","Liche Priest","Skeleton",35,"0-2",4,2,2,3,3,3,2,1,7,8,"Undead, Crumble, Scribes of Eternity, Wizard (Light or Death)","Combat (+10gc), Academic, Scarabs"," "," ",null," "," "," "," "," "," "," "," "]
["Hero","Necrotect","Skeleton",40,"0-1",4,3,2,3,3,3,2,1,7,12,"Undead, Crumble, Flammable, Warrior Wizard, Wizard (Stone Shaper Magic)","Combat (+10gc), Academic, Strength,  Scarabs"," "," ",null," "," "," "," "," "," "," "," "]
["Hero","Tomb Attendant","Skeleton",20,"0-3",4,2,2,3,3,3,2,1,6,4,"Undead, Crumble, Acolytes","Combat, Shooting (+10gc), Academic, Strength (+10gc), Scarabs"," "," ",null," "," "," "," "," "," "," "," "]
["Henchman","Skeleton Serf","Skeleton",15,"+",4,2,2,3,3,3,2,1,4,null,"Undead, Crumble, Unending Servitude (5+)","Henchmen"," "," ",null," "," "," "," "," "," "," "," "]
["Henchman","Skeleton Warrior","Skeleton",25,"+",4,3,3,3,3,3,2,1,6,6,"Undead, Crumble","Henchmen"," "," ",null," "," "," "," "," "," "," "," "]
["Henchman","Sepulchral Stalker","Skeleton",35,"0-2",5,4,null,3,3,3,2,1,5,12,"Undead, Scaly Skin (6+), Cannot Climb, Flee 3D6”","Henchmen"," "," ",null," "," "," "," "," "," "," "," "]
["Henchman","Tomb Guard","Skeleton",45,"0-3",3,4,3,3,4,3,2,1,7,14,"Undead, Crumble, Flammable, Stubborn","Henchmen"," "," ",null," "," "," "," "," "," "," "," "]
["Henchman","Carrion","Skeleton",35,"0-2",3,3,null,3,3,3,2,1,4,null,"Undead, Crumble, Fly (8”), Unruly, Animals (Cannot Climb; Cannot Hide; Cannot use the Leader’s Ld; Cannot Capture Objectives; Fight Unarmed; No Promotion.)","Animal"," "," ",null," "," "," "," "," "," "," "," "]
[null,null,null,null,null,null,null,null,null,null,null,null,null,null,null,null,null," "," ",null," "," "," "," "," "," "," "," "]
[null,null,null,null,null,null,null,null,null,null,null,null,null,null,null,null,null," "," ",null," "," "," "," "," "," "," "," "]
[null,null,null,null,null,null,null,null,null,null,null,null,null,null,null,null,null," "," ",null," "," "," "," "," "," "," "," "]
[null,null,null,null,null,null,null,null,null,null,null,null,null,null,null,null,null," "," ",null," "," "," "," "," "," "," "," "]
[null,null,null,null,null,null,null,null,null,null,null,null,null,null,null,null,null," "," ",null," "," "," "," "," "," "," "," "]
[null,null,null,null,null,null,null,null,null,null,null,null,null,null,null,null,null," "," ",null," "," "," "," "," "," "," "," "]
[null,null,null,null,null,null,null,null,null,null,null,null,null,null,null,null,null," "," ",null," "," "," "," "," "," "," "," "]
[null,null,null,null,null,null,null,null,null,null,null,null,null,null,null,null,null," "," ",null," "," "," "," "," "," "," "," "]
[null,null,null,null,null,null,null,null,null,null,null,null,null,null,null,null,null," "," ",null," "," "," "," "," "," "," "," "]
["Vampire Counts",null,null,null,null,null,null,null,null,null,null,null,null,null,null,null,null,"Armour",null,null,"Weapon",null,"Missle",null,"Equip",null,"Equip Henchmen"]
["Hero","Vampire","Vampire",75,"0-1",5,4,4,4,3,3,4,1,8,28,"Leader, Undead, Warrior Wizard, Immortal, Wizard (Dark Magic): 1 Spell","Combat, Academic, Strength, Speed, Revenant"," "," ",null," "," "," "," "," "," "," "," "]
["Hero","Wight","Skeleton",30,"0-2",4,4,3,3,3,3,2,1,7,12,"Undead, Crumble","Combat, Strength, Revenant"," "," ",null," "," "," "," "," "," "," "," "]
["Hero","Crypt Liche","Skeleton",35,"0-1",4,2,2,3,3,3,2,1,7,8,"Undead, Crumble, Wizard (Necromancy / Dark Magic): 1 Spell","Combat (+10gc), Academic, Revenant"," "," ",null," "," "," "," "," "," "," "," "]
["Hero","Necromancer","Human",30,"0-1",4,2,2,3,3,3,3,1,7,6,"Wizard (Necromancy): 1 Spell","Combat (+10gc), Academic, Speed"," "," ",null," "," "," "," "," "," "," "," "]
["Hero","Dreg","Human",15,"0-3",4,2,2,3,3,3,3,1,6,0,"None","Combat, Shooting (10gc), Academic, Strength, Speed (10gc)"," "," ",null," "," "," "," "," "," "," "," "]
["Hero","(HS) Warlock","Human",35,"0-1",4,2,2,3,3,3,3,1,7,8,"Wizard: 3 Spells, Unschooled, Odious Amateur","Academic, Speed"," "," ",null," "," "," "," "," "," "," "," "]
["Hero","(HS) Ogre","Ogre",80,"0-1",5,3,3,5,4,3,3,1,7,18,"Cause Fear, Huge","Combat, Strength"," "," ",null," "," "," "," "," "," "," "," "]
["Henchman","Skeleton Warrior","Skeleton",25,"+",4,3,3,3,3,3,2,1,6,6,"Undead, Crumble","Henchmen"," "," ",null," "," "," "," "," "," "," "," "]
["Henchman","Ghoul","Human",40,"0-4",4,2,2,3,4,3,3,1,5,6,"Cause Fear, Rending Claws, Poisonous Attack","Henchmen"," "," ",null," "," "," "," "," "," "," "," "]
["Henchman","Hexwraith","Skeleton",35,"0-2",4,4,null,3,3,3,2,1,6,8,"Undead, Crumble, Spectral, Can't Hide, Can't Capture Objectives","Henchmen"," "," ",null," "," "," "," "," "," "," "," "]
["Henchman","Zombie","Zombie",15,"+",3,1,null,3,3,3,1,1,4,0,"Undead, Crumble, Fight Unarmed, No Promotion, Unholy Vigor 6\"","Henchmen"," "," ",null," "," "," "," "," "," "," "," "]
["Henchman","Dire Wolf","Animal",35,"0-3",6,4,null,4,3,3,2,1,2,null,"Undead, Crumble, Animals","Animal"," "," ",null," "," "," "," "," "," "," "," "]
[null,null,null,null,null,null,null,null,null,null,null,null,null,null,null,null,null," "," ",null," "," "," "," "," "," "," "," "]
[null,null,null,null,null,null,null,null,null,null,null,null,null,null,null,null,null," "," ",null," "," "," "," "," "," "," "," "]
[null,null,null,null,null,null,null,null,null,null,null,null,null,null,null,null,null," "," ",null," "," "," "," "," "," "," "," "]
[null,null,null,null,null,null,null,null,null,null,null,null,null,null,null,null,null," "," ",null," "," "," "," "," "," "," "," "]
[null,null,null,null,null,null,null,null,null,null,null,null,null,null,null,null,null," "," ",null," "," "," "," "," "," "," "," "]
[null,null,null,null,null,null,null,null,null,null,null,null,null,null,null,null,null," "," ",null," "," "," "," "," "," "," "," "]
[null,null,null,null,null,null,null,null,null,null,null,null,null,null,null,null,null," "," ",null," "," "," "," "," "," "," "," "]
["Warriors of Chaos",null,null,null,null,null,null,null,null,null,null,null,null,null,null,null,null,"Armour",null,null,"Weapon",null,"Missle",null,"Equip",null,"Equip Henchmen"]
["Hero","Chaos Chosen","Human",40,"0-1",4,4,4,3,3,3,4,1,8,18,"Leader (6”), The Will of Chaos, Buy Mark (15gc)","Combat, Academic (+10gc), Strength, Speed, Gifts"," "," ",null," "," "," "," ","Chaos Familiar",10," "," "]
["Hero","Marauder Chief","Human",30,"0-2",4,4,3,3,3,3,4,1,7,12,"The Will of Chaos","Combat, Strength, Speed, Gifts"," "," ",null," "," "," "," "," "," "," "," "]
["Hero","Sorcerer of Chaos","Human",30,"0-1",4,2,2,3,3,3,3,1,7,6,"The Will of Chaos, Buy Mark (15gc), Wizard (Tzeentch, Nurgle, or Slaanesh)","Combat (+10gc), Academic, Speed, Gifts"," "," ",null," "," "," "," "," "," "," "," "]
["Hero","Ungor Shaman","Ungor",30,"0-1",4,2,2,3,3,3,3,1,7,6,"Cloven Hoofs, Wizard (Kin-Magic)","Combat (+10gc), Academic, Speed, Gifts (+10gc)"," "," ",null," "," "," "," "," "," "," "," "]
["Hero","Marauder Brave","Human",15,"0-3",4,2,2,3,3,3,3,1,6,null,"The Will of Chaos","Combat, Shooting (+10gc), Academic (+10gc), Strength, Speed, Gifts (+10gc)"," "," ",null," "," "," "," "," "," "," "," "]
["Hero","(HS) Warlock","Human",35,"0-1",4,2,2,3,3,3,3,1,7,8,"Wizard: 3 Spells, Unschooled, Odious Amateur","Academic, Speed"," "," ",null," "," "," "," "," "," "," "," "]
["Hero","(HS) Ogre","Ogre",80,"0-1",5,3,3,5,4,3,3,1,7,18,"Cause Fear, Huge","Combat, Strength"," "," ",null," "," "," "," "," "," "," "," "]
["Hero","(HS) Pit Fighter","Human",45,"0-1",4,4,3,4,3,3,4,1,7,14,"None","Combat, Strength, Speed"," "," ",null," "," "," "," "," "," "," "," "]
["Henchman","Marauder Warrior","Human",25,"+",4,3,3,3,3,3,3,1,7,6,"The Will of Chaos","Henchmen"," "," ",null," "," "," "," "," "," "," "," "]
["Henchman","Ungor","Ungor",20,"+",5,3,3,3,3,3,3,1,5,4,"Cloven Hoofs","Henchmen"," "," ",null," "," "," "," "," "," "," "," "]
["Henchman","Gor","Gor",35,"0-3",5,3,2,3,4,3,3,1,6,6,"Cloven Hoofs, Primal Fury","Henchmen"," "," ",null," "," "," "," "," "," "," "," "]
["Henchman","Chaos Warrior","Human",15,"0-3",4,4,3,3,3,3,4,1,8,14,"The Will of Chaos, Heirloom: Chaos Armour, Buy Marks (15gc)","Henchmen"," "," ",null," "," "," "," "," "," "," "," "]
["Henchman","Chaos Hound","Animal",30,"0-3",6,4,null,4,3,3,4,1,5,null,"The Will of Chaos, Animals (Cannot Climb; Cannot Hide; Flee 3D6”; Cannot use the Leader’s Ld; Cannot Capture Objectives; Fight Unarmed; No Promotion.)","Animal"," "," ",null," "," "," "," "," "," "," "," "]
[null,null,null,null,null,null,null,null,null,null,null,null,null,null,null,null,null," "," ",null," "," "," "," "," "," "," "," "]
[null,null,null,null,null,null,null,null,null,null,null,null,null,null,null,null,null," "," ",null," "," "," "," "," "," "," "," "]
[null,null,null,null,null,null,null,null,null,null,null,null,null,null,null,null,null," "," ",null," "," "," "," "," "," "," "," "]
[null,null,null,null,null,null,null,null,null,null,null,null,null,null,null,null,null,"Chaos Armour",30,-3," "," "," "," "," "," "," "," "]
[null,null,null,null,null,null,null,null,null,null,null,null,null,null,null,null,null," "," ",null," "," "," "," "," "," "," "," "]
[null,null,null,null,null,null,null,null,null,null,null,null,null,null,null,null,null," "," "," "," "," "," "," "," "," "," "," "]
["Witch Hunters",null,null,null,null,null,null,null,null,null,null,null,null,null,null,null,null,"Armour",null,null,"Weapon",null,"Missle",null,"Equip",null,"Equip Henchmen"]
["Hero","Inquisitor","Human",40,"0-1",4,4,4,3,3,3,4,1,8,18,"Leader (6”), Hooded Hunter, Hates Wizards","Combat, Shooting, Academic, Strength, Speed, Sigmarite"," "," ",null," "," "," "," "," "," "," "," "]
["Hero","Witch Hunter","Human",25,"0-2",4,3,3,3,3,3,3,1,7,6,"Hooded Hunters, Hate Wizards","Combat, Shooting, Academic, Speed, Sigmarite"," "," ",null," "," "," "," "," "," "," "," "]
["Hero","Priest of Sigmar","Human",35,"0-1",4,3,2,3,3,3,3,1,8,12,"Priest (Prayers of Sigmar), Sigmarite Vows","Combat, Academic, Strength, Sigmarite"," "," ",null," "," "," "," "," "," "," "," "]
["Hero","Raven Knight of Morr","Human",35,"0-1",4,3,2,3,3,3,3,1,8,12,"Priest (Prayers of Morr)","Combat, Academic, Strength"," "," ",null," "," "," "," "," "," "," "," "]
["Hero","Sigilist","Human",15,"0-3",4,2,2,3,3,3,3,1,6,2,"Relics and Seals (8”)","Combat, Academic, Strength (+10gc), Speed, Sigmarite"," "," ",null," "," "," "," "," "," "," "," "]
["Hero","(HS) Halfling Cook","Halfling",20,"0-1",4,2,4,2,2,3,4,1,6,4,"Stealth, Cook","Shooting, Academic, Speed"," "," ",null," "," "," "," "," "," "," "," "]
["Hero","(HS) Troll Slayer","Dwarf",50,"0-1",3,4,3,3,4,3,2,1,9,24,"Immune to Fear and Panic, Cannot Break, Sturdy, Slayer Vows, Deathblow (Axes), Dawi Skills, Dislikes Elves (+10gc)","Combat, Strength, Dawi"," "," ",null," "," "," "," "," "," "," "," "]
["Hero","(HS) Elven Ranger","Elf",40,"0-1",5,4,4,3,2,3,5,1,8,28,"Eagle Eyes, Frail but Fey, Streetwise, Dislikes Dwarfes","Combat, Shooting, Speed"," "," ",null," "," "," "," "," "," "," "," "]
["Hero","(HS) Ogre","Ogre",80,"0-1",5,3,3,5,4,3,3,1,7,18,"Cause Fear, Huge","Combat, Strength"," "," ",null," "," "," "," "," "," "," "," "]
["Hero","(HS) Pit Fighter","Human",45,"0-1",4,4,3,4,3,3,4,1,7,14,"None","Combat, Strength, Speed"," "," ",null," "," "," "," "," "," "," "," "]
["Hero","(HS) Freelancer","Human",30,"0-1",4,4,3,3,3,3,3,1,8,12,"Heirloom: Plate Armour","Combat, Shooting, Strength"," "," ",null," "," "," "," "," "," "," "," "]
["Henchman","Zealot","Human",20,"+",4,3,2,3,3,3,3,1,7,4,"Hate Wizards","Henchmen"," "," ",null," "," "," "," "," "," "," "," "]
["Henchman","Flagellant","Human",30,"0-5",4,3,2,3,3,3,3,1,6,8,"Sigmarite Vows, Immune to Fear and Panic, Devastating Charge (+1 A), Unbreakable","Henchmen"," "," ",null," "," "," "," "," "," "," "," "]
["Henchman","Cloaked Informant","Human",30,"0-3",4,3,4,3,3,3,4,1,6,12,"Hooded Hunters, Stealth","Henchmen"," "," ",null," "," "," "," "," "," "," "," "]
["Henchman","Halfling","Halfling",15,"0-3",4,2,4,2,2,3,4,1,6,4,"Stealth","Henchmen"," "," ",null," "," "," "," "," "," "," "," "]
["Henchman","Warhound","Animal",30,"0-5",6,4,null,4,3,3,4,1,5,null,"Animals (Cannot Climb; Cannot Hide; Flee 3D6”; Cannot use the Leader’s Ld; Cannot Capture Objectives; Fight Unarmed; No Promotion.)","Animal"," "," ",null," "," "," "," "," "," "," "," "]
[null,null,null,null,null,null,null,null,null,null,null,null,null,null,null,null,null," "," ",null," "," "," "," "," "," "," "," "]
[null,null,null,null,null,null,null,null,null,null,null,null,null,null,null,null,null," "," ",null," "," "," "," "," "," "," "," "]
[null,null,null,null,null,null,null,null,null,null,null,null,null,null,null,null,null," "," ",null," "," "," "," "," "," "," "," "]
["Wood Elves",null,null,null,null,null,null,null,null,null,null,null,null,null,null,null,null,"Armour",null,null,"Weapon",null,"Missle",null,"Equip",null,"Equip Henchmen"]
["Hero","Wood Elf Highborn","Elf",40,"0-1",5,5,4,3,2,3,5,1,9,28,"Leader (6”), Frail but Fey, Eagle Eyes, Hawkeye","Combat, Shooting, Academic, Strength, Speed"," "," ",null,"Spear-Staff",10," "," ","Talismanic Tattoos",15," "," "]
["Hero","Eternal Guard","Elf",35,"0-2",5,5,4,3,2,3,5,1,8,28,"Frail but Fey, Eagle Eyes, Immune to Fear and Panic, Stubborn","Combat, Strength, Speed"," "," ",null," "," "," "," "," "," "," "," "]
["Hero","Branchwraith","Dryad",50,"0-1",5,3,null,3,3,3,4,1,7,18,"Wizard (Beasts or Life), Forest Spirit, Branches and Twigs, Flammable, Buy Aspects (10gc)","Combat, Academic, Speed"," "," ",null," "," "," "," "," "," "," "," "]
["Hero","Spellsinger","Elf",35,"0-1",5,3,3,3,2,3,5,1,8,24,"Frail but Fey, Eagle Eyes, Tree Singing (3”, +D3), Wizard (High Magic)","Combat (+10gc), Academic, Speed"," "," ",null," "," "," "," "," "," "," "," "]
["Hero","Glade Scout","Elf",25,"0-3",5,3,3,3,2,3,5,1,7,14,"Frail but Fey, Eagle Eyes","Combat, Shooting, Academic (+10gc), Strength (+10gc), Speed"," "," ",null," "," "," "," "," "," "," "," "]
["Hero","(HS) Halfling Cook","Halfling",20,"0-1",4,2,4,2,2,3,4,1,6,4,"Stealth, Cook","Shooting, Academic, Speed"," "," ",null," "," "," "," "," "," "," "," "]
["Hero","(HS) Elven Ranger","Elf",40,"0-1",5,4,4,3,2,3,5,1,8,28,"Eagle Eyes, Frail but Fey, Streetwise, Dislikes Dwarfes","Combat, Shooting, Speed"," "," ",null," "," "," "," "," "," "," "," "]
["Hero","(HS) Freelancer","Human",30,"0-1",4,4,3,3,3,3,3,1,8,12,"Heirloom: Plate Armour","Combat, Shooting, Strength"," "," ",null," "," "," "," "," "," "," "," "]
["Henchman","Wood Elf Warrior","Elf",30,"+",5,4,4,3,2,3,5,1,8,24,"Frail but Fey, Eagle Eyes","Henchmen"," "," ",null," "," "," "," "," "," "," "," "]
["Henchman","Waywatcher","Elf",35,"0-3",5,3,4,3,2,3,5,1,8,28,"Frail but Fey, Eagle Eyes, Stealth, Hawkeyes","Henchmen"," "," ",null," "," "," "," "," "," "," "," "]
["Henchman","Wardancer","Elf",35,"0-3",5,4,4,3,2,3,5,1,8,28,"Frail but Fey, Eagle Eyes, Shadow Dances","Henchmen"," "," ",null," "," "," "," "," "," "," "," "]
["Henchman","Dryad","Dryad",40,"0-3",5,3,null,3,3,3,4,1,7,12,"Forest Spirits, Flammable, Branches and Twigs, Buy Aspects (10gc)","Henchmen"," "," ",null," "," "," "," "," "," "," "," "]
["Henchman","Warhawk","Animal",35,"0-2",3,4,null,3,3,3,4,1,4,null,"Fly (8”), Unruly, Armour Piercing (1)\nAnimals (Cannot Climb; Cannot Hide; Flee 3D6”; Cannot use the Leader’s Ld; Cannot Capture Objectives; Fight Unarmed; No Promotion.)","Animal"," "," ",null," "," "," "," "," "," "," "," "]
[null,null,null,null,null,null,null,null,null,null,null,null,null,null,null,null,null," "," ",null," "," "," "," "," "," "," "," "]
[null,null,null,null,null,null,null,null,null,null,null,null,null,null,null,null,null," "," ",null," "," "," "," "," "," "," "," "]
[null,null,null,null,null,null,null,null,null,null,null,null,null,null,null,null,null," "," ",null," "," "," "," "," "," "," "," "]
[null,null,null,null,null,null,null,null,null,null,null,null,null,null,null,null,null," "," ",null," "," "," "," "," "," "," "," "]
[null,null,null,null,null,null,null,null,null,null,null,null,null,null,null,null,null," "," ",null," "," "," "," "," "," "," "," "]
[null,null,null,null,null,null,null,null,null,null,null,null,null,null,null,null,null," "," ",null," "," "," "," "," "," "," "," "]
["Henchmen",null,null,null,null,null,null,null,null,null,null,null,null,null,null,null,null,"Armour",null,null,"Weapon",null,"Missle",null,"Equip",null,"Equip Henchmen"]
["Henchmen","Arabyan Warrior","Human",25,"+",4,3,3,3,3,3,3,1,7,6,"Slaver","Henchmen",null," "," "," "," "," "," "," "," "," "]
["Henchmen","Naffatun","Human",20,"0-3",4,2,4,3,3,3,3,1,6,4,"None","Henchmen",null," "," "," "," "," "," "," "," "," "]
["Henchmen","Desert Nomad","Human",25,"0-3",4,3,3,3,3,3,3,1,6,6,"Stealth, Treacherous","Henchmen",null," "," "," "," "," "," "," "," "," "]
["Henchmen","Mameluke","Human",25,"0-3",4,4,3,3,3,3,3,1,8,14,"Stubborn, Heirloom: Heavy Armour","Henchmen",null," "," "," "," "," "," "," "," "," "]
["Henchmen","Jackals","Animal",35,"0-3",6,4,null,4,3,3,4,1,5,null,"Quicksilver, Animals (Cannot Climb; Cannot Hide; Flee 3D6”; Cannot use the Leader’s Ld; Cannot Capture Objectives; Fight Unarmed; No Promotion.)","Animal",null," "," "," "," "," "," "," "," "," "]
[null,null,null,null,null,null,null,null,null,null,null,null,null,null,null,null,null,null," "," "," "," "," "," "," "," "," "]
[{"$error":"#N/A"},{"$error":"#N/A"},{"$error":"#N/A"},{"$error":"#N/A"},{"$error":"#N/A"},{"$error":"#N/A"},{"$error":"#N/A"},{"$error":"#N/A"},{"$error":"#N/A"},{"$error":"#N/A"},{"$error":"#N/A"},{"$error":"#N/A"},{"$error":"#N/A"},{"$error":"#N/A"},{"$error":"#N/A"},{"$error":"#N/A"},{"$error":"#N/A"},null," "," "," "," "," "," "," "," "," "]
[{"$error":"#N/A"},{"$error":"#N/A"},{"$error":"#N/A"},{"$error":"#N/A"},{"$error":"#N/A"},{"$error":"#N/A"},{"$error":"#N/A"},{"$error":"#N/A"},{"$error":"#N/A"},{"$error":"#N/A"},{"$error":"#N/A"},{"$error":"#N/A"},{"$error":"#N/A"},{"$error":"#N/A"},{"$error":"#N/A"},{"$error":"#N/A"},{"$error":"#N/A"},null," "," "," "," "," "," "," "," "," "]
[{"$error":"#N/A"},{"$error":"#N/A"},{"$error":"#N/A"},{"$error":"#N/A"},{"$error":"#N/A"},{"$error":"#N/A"},{"$error":"#N/A"},{"$error":"#N/A"},{"$error":"#N/A"},{"$error":"#N/A"},{"$error":"#N/A"},{"$error":"#N/A"},{"$error":"#N/A"},{"$error":"#N/A"},{"$error":"#N/A"},{"$error":"#N/A"},{"$error":"#N/A"},null," "," "," "," "," "," "," "," "," "]
[{"$error":"#N/A"},{"$error":"#N/A"},{"$error":"#N/A"},{"$error":"#N/A"},{"$error":"#N/A"},{"$error":"#N/A"},{"$error":"#N/A"},{"$error":"#N/A"},{"$error":"#N/A"},{"$error":"#N/A"},{"$error":"#N/A"},{"$error":"#N/A"},{"$error":"#N/A"},{"$error":"#N/A"},{"$error":"#N/A"},{"$error":"#N/A"},{"$error":"#N/A"},null," "," "," "," "," "," "," "," "," "]
[null,null,null,null,null,null,null,null,null,null,null,null,null,null,null,null,null,null," "," "," "," "," "," "," "," "," "]
[null,null,null,null,null,null,null,null,null,null,null,null,null,null,null,null,null,null," "," "," "," "," "," "," "," "," "]
[null,null,null,null,null,null,null,null,null,null,null,null,null,null,null,null,null,null," "," "," "," "," "," "," "," "," "]
[null,null,null,null,null,null,null,null,null,null,null,null,null,null,null,null,null,null," "," "," "," "," "," "," "," "," "]
[null,null,null,null,null,null,null,null,null,null,null,null,null,null,null,null,null," "," "," "," "," "," "," "," "," "," "]
[null,null,null,null,null,null,null,null,null,null,null,null,null,null,null,null,null," "," "," "," "," "," "," "," "," "," "]
[null,null,null,null,null,null,null,null,null,null,null,null,null,null,null,null,null," "," "," "," "," "," "," "," "," "," "]
[null,null,null,null,null,null,null,null,null,null,null,null,null,null,null,null,null," "," "," "," "," "," "," "," "," "," "]
[null,null,null,null,null,null,null,null,null,null,null,null,null,null,null,null,null," "," "," "," "," "," "," "," "," "," "]
[null,null,null,null,null,null,null,null,null,null,null,null,null,null,null,null,null," "," "," "," "," "," "," "," "," "," "]
[null,null,null,null,null,null,null,null,null,null,null,null,null,null,null,null,null," "," "," "," "," "," "," "," "," "," "]
[null,null,null,null,null,null,null,null,null,null,null,null,null,null,null,null,null," "," "," "," "," "," "," "," "," "," "]
[null,null,null,null,null,null,null,null,null,null,null,null,null,null,null,null,null," "," "," "," "," "," "," "," "," "," "]
[null,null,null,null,null,null,null,null,null,null,null,null,null,null,null,null,null," "," "," "," "," "," "," "," "," "," "]
[null,null,null,null,null,null,null,null,null,null,null,null,null,null,null,null,null," "," "," "," "," "," "," "," "," "," "]
[null,null,null,null,null,null,null,null,null,null,null,null,null,null,null,null,null," "," "," "," "," "," "," "," "," "," "]
[null,null,null,null,null,null,null,null,null,null,null,null,null,null,null,null,null," "," "," "," "," "," "," "," "," "," "]
[null,null,null,null,null,null,null,null,null,null,null,null,null,null,null,null,null," "," "," "," "," "," "," "," "," "," "]
[null,null,null,null,null,null,null,null,null,null,null,null,null,null,null,null,null," "," "," "," "," "," "," "," "," "," "]
[null,null,null,null,null,null,null,null,null,null,null,null,null,null,null,null,null," "," "," "," "," "," "," "," "," "," "]
[null,null,null,null,null,null,null,null,null,null,null,null,null,null,null,null,null," "," "," "," "," "," "," "," "," "," "]
[null,null,null,null,null,null,null,null,null,null,null,null,null,null,null,null,null," "," "," "," "," "," "," "," "," "," "]

{"sheet":"Weapons & Equip","index":3,"n_rows":32,"n_cols":19,"rows_kept":32,"cut":false,"hidden":true,"merged":[]}
["Armour","pts",null,null,"### Melee Weapons ###",null,null,null,"### Missle Weapons ###",null,null,"### Blackpowder Weapons ###",null,null,"### Special Equipment ###",null,null,"### Special Equipment ###"]
["Light Armour",5,-1,null,"Axe",5,null,null,"Nets",5,null,null,null,null,"Aiming Scope",15,null,"Aiming Scope",15]
["Heavy Armour",15,-2,null,"Hammer",5,null,null,"Throwing Axe",10,null,null,null,null,"Crimson Shade",5,null,"Dark Venom",5]
[" "," ",null,null,"Sword",5,1,null,"Throwing Stars",10,null,null,null,null,"Dark Venom",5,null,"Heavy Rounds",10]
[" "," ",null,null,null,null,null,null,"Crossbow Pistol",10,null,null,null,null,"Heavy Rounds",10,null,"Hunting Arrows",10]
[" "," ",null,null,"2x Axe",10,null,null,"Javelins",10,null,null,null,null,"Holy Tome",10,null,"Lantern",5]
["Full Plate Armour",25,-3,null,"2x Hammer",10,null,null,"Blowpipe",10,null,null,null,null,"Hunting Arrows",10,null,"Rope & Hook",5]
[null,null,null,null,"2x Sword",10,1,null,"Sling",5,null,null,null,null,"Lantern",5,null,"Sling Bullets",5]
[null,null,null,null,"Fighting Claws",10,null,null,"Short Bow",5,null,null,null,null,"Lucky Charm",10,null,"Tears of Shallaya",5]
[null,null,null,null,null,null,null,null,"Bow",5,null,null,null,null,"Madcap Mushroom",5]
[null,null,null,null,"Spear",5,null,null,"Light Crossbow",10,null,null,null,null,"Mandrake Root",5]
[null,null,null,null,"Morning Star",10,null,null,"Long Bow",10,null,null,null,null,"Power Scroll",5]
[null,null,null,null,"Combat Whip",5,null,null,"Crossbow",20,null,null,null,null,"Rope & Hook",5]
[null,null,null,null,null,null,null,null,null,null,null,null,null,null,"Sling Bullets",5]
[null,null,null,null,"Great Axe",10,-2,null,"Pistol",10,null,null,null,null,"Spellbook",20]
[null,null,null,null,"Great Hammer",10,-2,null,"2x Pistol",20,null,null,null,null,"Tears of Shallaya",5]
[null,null,null,null,"Great Sword",10,-1,null,"Duelling Pistol",15]
[null,null,null,null,"Flail",10,null,null,"2x Duelling Pistol",30]
[null,null,null,null,"Halberd",10,null,null,"Blunderbuss",15,null,null,null,null,"Wash Bar",10]
[null,null,null,null,null,null,null,null,"Handgun",25,null,null,null,null,"Oil Lamp",10]
[null,null,null,null," "," ",null,null,"MC Handgun",35,null,null,null,null," "," "]
[null,null,null,null," "," "]
[null,null,null,null," "," ",null,null,"Naphta Bombs",10]
[null,null,null,null,null,null,null,null," "," "]
[null,null,null,null,null,null,null,null," "," "]
[null,null,null,null,"Shield",null,null,null," "," "]
[null,null,null,null,"Shield",5,-1]
["Light Armour",5,-1]
["Heavy Armour",15,-2,null,"Shield & Cloak"]
[null,null,null,null,"Skin",null,-1]
[null,null,null,null," "," "]
[null,null,null,null," "," "]

{"sheet":"Changelog","index":4,"n_rows":46,"n_cols":20,"rows_kept":46,"cut":false,"hidden":false,"merged":[[1,10,1,18],[5,19,5,25],[3,0,3,31]]}
["This Warband Generator is fan-made and may contain mistakes or may not be up to date."]
["Always use the official rules at:",null,null,null,null,null,null,null,null,null,"http://www.wyrdwars.com/"]
["Get the newest Version from the Website, or most up to date Version out of my Dropbox."]
["ARMY ROSTER"]
[]
["If you find any mistakes or miss a feature, just write me an e-mail: ",null,null,null,null,null,null,null,null,null,null,null,null,null,null,null,null,null,null,"Abhorasch@yahoo.de"]
["or write me a message in the Wyrdwars forum - Nickname: Abhorasch"]
[]
["ArmySheet v0.8.6"]
["updated Norse to v.1.7 - Norse Dwarves -5gc cost"]
["updated Beastmen to v.1.5 - Ungor Shamans can only use Kin-magic"]
["updated Cult of the Possessed to v.1.5 - Ungor Shaman cannot use Lore of Beasts - Mutant hero type: name changed to Initiate"]
["updated Vampire Counts to v.1.7 - Necromancer can only use necromancy"]
["updated Witch Hunters to v.1.7 - Sigilists 0-3"]
[]
["ArmySheet v0.8.5"]
["updated Lizardmen to v.1.5"]
["updated High Elves to v.1.5"]
["fixed some Heroes & Henchmen not displaying Heirloom correctly"]
[]
["ArmySheet v0.8.4a"]
["fixed cost of Mark of Chaos from 10gc to 15 gc"]
[]
["ArmySheet v0.8.4"]
["now displays the option to equip a cloak if availiable to the warband (slot next to shields)"]
["Army exclusive Armour is now only available to that Warband"]
["updated Hired Swords to v.1.7.2."]
["updated Araby to v.1.4."]
["Changed Equipment Slots of Henchmen (Now 3 Meele-Slots & 2 Missle/Blackpowder-Slots)"]
[]
["ArmySheet v0.8.3"]
["fixed last 3 Hero Slots not displaying AVA"]
["added a text field on every Hero-slot"]
["added a field to add extra gc cost on every Hero-slot"]
["fixed AS of Gromril Armour (from 4+ to 5+)"]
[]
["ArmySheet v0.8.2"]
["Night Goblins can now be choosen"]
["Changed Equipment Slots of Heroes (Now 3 Meele-Slots & 2 Missle/Blackpowder-Slots)"]
["changed Rat Ogre (will now be avaible on the Henchmen sheet)"]
["the startingexperience of Heroes will now be displayed (the exp slots will be black)"]
[]
["ArmySheet v0.8.1"]
["heirloom will be displayed correctly"]
["added \"clear\" Button to erase the hero-slot completely"]
["erasing the unit-type will also erase all equipment/weapon/armour of that unit"]